BEGIN:VCALENDAR
VERSION:2.0
PRODID:icalendar-ruby
CALSCALE:GREGORIAN
BEGIN:VTIMEZONE
TZID:America/New_York
BEGIN:DAYLIGHT
DTSTART:20260308T030000
TZOFFSETFROM:-0500
TZOFFSETTO:-0400
RRULE:FREQ=YEARLY;BYDAY=2SU;BYMONTH=3
TZNAME:EDT
END:DAYLIGHT
BEGIN:STANDARD
DTSTART:20261101T010000
TZOFFSETFROM:-0400
TZOFFSETTO:-0500
RRULE:FREQ=YEARLY;BYDAY=1SU;BYMONTH=11
TZNAME:EST
END:STANDARD
END:VTIMEZONE
BEGIN:VEVENT
DTSTAMP:20260423T133745Z
UID:ae34f4e3-9881-4207-9abc-e434310f395a
DTSTART:20260425T190000
DTEND:20260425T220000
DESCRIPTION:
LOCATION:
SUMMARY:Jr/Sr Prom
END:VEVENT
BEGIN:VEVENT
DTSTAMP:20260423T133745Z
UID:50de4208-2e89-4350-b1d4-6470037ebbef
DTSTART;VALUE=DATE:20260501
DTEND;VALUE=DATE:20260502
DESCRIPTION:
LOCATION:
SUMMARY:1/2 Day for Students
END:VEVENT
BEGIN:VEVENT
DTSTAMP:20260423T133745Z
UID:d7b8d4a7-82ea-4cab-ac68-283078f9609b
DTSTART:20260501T072000
DTEND:20260501T103000
DESCRIPTION:
LOCATION:
SUMMARY:1/2 day for students
END:VEVENT
BEGIN:VEVENT
DTSTAMP:20260423T133745Z
UID:8c09a887-14d6-4d84-bce1-f34a1d71741f
DTSTART:20260513T072000
DTEND:20260513T101500
DESCRIPTION:
LOCATION:
SUMMARY:Senior Exams 1\, 2\, 3
END:VEVENT
BEGIN:VEVENT
DTSTAMP:20260423T133745Z
UID:e31f8363-f321-4d43-beff-6ca262f9ac06
DTSTART:20260514T104500
DTEND:20260515T140800
DESCRIPTION:
LOCATION:
SUMMARY:Senior Exams 4\, 5\, 6 
END:VEVENT
BEGIN:VEVENT
DTSTAMP:20260423T133745Z
UID:c81a9a51-78c0-4913-b986-c6c29df0f666
DTSTART:20260515T120000
DTEND:20260515T150000
DESCRIPTION:
LOCATION:
SUMMARY:Senior Activity
END:VEVENT
BEGIN:VEVENT
DTSTAMP:20260423T133745Z
UID:b4f52f33-b950-44a0-85a7-48b2b0cecfe7
DTSTART:20260519T190000
DTEND:20260519T210000
DESCRIPTION:
LOCATION:
SUMMARY:Senior Honors Night
END:VEVENT
BEGIN:VEVENT
DTSTAMP:20260423T133745Z
UID:4db4d5aa-cdc0-45e9-9b94-d427f6d77d15
DTSTART;VALUE=DATE:20260521
DTEND;VALUE=DATE:20260522
DESCRIPTION:
LOCATION:
SUMMARY:LHS Grad. Commencement
END:VEVENT
BEGIN:VEVENT
DTSTAMP:20260423T133745Z
UID:53b3188e-3e11-4e7a-aaf3-2b05b3b5f8e8
DTSTART:20260521T190000
DTEND:20260521T210000
DESCRIPTION:
LOCATION:
SUMMARY:Graduation
END:VEVENT
BEGIN:VEVENT
DTSTAMP:20260423T133745Z
UID:3c16dbc2-0fbd-4fdf-b160-d6610ed216cd
DTSTART;VALUE=DATE:20260525
DTEND;VALUE=DATE:20260526
DESCRIPTION:
LOCATION:
SUMMARY:No School 
END:VEVENT
BEGIN:VEVENT
DTSTAMP:20260423T133745Z
UID:89d1a7b5-06ba-4e85-ad06-046c63bca592
DTSTART;VALUE=DATE:20260525
DTEND;VALUE=DATE:20260526
DESCRIPTION:
LOCATION:
SUMMARY:No School - Memorial Day
END:VEVENT
BEGIN:VEVENT
DTSTAMP:20260423T133745Z
UID:343a2792-47c4-415a-8ece-cef218adba9e
DTSTART:20260601T072000
DTEND:20260601T140800
DESCRIPTION:
LOCATION:
SUMMARY:Exam 1st hr/ full day of school
END:VEVENT
BEGIN:VEVENT
DTSTAMP:20260423T133745Z
UID:b0fc7abe-7a4b-4594-907a-392d7ffb7700
DTSTART:20260602T072000
DTEND:20260602T120000
DESCRIPTION:
LOCATION:
SUMMARY:Exams 2\, 3\, 4 
END:VEVENT
BEGIN:VEVENT
DTSTAMP:20260423T133745Z
UID:0f4bab97-8042-44db-9889-79e72d2ee5e8
DTSTART;VALUE=DATE:20260603
DTEND;VALUE=DATE:20260604
DESCRIPTION:
LOCATION:
SUMMARY:Last Day of School - 1/2 Day for Students
END:VEVENT
BEGIN:VEVENT
DTSTAMP:20260423T133745Z
UID:3e669411-8cbe-407d-82ae-100f24ce30be
DTSTART:20260603T072000
DTEND:20260603T103000
DESCRIPTION:
LOCATION:
SUMMARY:Exams 5\, 6 - last day for students
END:VEVENT
END:VCALENDAR
