BEGIN:VCALENDAR
VERSION:2.0
PRODID:icalendar-ruby
CALSCALE:GREGORIAN
BEGIN:VTIMEZONE
TZID:America/New_York
BEGIN:DAYLIGHT
DTSTART:20260308T030000
TZOFFSETFROM:-0500
TZOFFSETTO:-0400
RRULE:FREQ=YEARLY;BYDAY=2SU;BYMONTH=3
TZNAME:EDT
END:DAYLIGHT
BEGIN:STANDARD
DTSTART:20261101T010000
TZOFFSETFROM:-0400
TZOFFSETTO:-0500
RRULE:FREQ=YEARLY;BYDAY=1SU;BYMONTH=11
TZNAME:EST
END:STANDARD
END:VTIMEZONE
BEGIN:VEVENT
DTSTAMP:20260423T133623Z
UID:cef1d203-777e-4acd-abf3-37d9b21efa2c
DTSTART;VALUE=DATE:20260501
DTEND;VALUE=DATE:20260502
DESCRIPTION:
LOCATION:
SUMMARY:1/2 Day for Students
END:VEVENT
BEGIN:VEVENT
DTSTAMP:20260423T133623Z
UID:a439c98a-7077-42ad-89ef-46995afd33f2
DTSTART;VALUE=DATE:20260521
DTEND;VALUE=DATE:20260522
DESCRIPTION:
LOCATION:
SUMMARY:LHS Grad. Commencement
END:VEVENT
BEGIN:VEVENT
DTSTAMP:20260423T133623Z
UID:0008adf9-2e84-4af3-a76d-0bdd4e0d3d55
DTSTART;VALUE=DATE:20260525
DTEND;VALUE=DATE:20260526
DESCRIPTION:
LOCATION:
SUMMARY:No School 
END:VEVENT
BEGIN:VEVENT
DTSTAMP:20260423T133623Z
UID:666e6fa3-17ee-46b6-8a2a-c96b896f6a1f
DTSTART;VALUE=DATE:20260603
DTEND;VALUE=DATE:20260604
DESCRIPTION:
LOCATION:
SUMMARY:Last Day of School - 1/2 Day for Students
END:VEVENT
BEGIN:VEVENT
DTSTAMP:20260423T133623Z
UID:f59bddaa-2744-4650-aefc-c2f3270ef81b
DTSTART;VALUE=DATE:20260826
DTEND;VALUE=DATE:20260827
DESCRIPTION:
LOCATION:812 Washington Blvd\, Lake Odessa\, MI 48849\, USA
SUMMARY:First day of School 1/2 day
END:VEVENT
BEGIN:VEVENT
DTSTAMP:20260423T133623Z
UID:697b2308-fe57-4bcf-ac11-11989c96eda2
DTSTART;VALUE=DATE:20260904
DTEND;VALUE=DATE:20260908
DESCRIPTION:
LOCATION:
SUMMARY:Labor Day - NO SCHOOL
END:VEVENT
BEGIN:VEVENT
DTSTAMP:20260423T133623Z
UID:2fd9a65a-838a-4558-90d6-3e417aa8ae0e
DTSTART;VALUE=DATE:20260925
DTEND;VALUE=DATE:20260926
DESCRIPTION:
LOCATION:
SUMMARY: NO SCHOOL
END:VEVENT
BEGIN:VEVENT
DTSTAMP:20260423T133623Z
UID:1e95a279-08f0-4ead-a9c0-6f8581162803
DTSTART;VALUE=DATE:20261105
DTEND;VALUE=DATE:20261106
DESCRIPTION:
LOCATION:
SUMMARY:1/2 DAY FOR STUDENTS
END:VEVENT
BEGIN:VEVENT
DTSTAMP:20260423T133623Z
UID:51dda0c6-e32f-430f-9f4d-3e1f623a592c
DTSTART;VALUE=DATE:20261106
DTEND;VALUE=DATE:20261107
DESCRIPTION:
LOCATION:
SUMMARY:NO SCHOOL
END:VEVENT
BEGIN:VEVENT
DTSTAMP:20260423T133623Z
UID:bbe3559f-d4a9-40cd-a0f8-a900541dd7fc
DTSTART;VALUE=DATE:20261123
DTEND;VALUE=DATE:20261128
DESCRIPTION:
LOCATION:
SUMMARY:NO SCHOOL
END:VEVENT
BEGIN:VEVENT
DTSTAMP:20260423T133623Z
UID:04adfc75-b33f-4186-aa44-d02e7f919ff6
DTSTART;VALUE=DATE:20261211
DTEND;VALUE=DATE:20261212
DESCRIPTION:
LOCATION:
SUMMARY:NO SCHOOL
END:VEVENT
BEGIN:VEVENT
DTSTAMP:20260423T133623Z
UID:24ae6971-b796-4d07-a98f-c642db323328
DTSTART;VALUE=DATE:20261221
DTEND;VALUE=DATE:20270102
DESCRIPTION:
LOCATION:
SUMMARY:NO SCHOOL
END:VEVENT
BEGIN:VEVENT
DTSTAMP:20260423T133623Z
UID:8fbead8a-e4b7-4ea7-858b-03aeb462e150
DTSTART;VALUE=DATE:20270205
DTEND;VALUE=DATE:20270209
DESCRIPTION:
LOCATION:
SUMMARY:NO SCHOOL
END:VEVENT
BEGIN:VEVENT
DTSTAMP:20260423T133623Z
UID:56a05feb-e789-4877-a970-933eeb18141f
DTSTART;VALUE=DATE:20270319
DTEND;VALUE=DATE:20270320
DESCRIPTION:
LOCATION:
SUMMARY:NO SCHOOL
END:VEVENT
BEGIN:VEVENT
DTSTAMP:20260423T133623Z
UID:5ee3d8f6-8962-455e-ac3e-46f1f6350720
DTSTART;VALUE=DATE:20270326
DTEND;VALUE=DATE:20270327
DESCRIPTION:
LOCATION:
SUMMARY:NO SCHOOL
END:VEVENT
BEGIN:VEVENT
DTSTAMP:20260423T133623Z
UID:13993ba4-3384-433a-a476-009ca3077f5d
DTSTART;VALUE=DATE:20270402
DTEND;VALUE=DATE:20270403
DESCRIPTION:
LOCATION:
SUMMARY:NO SCHOOL
END:VEVENT
BEGIN:VEVENT
DTSTAMP:20260423T133623Z
UID:a731fc35-dc5e-46b3-88c2-2b0b41b3ef58
DTSTART;VALUE=DATE:20270405
DTEND;VALUE=DATE:20270410
DESCRIPTION:
LOCATION:
SUMMARY:NO SCHOOL
END:VEVENT
BEGIN:VEVENT
DTSTAMP:20260423T133623Z
UID:ecda7942-b281-4faa-bc13-99b9e753e579
DTSTART;VALUE=DATE:20270520
DTEND;VALUE=DATE:20270521
DESCRIPTION:
LOCATION:
SUMMARY:LHS GRADUATION
END:VEVENT
BEGIN:VEVENT
DTSTAMP:20260423T133623Z
UID:34c6a1b4-554d-4054-9a10-75944d9a2555
DTSTART;VALUE=DATE:20270531
DTEND;VALUE=DATE:20270601
DESCRIPTION:
LOCATION:
SUMMARY:NO SCHOOL
END:VEVENT
BEGIN:VEVENT
DTSTAMP:20260423T133623Z
UID:ceed2dd1-86f8-4e24-897c-053d470a7e9a
DTSTART;VALUE=DATE:20270609
DTEND;VALUE=DATE:20270610
DESCRIPTION:
LOCATION:
SUMMARY:LAST DAY OF SCHOOL 1/2 DAY
END:VEVENT
END:VCALENDAR
