BEGIN:VCALENDAR
VERSION:2.0
PRODID:icalendar-ruby
CALSCALE:GREGORIAN
BEGIN:VTIMEZONE
TZID:America/New_York
BEGIN:DAYLIGHT
DTSTART:20260308T030000
TZOFFSETFROM:-0500
TZOFFSETTO:-0400
RRULE:FREQ=YEARLY;BYDAY=2SU;BYMONTH=3
TZNAME:EDT
END:DAYLIGHT
BEGIN:STANDARD
DTSTART:20261101T010000
TZOFFSETFROM:-0400
TZOFFSETTO:-0500
RRULE:FREQ=YEARLY;BYDAY=1SU;BYMONTH=11
TZNAME:EST
END:STANDARD
END:VTIMEZONE
BEGIN:VEVENT
DTSTAMP:20260425T105727Z
UID:121324f0-d94d-4fb0-a0a3-939f0bc6a826
DTSTART:20260425T150000
DTEND:20260425T170000
DESCRIPTION:
LOCATION:High School Gym/Outside Weather Permitting
SUMMARY:Varsity Baseball Practice
END:VEVENT
BEGIN:VEVENT
DTSTAMP:20260425T105727Z
UID:b7262504-d3b8-436d-a232-9f1b1ad3910f
DTSTART:20260427T150000
DTEND:20260427T173000
DESCRIPTION:
LOCATION:High School Gym/Outside Weather Permitting
SUMMARY:Middle School Baseball Practice
END:VEVENT
BEGIN:VEVENT
DTSTAMP:20260425T105727Z
UID:46a315bc-85e0-4d3a-ac51-18da00147c8a
DTSTART:20260427T150000
DTEND:20260427T173000
DESCRIPTION:
LOCATION:Middle School Gym/Outside Weather Permitting
SUMMARY:Middle School Softball Practice
END:VEVENT
BEGIN:VEVENT
DTSTAMP:20260425T105727Z
UID:43b0ead5-6979-4a6f-8668-5180026baa02
DTSTART:20260427T150000
DTEND:20260427T163000
DESCRIPTION:
LOCATION:High School
SUMMARY:Varsity Track Practice
END:VEVENT
BEGIN:VEVENT
DTSTAMP:20260425T105727Z
UID:29fce3b6-fbd1-435e-92d4-51004d3e9dc6
DTSTART:20260427T163000
DTEND:20260427T203000
DESCRIPTION:
LOCATION:
SUMMARY:Middle School Track AWAY @ Beecher
END:VEVENT
BEGIN:VEVENT
DTSTAMP:20260425T105727Z
UID:28c38291-9f3e-4341-8399-9caec6097dd1
DTSTART:20260427T163000
DTEND:20260427T210000
DESCRIPTION:
LOCATION:Genesee High School\, 7347 N Genesee Rd\, Genesee\, MI 48437\, USA
SUMMARY:Varsity Baseball Game AWAY@ Genesee
END:VEVENT
BEGIN:VEVENT
DTSTAMP:20260425T105727Z
UID:5201fddf-91fb-49c5-a598-a40d788985b6
DTSTART:20260427T163000
DTEND:20260427T210000
DESCRIPTION:
LOCATION:Genesee High School\, 7347 N Genesee Rd\, Genesee\, MI 48437\, USA
SUMMARY:Varsity Softball Game AWAY@ Genesee
END:VEVENT
BEGIN:VEVENT
DTSTAMP:20260425T105727Z
UID:f1930b5c-84b9-4635-bcb7-d138f55775da
DTSTART:20260428T150000
DTEND:20260428T173000
DESCRIPTION:
LOCATION:High School Gym/Outside Weather Permitting
SUMMARY:Middle School Baseball Practice
END:VEVENT
BEGIN:VEVENT
DTSTAMP:20260425T105727Z
UID:8b6071a5-4f6d-4547-83a8-fbaeb6a0c3ca
DTSTART:20260428T150000
DTEND:20260428T173000
DESCRIPTION:
LOCATION:Middle School Gym/Outside Weather Permitting
SUMMARY:Middle School Softball Practice
END:VEVENT
BEGIN:VEVENT
DTSTAMP:20260425T105727Z
UID:c7099696-a465-4a8d-83fc-735f6313fddd
DTSTART:20260428T150000
DTEND:20260428T170000
DESCRIPTION:
LOCATION:High School Gym/Outside Weather Permitting
SUMMARY:Varsity Baseball Practice
END:VEVENT
BEGIN:VEVENT
DTSTAMP:20260425T105727Z
UID:9009ad0b-46c0-4f1e-930b-b1b8b0b02244
DTSTART:20260428T150000
DTEND:20260428T173000
DESCRIPTION:
LOCATION:Middle School Softball Room/Outside Weather Permitting
SUMMARY:Varsity Softball Practice
END:VEVENT
BEGIN:VEVENT
DTSTAMP:20260425T105727Z
UID:ec31c9d2-a2f4-4e9a-b8ae-a462758ab7a4
DTSTART:20260428T150000
DTEND:20260428T163000
DESCRIPTION:
LOCATION:High School
SUMMARY:Varsity Track Practice
END:VEVENT
BEGIN:VEVENT
DTSTAMP:20260425T105727Z
UID:91cd073f-65b2-4af2-9b65-9e9a2257d539
DTSTART:20260428T173000
DTEND:20260428T200000
DESCRIPTION:
LOCATION:1150 N Belsay Rd\, Burton\, MI 48509\, USA
SUMMARY:Boys Varsity Volleyball HOME vs Durand
END:VEVENT
BEGIN:VEVENT
DTSTAMP:20260425T105727Z
UID:9e1eac98-369b-43b3-b6aa-8c19238a23ab
DTSTART:20260429T150000
DTEND:20260429T170000
DESCRIPTION:
LOCATION:High School Gym/Outside Weather Permitting
SUMMARY:Varsity Baseball Practice
END:VEVENT
BEGIN:VEVENT
DTSTAMP:20260425T105727Z
UID:51ce0944-5a2c-4bea-8753-fe478ae5fb80
DTSTART:20260429T150000
DTEND:20260429T163000
DESCRIPTION:
LOCATION:High School
SUMMARY:Varsity Track Practice
END:VEVENT
BEGIN:VEVENT
DTSTAMP:20260425T105727Z
UID:8c415106-0c9f-4cf5-a1c4-4b226a4e1c43
DTSTART:20260429T160000
DTEND:20260429T210000
DESCRIPTION:
LOCATION:1150 N Belsay Rd\, Burton\, MI 48509\, USA
SUMMARY:Varsity Softball HOME vs. Kearsley
END:VEVENT
BEGIN:VEVENT
DTSTAMP:20260425T105727Z
UID:9af83e08-011c-4b8f-9ea3-b0afa0bc2c83
DTSTART:20260429T170000
DTEND:20260429T210000
DESCRIPTION:
LOCATION:
SUMMARY:Middle School Baseball Game AWAY @ Bendle
END:VEVENT
BEGIN:VEVENT
DTSTAMP:20260425T105727Z
UID:2078d289-3e02-440a-b012-22dd05e24104
DTSTART:20260429T170000
DTEND:20260429T210000
DESCRIPTION:
LOCATION:
SUMMARY:Middle School Softball Game AWAY @ Bendle
END:VEVENT
BEGIN:VEVENT
DTSTAMP:20260425T105727Z
UID:15b46677-f63a-47e4-9e11-a5909829595d
DTSTART:20260430T150000
DTEND:20260430T173000
DESCRIPTION:
LOCATION:High School Gym/Outside Weather Permitting
SUMMARY:Middle School Baseball Practice
END:VEVENT
BEGIN:VEVENT
DTSTAMP:20260425T105727Z
UID:bdf9399d-1cb6-4dd8-a847-cd3816ac4d9e
DTSTART:20260430T150000
DTEND:20260430T173000
DESCRIPTION:
LOCATION:Middle School Gym/Outside Weather Permitting
SUMMARY:Middle School Softball Practice
END:VEVENT
BEGIN:VEVENT
DTSTAMP:20260425T105727Z
UID:5f09fa67-608d-4e87-8a57-901673a36ac1
DTSTART:20260430T150000
DTEND:20260430T173000
DESCRIPTION:
LOCATION:Middle School Softball Room/Outside Weather Permitting
SUMMARY:Varsity Softball Practice
END:VEVENT
BEGIN:VEVENT
DTSTAMP:20260425T105727Z
UID:516f7467-6703-40cb-9c3f-5e08333f4950
DTSTART:20260430T150000
DTEND:20260430T163000
DESCRIPTION:
LOCATION:High School
SUMMARY:Varsity Track Practice
END:VEVENT
BEGIN:VEVENT
DTSTAMP:20260425T105727Z
UID:60a244e4-1b33-4225-aa89-bbb4d6bfd45e
DTSTART:20260430T160000
DTEND:20260430T210000
DESCRIPTION:
LOCATION:1150 N Belsay Rd\, Burton\, MI 48509\, USA
SUMMARY:Varsity Baseball Game HOME vs. Carman-Ainsworth
END:VEVENT
BEGIN:VEVENT
DTSTAMP:20260425T105727Z
UID:21af6f82-2ebc-4e3d-83de-dc37df895dca
DTSTART:20260501T150000
DTEND:20260501T173000
DESCRIPTION:
LOCATION:High School Gym/Outside Weather Permitting
SUMMARY:Middle School Baseball Practice
END:VEVENT
BEGIN:VEVENT
DTSTAMP:20260425T105727Z
UID:b64976dd-acda-48c6-b0bb-0a251b68e396
DTSTART:20260501T150000
DTEND:20260501T173000
DESCRIPTION:
LOCATION:Middle School Gym/Outside Weather Permitting
SUMMARY:Middle School Softball Practice
END:VEVENT
BEGIN:VEVENT
DTSTAMP:20260425T105727Z
UID:f533e046-cea4-44fb-9817-50af624aa14e
DTSTART:20260501T150000
DTEND:20260501T170000
DESCRIPTION:
LOCATION:High School Gym/Outside Weather Permitting
SUMMARY:Varsity Baseball Practice
END:VEVENT
BEGIN:VEVENT
DTSTAMP:20260425T105727Z
UID:952cab35-0e0a-497b-a0d8-50d5ab287a00
DTSTART:20260501T150000
DTEND:20260501T173000
DESCRIPTION:
LOCATION:Middle School Softball Room/Outside Weather Permitting
SUMMARY:Varsity Softball Practice
END:VEVENT
BEGIN:VEVENT
DTSTAMP:20260425T105727Z
UID:5411e53b-441c-45ca-b12f-7dab7845a077
DTSTART:20260501T180000
DTEND:20260501T203000
DESCRIPTION:
LOCATION:
SUMMARY:Boys Varsity Volleyball AWAY @ Midland Dow
END:VEVENT
BEGIN:VEVENT
DTSTAMP:20260425T105727Z
UID:6f535f2a-23cf-4b81-9663-d5d2cd59f291
DTSTART:20260504T150000
DTEND:20260504T173000
DESCRIPTION:
LOCATION:High School Gym/Outside Weather Permitting
SUMMARY:Middle School Baseball Practice
END:VEVENT
BEGIN:VEVENT
DTSTAMP:20260425T105727Z
UID:35b358d2-214c-4d36-9d26-f812eaec15ff
DTSTART:20260504T150000
DTEND:20260504T173000
DESCRIPTION:
LOCATION:Middle School Gym/Outside Weather Permitting
SUMMARY:Middle School Softball Practice
END:VEVENT
BEGIN:VEVENT
DTSTAMP:20260425T105727Z
UID:85de3bdf-2a21-4921-863a-ac3ad96be9a9
DTSTART:20260504T150000
DTEND:20260504T163000
DESCRIPTION:
LOCATION:High School
SUMMARY:Varsity Track Practice
END:VEVENT
BEGIN:VEVENT
DTSTAMP:20260425T105727Z
UID:c5df896e-eb53-448a-b264-c246ef231145
DTSTART:20260504T163000
DTEND:20260504T203000
DESCRIPTION:
LOCATION:
SUMMARY:Middle School Track AWAY @ Morrice
END:VEVENT
BEGIN:VEVENT
DTSTAMP:20260425T105727Z
UID:b9c42107-8bc4-4c1f-a4a9-3219a7df4c0a
DTSTART:20260504T163000
DTEND:20260504T210000
DESCRIPTION:
LOCATION:Bendle High School\, 2283 E Scottwood Ave\, Burton\, MI 48529\, US
 A
SUMMARY:Varsity Baseball Game AWAY @ Bendle
END:VEVENT
BEGIN:VEVENT
DTSTAMP:20260425T105727Z
UID:61fa99cd-7785-4c4d-91f9-3fe218c31f09
DTSTART:20260504T163000
DTEND:20260504T210000
DESCRIPTION:
LOCATION:Bendle High School\, 2283 E Scottwood Ave\, Burton\, MI 48529\, US
 A
SUMMARY:Varsity Softball AWAY @ Bendle
END:VEVENT
BEGIN:VEVENT
DTSTAMP:20260425T105727Z
UID:56b1e53e-9301-4d73-92fe-8c778a9edadc
DTSTART:20260505T150000
DTEND:20260505T173000
DESCRIPTION:
LOCATION:High School Gym/Outside Weather Permitting
SUMMARY:Middle School Baseball Practice
END:VEVENT
BEGIN:VEVENT
DTSTAMP:20260425T105727Z
UID:3761c4e5-8742-400e-8522-f6d2efd0cf60
DTSTART:20260505T150000
DTEND:20260505T173000
DESCRIPTION:
LOCATION:Middle School Gym/Outside Weather Permitting
SUMMARY:Middle School Softball Practice
END:VEVENT
BEGIN:VEVENT
DTSTAMP:20260425T105727Z
UID:8b704007-5f9d-4896-91fb-7114e61b9489
DTSTART:20260505T150000
DTEND:20260505T170000
DESCRIPTION:
LOCATION:High School Gym/Outside Weather Permitting
SUMMARY:Varsity Baseball Practice
END:VEVENT
BEGIN:VEVENT
DTSTAMP:20260425T105727Z
UID:4d5682ee-9600-4246-82ee-0ce790881274
DTSTART:20260505T150000
DTEND:20260505T173000
DESCRIPTION:
LOCATION:Middle School Softball Room/Outside Weather Permitting
SUMMARY:Varsity Softball Practice
END:VEVENT
BEGIN:VEVENT
DTSTAMP:20260425T105727Z
UID:08abebcc-5758-4c85-be5a-794443ed61c5
DTSTART:20260505T150000
DTEND:20260505T163000
DESCRIPTION:
LOCATION:High School
SUMMARY:Varsity Track Practice
END:VEVENT
BEGIN:VEVENT
DTSTAMP:20260425T105727Z
UID:257c040c-c210-4d74-9514-ad187f1ec5b1
DTSTART:20260505T180000
DTEND:20260505T203000
DESCRIPTION:
LOCATION:
SUMMARY:Boys Varsity Volleyball AWAY @ A.A Gabriel Richard
END:VEVENT
BEGIN:VEVENT
DTSTAMP:20260425T105727Z
UID:10e3aba0-ab02-477c-ae0d-ae61d9f22b98
DTSTART:20260506T150000
DTEND:20260506T173000
DESCRIPTION:
LOCATION:Middle School Softball Room/Outside Weather Permitting
SUMMARY:Varsity Softball Practice
END:VEVENT
BEGIN:VEVENT
DTSTAMP:20260425T105727Z
UID:eceee656-8cbc-4bce-940c-d0838babe52d
DTSTART:20260506T150000
DTEND:20260506T163000
DESCRIPTION:
LOCATION:High School
SUMMARY:Varsity Track Practice
END:VEVENT
BEGIN:VEVENT
DTSTAMP:20260425T105727Z
UID:89d5685d-2554-40db-bf0c-cfed66bbedd6
DTSTART:20260506T160000
DTEND:20260506T210000
DESCRIPTION:
LOCATION:1150 N Belsay Rd\, Burton\, MI 48509\, USA
SUMMARY:Varsity Baseball Game HOME vs. Durand
END:VEVENT
BEGIN:VEVENT
DTSTAMP:20260425T105727Z
UID:2887cb3d-1804-4b9e-977d-13cbe19f285d
DTSTART:20260506T170000
DTEND:20260506T210000
DESCRIPTION:
LOCATION:
SUMMARY:Middle School Baseball Game AWAY @ Genesee
END:VEVENT
BEGIN:VEVENT
DTSTAMP:20260425T105727Z
UID:c11d1715-1d96-4c97-820a-3714e7d91558
DTSTART:20260506T170000
DTEND:20260506T210000
DESCRIPTION:
LOCATION:
SUMMARY:Middle School Softball Game AWAY @ Genesee
END:VEVENT
BEGIN:VEVENT
DTSTAMP:20260425T105727Z
UID:ab45d5e6-3551-4802-aa30-e46fb7751666
DTSTART:20260507T150000
DTEND:20260507T173000
DESCRIPTION:
LOCATION:High School Gym/Outside Weather Permitting
SUMMARY:Middle School Baseball Practice
END:VEVENT
BEGIN:VEVENT
DTSTAMP:20260425T105727Z
UID:7404d962-f31a-48ad-abb5-58ceca54bcb3
DTSTART:20260507T150000
DTEND:20260507T173000
DESCRIPTION:
LOCATION:Middle School Gym/Outside Weather Permitting
SUMMARY:Middle School Softball Practice
END:VEVENT
BEGIN:VEVENT
DTSTAMP:20260425T105727Z
UID:765e1bb1-9beb-43d5-a375-dc5e3a1cee4c
DTSTART:20260507T163000
DTEND:20260507T210000
DESCRIPTION:
LOCATION:1150 N Belsay Rd\, Burton\, MI 48509\, USA
SUMMARY:Varsity Baseball Game HOME vs. Flint Southwestern
END:VEVENT
BEGIN:VEVENT
DTSTAMP:20260425T105727Z
UID:d09113b3-cf43-47af-a407-c184a33a84fb
DTSTART:20260507T163000
DTEND:20260507T210000
DESCRIPTION:
LOCATION:1150 N. Belsay Rd
SUMMARY:Varsity Softball Game HOME vs. Atherton
END:VEVENT
BEGIN:VEVENT
DTSTAMP:20260425T105727Z
UID:6f64f6b2-fdae-4e88-8eb5-2f0306d0b999
DTSTART:20260507T163000
DTEND:20260507T210000
DESCRIPTION:
LOCATION:1150 N Belsay Rd\, Burton\, MI 48509\, USA
SUMMARY:Varsity Track HOME GAC
END:VEVENT
BEGIN:VEVENT
DTSTAMP:20260425T105727Z
UID:cadd3d68-5cb2-4372-bb7a-5019a92d01cb
DTSTART:20260508T150000
DTEND:20260508T170000
DESCRIPTION:
LOCATION:High School Gym/Outside Weather Permitting
SUMMARY:Varsity Baseball Practice
END:VEVENT
BEGIN:VEVENT
DTSTAMP:20260425T105727Z
UID:3146f31b-86c3-4fe9-8b9a-1360673de2a6
DTSTART:20260508T150000
DTEND:20260508T173000
DESCRIPTION:
LOCATION:Middle School Softball Room/Outside Weather Permitting
SUMMARY:Varsity Softball Practice
END:VEVENT
BEGIN:VEVENT
DTSTAMP:20260425T105727Z
UID:bdab2a4c-3ee9-4ba4-9eec-dc23dd53e5d4
DTSTART:20260508T150000
DTEND:20260508T163000
DESCRIPTION:
LOCATION:High School
SUMMARY:Varsity Track Practice
END:VEVENT
BEGIN:VEVENT
DTSTAMP:20260425T105727Z
UID:72907535-830b-4256-b448-c37e6ed79755
DTSTART:20260508T170000
DTEND:20260508T210000
DESCRIPTION:
LOCATION:1150 N Belsay Rd\, Burton\, MI 48509\, USA
SUMMARY:Middle School Baseball Game HOME vs. Bendle
END:VEVENT
BEGIN:VEVENT
DTSTAMP:20260425T105727Z
UID:0bd8b1bd-0f66-4988-b286-83d7c3e84682
DTSTART:20260508T170000
DTEND:20260508T210000
DESCRIPTION:
LOCATION:1150 N Belsay Rd\, Burton\, MI 48509\, USA
SUMMARY:Middle School Softball Game HOME vs. Bendle
END:VEVENT
BEGIN:VEVENT
DTSTAMP:20260425T105727Z
UID:ae606cdf-0ac4-47f8-8eff-d57c29436858
DTSTART:20260508T180000
DTEND:20260508T203000
DESCRIPTION:
LOCATION:
SUMMARY:Boys Varsity Volleyball HOME vs. North Branch
END:VEVENT
BEGIN:VEVENT
DTSTAMP:20260425T105727Z
UID:5b0ee757-29c3-4db1-8929-b874918086af
DTSTART:20260511T150000
DTEND:20260511T173000
DESCRIPTION:
LOCATION:High School Gym/Outside Weather Permitting
SUMMARY:Middle School Baseball Practice
END:VEVENT
BEGIN:VEVENT
DTSTAMP:20260425T105727Z
UID:7ee7651b-cf99-4064-89e3-248f54fd3033
DTSTART:20260511T150000
DTEND:20260511T173000
DESCRIPTION:
LOCATION:Middle School Gym/Outside Weather Permitting
SUMMARY:Middle School Softball Practice
END:VEVENT
BEGIN:VEVENT
DTSTAMP:20260425T105727Z
UID:63763620-8ad0-409e-9475-45a98e7ab287
DTSTART:20260511T150000
DTEND:20260511T163000
DESCRIPTION:
LOCATION:High School
SUMMARY:Varsity Track Practice
END:VEVENT
BEGIN:VEVENT
DTSTAMP:20260425T105727Z
UID:caf78cb7-a846-48b3-bed4-0c8614dada02
DTSTART:20260511T163000
DTEND:20260511T210000
DESCRIPTION:
LOCATION:1150 N Belsay Rd\, Burton\, MI 48509\, USA
SUMMARY:Varsity Baseball Game HOME vs. Atherton
END:VEVENT
BEGIN:VEVENT
DTSTAMP:20260425T105727Z
UID:8afb088a-8277-4b2b-b880-cb7947ee7ed0
DTSTART:20260511T163000
DTEND:20260511T210000
DESCRIPTION:
LOCATION:1150 N Belsay Rd\, Burton\, MI 48509\, USA
SUMMARY:Varsity Softball Game HOME vs. Atherton
END:VEVENT
BEGIN:VEVENT
DTSTAMP:20260425T105727Z
UID:32ef31e4-b038-4e9b-8c51-38df3f110436
DTSTART:20260512T130000
DTEND:20260512T210000
DESCRIPTION:
LOCATION:
SUMMARY:Varsity Track AWAY @ Beecher (ALL GAC)
END:VEVENT
BEGIN:VEVENT
DTSTAMP:20260425T105727Z
UID:82186c20-a8f0-4265-a936-a2ffc7e8f221
DTSTART:20260512T150000
DTEND:20260512T173000
DESCRIPTION:
LOCATION:High School Gym/Outside Weather Permitting
SUMMARY:Middle School Baseball Practice
END:VEVENT
BEGIN:VEVENT
DTSTAMP:20260425T105727Z
UID:f478b880-c734-47bd-b19f-cb772b63319c
DTSTART:20260512T150000
DTEND:20260512T173000
DESCRIPTION:
LOCATION:Middle School Gym/Outside Weather Permitting
SUMMARY:Middle School Softball Practice
END:VEVENT
BEGIN:VEVENT
DTSTAMP:20260425T105727Z
UID:5efc7686-f879-44b3-a8af-5dd503b30440
DTSTART:20260512T150000
DTEND:20260512T170000
DESCRIPTION:
LOCATION:High School Gym/Outside Weather Permitting
SUMMARY:Varsity Baseball Practice
END:VEVENT
BEGIN:VEVENT
DTSTAMP:20260425T105727Z
UID:4d683a63-b220-4c7f-9e7b-ca0a46ca3ebe
DTSTART:20260512T150000
DTEND:20260512T173000
DESCRIPTION:
LOCATION:Middle School Softball Room/Outside Weather Permitting
SUMMARY:Varsity Softball Practice
END:VEVENT
BEGIN:VEVENT
DTSTAMP:20260425T105727Z
UID:b2deaf92-ba98-4a11-865a-103756e986cd
DTSTART:20260512T173000
DTEND:20260512T200000
DESCRIPTION:
LOCATION:
SUMMARY:Boys Varsity Volleyball AWAY @ Mt. Morris
END:VEVENT
BEGIN:VEVENT
DTSTAMP:20260425T105727Z
UID:7a470ce2-6c54-4757-bdb2-54e1259bac4b
DTSTART:20260513T150000
DTEND:20260513T173000
DESCRIPTION:
LOCATION:High School Gym/Outside Weather Permitting
SUMMARY:Middle School Baseball Practice
END:VEVENT
BEGIN:VEVENT
DTSTAMP:20260425T105727Z
UID:84753ede-1144-48d9-b354-0220d36924d5
DTSTART:20260513T150000
DTEND:20260513T173000
DESCRIPTION:
LOCATION:Middle School Gym/Outside Weather Permitting
SUMMARY:Middle School Softball Practice
END:VEVENT
BEGIN:VEVENT
DTSTAMP:20260425T105727Z
UID:64bd175b-381b-4656-9c18-5de8f80744d7
DTSTART:20260513T150000
DTEND:20260513T170000
DESCRIPTION:
LOCATION:High School Gym/Outside Weather Permitting
SUMMARY:Varsity Baseball Practice
END:VEVENT
BEGIN:VEVENT
DTSTAMP:20260425T105727Z
UID:43e9e87a-7af3-47e7-844c-346affacbb0e
DTSTART:20260513T150000
DTEND:20260513T173000
DESCRIPTION:
LOCATION:Middle School Softball Room/Outside Weather Permitting
SUMMARY:Varsity Softball Practice
END:VEVENT
BEGIN:VEVENT
DTSTAMP:20260425T105727Z
UID:8d6e310a-f461-4900-a4f8-08bea4e70b7e
DTSTART:20260513T150000
DTEND:20260513T163000
DESCRIPTION:
LOCATION:High School
SUMMARY:Varsity Track Practice
END:VEVENT
BEGIN:VEVENT
DTSTAMP:20260425T105727Z
UID:140d4afc-1650-478b-9ba8-2c7bdb83b00a
DTSTART:20260514T150000
DTEND:20260514T173000
DESCRIPTION:
LOCATION:High School Gym/Outside Weather Permitting
SUMMARY:Middle School Baseball Practice
END:VEVENT
BEGIN:VEVENT
DTSTAMP:20260425T105727Z
UID:cf94c656-139f-4f3c-b07f-1dadb4351200
DTSTART:20260514T150000
DTEND:20260514T173000
DESCRIPTION:
LOCATION:Middle School Gym/Outside Weather Permitting
SUMMARY:Middle School Softball Practice
END:VEVENT
BEGIN:VEVENT
DTSTAMP:20260425T105727Z
UID:1c78ed9d-b1e2-4764-9f94-637ca3320bc1
DTSTART:20260514T150000
DTEND:20260514T170000
DESCRIPTION:
LOCATION:High School Gym/Outside Weather Permitting
SUMMARY:Varsity Baseball Practice
END:VEVENT
BEGIN:VEVENT
DTSTAMP:20260425T105727Z
UID:85deaeb5-1932-4f01-9de3-94138969f6a9
DTSTART:20260514T150000
DTEND:20260514T163000
DESCRIPTION:
LOCATION:High School
SUMMARY:Varsity Track Practice
END:VEVENT
BEGIN:VEVENT
DTSTAMP:20260425T105727Z
UID:835ff8aa-4898-4d99-8e63-99dd6b2a36f6
DTSTART:20260514T160000
DTEND:20260514T210000
DESCRIPTION:
LOCATION:
SUMMARY:Varsity Softball Game AWAY @ Carman-Ainsworth
END:VEVENT
BEGIN:VEVENT
DTSTAMP:20260425T105727Z
UID:4f73df79-faf1-4c6a-bbe2-c3cc8e199961
DTSTART:20260515T150000
DTEND:20260515T173000
DESCRIPTION:
LOCATION:High School Gym/Outside Weather Permitting
SUMMARY:Middle School Baseball Practice
END:VEVENT
BEGIN:VEVENT
DTSTAMP:20260425T105727Z
UID:286ecdcd-dc04-4389-9dbf-f039f0a7b285
DTSTART:20260515T150000
DTEND:20260515T173000
DESCRIPTION:
LOCATION:Middle School Gym/Outside Weather Permitting
SUMMARY:Middle School Softball Practice
END:VEVENT
BEGIN:VEVENT
DTSTAMP:20260425T105727Z
UID:598e44d5-da2c-455c-9028-56d9a99d34bc
DTSTART:20260515T150000
DTEND:20260515T173000
DESCRIPTION:
LOCATION:Middle School Softball Room/Outside Weather Permitting
SUMMARY:Varsity Softball Practice
END:VEVENT
BEGIN:VEVENT
DTSTAMP:20260425T105727Z
UID:d7408ac1-3722-4db3-8a72-515f5f33fb95
DTSTART:20260515T150000
DTEND:20260515T163000
DESCRIPTION:
LOCATION:High School Halls or Outside Weather Permitting
SUMMARY:Varsity Track Practice
END:VEVENT
BEGIN:VEVENT
DTSTAMP:20260425T105727Z
UID:4894d22c-2829-4861-bd25-2ee00e57777b
DTSTART:20260515T160000
DTEND:20260515T180000
DESCRIPTION:
LOCATION:1150 N Belsay Rd\, Burton\, MI 48509\, USA
SUMMARY:Varsity Baseball Game HOME vs. St. Thomas More (Single Game)
END:VEVENT
BEGIN:VEVENT
DTSTAMP:20260425T105727Z
UID:c9f853e3-ffa3-42fb-905d-9db385ac9f59
DTSTART:20260516T090000
DTEND:20260516T180000
DESCRIPTION:
LOCATION:
SUMMARY:Varsity Track Regionals AWAY @ Bad Axe
END:VEVENT
BEGIN:VEVENT
DTSTAMP:20260425T105727Z
UID:70fe146d-1d13-4ab0-81d9-5f016d5817d8
DTSTART:20260516T090000
DTEND:20260516T180000
DESCRIPTION:
LOCATION:
SUMMARY:Varsity Track Regionals AWAY @ Bad Axe
END:VEVENT
BEGIN:VEVENT
DTSTAMP:20260425T105727Z
UID:4097a71d-38b9-4694-9917-c854a052ab93
DTSTART:20260518T150000
DTEND:20260518T173000
DESCRIPTION:
LOCATION:High School Gym/Outside Weather Permitting
SUMMARY:Middle School Baseball Practice
END:VEVENT
BEGIN:VEVENT
DTSTAMP:20260425T105727Z
UID:6fb27c8b-3a37-48e1-a217-2a6cc75ad8f1
DTSTART:20260518T150000
DTEND:20260518T173000
DESCRIPTION:
LOCATION:Middle School Gym/Outside Weather Permitting
SUMMARY:Middle School Softball Practice
END:VEVENT
BEGIN:VEVENT
DTSTAMP:20260425T105727Z
UID:15486af5-d690-4ca8-88ad-96cd4e629fb5
DTSTART:20260518T150000
DTEND:20260518T173000
DESCRIPTION:
LOCATION:Middle School Softball Room/Outside Weather Permitting
SUMMARY:Varsity Softball Practice
END:VEVENT
BEGIN:VEVENT
DTSTAMP:20260425T105727Z
UID:f2e0c661-fe28-443d-b9c6-0f20b1c27c88
DTSTART:20260518T160000
DTEND:20260518T180000
DESCRIPTION:
LOCATION:1150 N Belsay Rd\, Burton\, MI 48509\, USA
SUMMARY:Varsity Baseball Game HOME vs. Clarkston Everest (Single Game)
END:VEVENT
BEGIN:VEVENT
DTSTAMP:20260425T105727Z
UID:91fa7f2b-ea6b-4343-855b-31d6601f864c
DTSTART:20260519T150000
DTEND:20260519T173000
DESCRIPTION:
LOCATION:High School Gym/Outside Weather Permitting
SUMMARY:Middle School Baseball Practice
END:VEVENT
BEGIN:VEVENT
DTSTAMP:20260425T105727Z
UID:fd7ac294-ba3b-443b-8bbe-9d8edb99643c
DTSTART:20260519T150000
DTEND:20260519T173000
DESCRIPTION:
LOCATION:Middle School Gym/Outside Weather Permitting
SUMMARY:Middle School Softball Practice
END:VEVENT
BEGIN:VEVENT
DTSTAMP:20260425T105727Z
UID:03fcbac3-5fbf-4c1b-8292-75bae685f772
DTSTART:20260519T150000
DTEND:20260519T173000
DESCRIPTION:
LOCATION:Middle School Softball Room/Outside Weather Permitting
SUMMARY:Varsity Softball Practice
END:VEVENT
BEGIN:VEVENT
DTSTAMP:20260425T105727Z
UID:d0afceb5-724b-48b7-9fd8-2eb619b0a309
DTSTART:20260519T160000
DTEND:20260519T210000
DESCRIPTION:
LOCATION:
SUMMARY:Varsity Baseball Game HOME vs. Dryden
END:VEVENT
BEGIN:VEVENT
DTSTAMP:20260425T105727Z
UID:70ae71ed-daaf-43a7-9e83-118969373ed2
DTSTART:20260520T150000
DTEND:20260520T170000
DESCRIPTION:
LOCATION:High School Gym/Outside Weather Permitting
SUMMARY:Varsity Baseball Practice
END:VEVENT
BEGIN:VEVENT
DTSTAMP:20260425T105727Z
UID:2f69b077-0fc7-4ff9-b398-d379a4ad3e81
DTSTART:20260520T150000
DTEND:20260520T173000
DESCRIPTION:
LOCATION:Middle School Softball Room/Outside Weather Permitting
SUMMARY:Varsity Softball Practice
END:VEVENT
BEGIN:VEVENT
DTSTAMP:20260425T105727Z
UID:ec7cdb74-a01c-4f63-941f-2947c803def2
DTSTART:20260520T170000
DTEND:20260520T210000
DESCRIPTION:
LOCATION:1150 N Belsay Rd\, Burton\, MI 48509\, USA
SUMMARY:Middle School Baseball Game HOME vs. Perry
END:VEVENT
BEGIN:VEVENT
DTSTAMP:20260425T105727Z
UID:236659c5-d2fd-4b1e-b294-fa470f04c011
DTSTART:20260520T170000
DTEND:20260520T210000
DESCRIPTION:
LOCATION:1150 N Belsay Rd\, Burton\, MI 48509\, USA
SUMMARY:Middle School Softball Game HOME vs. Perry
END:VEVENT
BEGIN:VEVENT
DTSTAMP:20260425T105727Z
UID:f670873b-4fac-4b65-a8cd-cdf0d98d1c00
DTSTART:20260520T173000
DTEND:20260520T200000
DESCRIPTION:
LOCATION:
SUMMARY:Boys Varsity Volleyball AWAY @ Durand
END:VEVENT
BEGIN:VEVENT
DTSTAMP:20260425T105727Z
UID:1ec79960-1a0d-4915-8892-789accac765a
DTSTART:20260521T150000
DTEND:20260521T173000
DESCRIPTION:
LOCATION:Middle School Softball Room/Outside Weather Permitting
SUMMARY:Varsity Softball Practice
END:VEVENT
BEGIN:VEVENT
DTSTAMP:20260425T105727Z
UID:44884ade-2843-4d4d-8bfe-642258dddef4
DTSTART:20260521T160000
DTEND:20260521T210000
DESCRIPTION:
LOCATION:
SUMMARY:Varsity Baseball Game AWAY @ Byron
END:VEVENT
BEGIN:VEVENT
DTSTAMP:20260425T105727Z
UID:13b98215-57a6-4d2e-aa60-ed128c03c4c6
DTSTART:20260522T150000
DTEND:20260522T170000
DESCRIPTION:
LOCATION:High School Gym/Outside Weather Permitting
SUMMARY:Varsity Baseball Practice
END:VEVENT
BEGIN:VEVENT
DTSTAMP:20260425T105727Z
UID:5de53411-a7f4-4517-9893-4b21036ab988
DTSTART:20260522T150000
DTEND:20260522T173000
DESCRIPTION:
LOCATION:Middle School Softball Room/Outside Weather Permitting
SUMMARY:Varsity Softball Practice
END:VEVENT
BEGIN:VEVENT
DTSTAMP:20260425T105727Z
UID:49fb6132-e1e3-43ed-b00f-560364551f82
DTSTART:20260525T150000
DTEND:20260525T170000
DESCRIPTION:
LOCATION:High School Gym/Outside Weather Permitting
SUMMARY:Varsity Baseball Practice
END:VEVENT
BEGIN:VEVENT
DTSTAMP:20260425T105727Z
UID:48c53df3-f42a-4981-a04f-dfdf6fc6ee67
DTSTART:20260525T150000
DTEND:20260525T173000
DESCRIPTION:
LOCATION:Middle School Softball Room/Outside Weather Permitting
SUMMARY:Varsity Softball Practice
END:VEVENT
BEGIN:VEVENT
DTSTAMP:20260425T105727Z
UID:ff39a3ad-c907-4a6d-8f35-dd71a639de5b
DTSTART:20260526T160000
DTEND:20260526T180000
DESCRIPTION:
LOCATION:
SUMMARY:Varsity Baseball Pre-Districts AWAY @ New Lothrop (TBD)
END:VEVENT
BEGIN:VEVENT
DTSTAMP:20260425T105727Z
UID:8ee90ada-be46-445d-8910-2a4b5fa83f37
DTSTART:20260526T160000
DTEND:20260526T190000
DESCRIPTION:
LOCATION:
SUMMARY:Varsity Softball Pre Districts AWAY @ Bendle (TBD)
END:VEVENT
BEGIN:VEVENT
DTSTAMP:20260425T105727Z
UID:389ceba3-702b-4a12-9ef5-f550d9c59d6b
DTSTART:20260526T170000
DTEND:20260526T200000
DESCRIPTION:
LOCATION:
SUMMARY:Boys Varsity Volleyball Regionals (TBD)
END:VEVENT
BEGIN:VEVENT
DTSTAMP:20260425T105727Z
UID:fd836793-e2ae-4fb7-83ba-c4d5eec3d1fc
DTSTART:20260527T150000
DTEND:20260527T170000
DESCRIPTION:
LOCATION:High School Gym/Outside Weather Permitting
SUMMARY:Varsity Baseball Practice
END:VEVENT
BEGIN:VEVENT
DTSTAMP:20260425T105727Z
UID:daaa198a-672c-4fce-9e8b-f4d852405a42
DTSTART:20260527T150000
DTEND:20260527T173000
DESCRIPTION:
LOCATION:Middle School Softball Room/Outside Weather Permitting
SUMMARY:Varsity Softball Practice
END:VEVENT
BEGIN:VEVENT
DTSTAMP:20260425T105727Z
UID:cdcdbf22-a569-459c-80e0-77e0177f84a3
DTSTART:20260527T170000
DTEND:20260527T200000
DESCRIPTION:
LOCATION:
SUMMARY:Boys Varsity Volleyball Regionals (TBD)
END:VEVENT
BEGIN:VEVENT
DTSTAMP:20260425T105727Z
UID:fc6aefd8-356c-46c5-95bc-46ead4ff0fe8
DTSTART:20260528T150000
DTEND:20260528T170000
DESCRIPTION:
LOCATION:High School Gym/Outside Weather Permitting
SUMMARY:Varsity Baseball Practice
END:VEVENT
BEGIN:VEVENT
DTSTAMP:20260425T105727Z
UID:0d4b177d-aa6f-4156-9f96-3af19515cac7
DTSTART:20260528T150000
DTEND:20260528T173000
DESCRIPTION:
LOCATION:Middle School Softball Room/Outside Weather Permitting
SUMMARY:Varsity Softball Practice
END:VEVENT
BEGIN:VEVENT
DTSTAMP:20260425T105727Z
UID:1dc4cc40-c312-4d61-958b-5750a371b6e4
DTSTART:20260528T170000
DTEND:20260528T200000
DESCRIPTION:
LOCATION:
SUMMARY:Boys Varsity Volleyball Regionals (TBD)
END:VEVENT
BEGIN:VEVENT
DTSTAMP:20260425T105727Z
UID:aeb4b612-90d9-4320-b8c7-78f3bde39077
DTSTART:20260529T150000
DTEND:20260529T170000
DESCRIPTION:
LOCATION:High School Gym/Outside Weather Permitting
SUMMARY:Varsity Baseball Practice
END:VEVENT
BEGIN:VEVENT
DTSTAMP:20260425T105727Z
UID:0617871b-39c8-4c9b-a71f-83c000363be5
DTSTART:20260529T150000
DTEND:20260529T173000
DESCRIPTION:
LOCATION:Middle School Softball Room/Outside Weather Permitting
SUMMARY:Varsity Softball Practice
END:VEVENT
BEGIN:VEVENT
DTSTAMP:20260425T105727Z
UID:b7519306-40df-4431-b170-c9b0a7eed351
DTSTART:20260529T170000
DTEND:20260529T200000
DESCRIPTION:
LOCATION:
SUMMARY:Boys Varsity Volleyball Regionals (TBD)
END:VEVENT
BEGIN:VEVENT
DTSTAMP:20260425T105727Z
UID:d7cb6ab2-6abf-450d-92b8-2f60cb256a1f
DTSTART:20260530T160000
DTEND:20260530T180000
DESCRIPTION:
LOCATION:
SUMMARY:Varsity Baseball Districts AWAY @ New Lothrop (TBD)
END:VEVENT
BEGIN:VEVENT
DTSTAMP:20260425T105727Z
UID:5227d730-7d8a-4c93-9672-a61019954814
DTSTART:20260530T160000
DTEND:20260530T180000
DESCRIPTION:
LOCATION:
SUMMARY:Varsity Baseball Districts AWAY @ New Lothrop (TBD)
END:VEVENT
BEGIN:VEVENT
DTSTAMP:20260425T105727Z
UID:c0c5f659-7a98-4283-b15c-1763a9970e8b
DTSTART:20260530T170000
DTEND:20260530T200000
DESCRIPTION:
LOCATION:
SUMMARY:Boys Varsity Volleyball Regionals (TBD)
END:VEVENT
END:VCALENDAR
