BEGIN:VCALENDAR
VERSION:2.0
PRODID:icalendar-ruby
CALSCALE:GREGORIAN
BEGIN:VTIMEZONE
TZID:America/New_York
BEGIN:DAYLIGHT
DTSTART:20260308T030000
TZOFFSETFROM:-0500
TZOFFSETTO:-0400
RRULE:FREQ=YEARLY;BYDAY=2SU;BYMONTH=3
TZNAME:EDT
END:DAYLIGHT
BEGIN:STANDARD
DTSTART:20261101T010000
TZOFFSETFROM:-0400
TZOFFSETTO:-0500
RRULE:FREQ=YEARLY;BYDAY=1SU;BYMONTH=11
TZNAME:EST
END:STANDARD
END:VTIMEZONE
BEGIN:VEVENT
DTSTAMP:20260423T153727Z
UID:62243e03-06a4-405f-a7f8-628dc8dab01d
DTSTART:20260423T120000
DTEND:20260423T130000
DESCRIPTION:<p>Amherst School District Families\,</p><p>Please <a target="_
 blank" rel="noopener noreferrer nofollow" href="https://docs.google.com/fo
 rms/d/e/1FAIpQLSfonGcQeckQIJWHRWC4owzax38gZgnfv4OGl5b2jyLi0EQZhQ/viewform"
  relative-link=""><strong>complete this form</strong></a> to reserve an Am
 herst Second Harvest Food Box for April 2026. <strong>Only one form per fa
 mily is needed.</strong></p><p>Food box pickup will take place at <strong>
 Steele High School</strong> on <strong>Thursday from 12:00–1:00 PM</stro
 ng>. To ensure enough food is available\, please <strong>RSVP by</strong> 
 <strong>Friday\, April 17</strong>. If you reserve a food box\, please mak
 e arrangements for pickup\, as orders are based on RSVP numbers.</p><p>If 
 you have questions or need help completing the form\, please contact <stro
 ng>Jill Maiorca\, School Social Worker</strong>\, at <a target="_blank" re
 l="noopener noreferrer nofollow" href="mailto:jill_maiorca@amherstk12.org"
 ><strong>jill_maiorca@amherstk12.org</strong></a> or <strong>440-988-1645<
 /strong>.</p>
LOCATION:450 Washington St\, Amherst\, OH 44001\, USA
SUMMARY:April Second Harvest Food Distribution 
END:VEVENT
BEGIN:VEVENT
DTSTAMP:20260423T153727Z
UID:8b49b191-b78d-400e-8737-b8f6e19b2031
DTSTART;VALUE=DATE:20260424
DTEND;VALUE=DATE:20260425
DESCRIPTION:
LOCATION:
SUMMARY:No Preschool Classes - Preschool Screenings
END:VEVENT
BEGIN:VEVENT
DTSTAMP:20260423T153727Z
UID:bcedfac4-fb71-411b-bfdf-f29786629239
DTSTART;VALUE=DATE:20260424
DTEND;VALUE=DATE:20260426
DESCRIPTION:
LOCATION:
SUMMARY:OMEA State LG Adjudications (HS Choir)
END:VEVENT
BEGIN:VEVENT
DTSTAMP:20260423T153727Z
UID:9f99e971-13f5-43a1-b40f-3aa99f7fb0b7
DTSTART:20260427T173000
DTEND:20260427T183000
DESCRIPTION:<p><a href="https://aptg.co/R6C96d" target="_blank" rel="noopen
 er noreferrer nofollow" path-prefix="">April 27th Regular Board meeting No
 tice </a></p>
LOCATION:450 Washington St\, Amherst\, OH 44001\, USA
SUMMARY:Regular Board Meeting 
END:VEVENT
BEGIN:VEVENT
DTSTAMP:20260423T153727Z
UID:2f265194-be46-4d03-ac85-dfa689f2d6ca
DTSTART:20260429T170000
DTEND:20260429T190000
DESCRIPTION:
LOCATION:393 S Lake St\, Amherst\, OH 44001\, USA
SUMMARY:Amherst Schools Summer Activity Fair 
END:VEVENT
BEGIN:VEVENT
DTSTAMP:20260423T153727Z
UID:a3858d2e-388a-42e2-a970-92a76eb587d8
DTSTART:20260507T190000
DTEND:20260507T203000
DESCRIPTION:
LOCATION:Marion L. Steele High School\, 450 Washington St\, Amherst\, OH 44
 001\, USA
SUMMARY:MLS Spring Band Concert
END:VEVENT
BEGIN:VEVENT
DTSTAMP:20260423T153727Z
UID:9c6c9dae-b6b7-48bb-b5d0-0b89384708c0
DTSTART:20260508T180000
DTEND:20260508T200000
DESCRIPTION:
LOCATION:Marion L. Steele High School\, 450 Washington St\, Amherst\, OH 44
 001\, USA
SUMMARY:MLS Theatre Banquet 
END:VEVENT
BEGIN:VEVENT
DTSTAMP:20260423T153727Z
UID:5bc480bb-ea65-4fae-8616-d084ad756c87
DTSTART:20260511T173000
DTEND:20260511T183000
DESCRIPTION:<p><a href="https://aptg.co/2Xy74g" target="_blank" rel="noopen
 er noreferrer nofollow" path-prefix="">May 11th Regular Board Meeting Noti
 ce </a></p>
LOCATION:393 S Lake St\, Amherst\, OH 44001\, USA
SUMMARY:Regular Board Meeting 
END:VEVENT
BEGIN:VEVENT
DTSTAMP:20260423T153727Z
UID:bac4ae1a-4132-472c-8aa3-4d4775a2dcb6
DTSTART;VALUE=DATE:20260515
DTEND;VALUE=DATE:20260517
DESCRIPTION:
LOCATION:Avon Lake High School\, 175 Avon Belden Rd\, Avon Lake\, OH 44012\
 , USA
SUMMARY:OMEA JH Large Group Adjudicated Events (7th Grade Band)
END:VEVENT
BEGIN:VEVENT
DTSTAMP:20260423T153727Z
UID:61e48080-175c-4375-9d40-1e58a4e22eb9
DTSTART:20260516T193000
DTEND:20260516T203000
DESCRIPTION:
LOCATION:Marion L. Steele High School\, 450 Washington St\, Amherst\, OH 44
 001\, USA
SUMMARY:The 58th Annual Pop Show
END:VEVENT
BEGIN:VEVENT
DTSTAMP:20260423T153727Z
UID:b923ee93-73d4-49ef-a49d-5f529ad72257
DTSTART:20260517T143000
DTEND:20260517T153000
DESCRIPTION:
LOCATION:Marion L. Steele High School\, 450 Washington St\, Amherst\, OH 44
 001\, USA
SUMMARY:The 58th Annual Pop Show
END:VEVENT
BEGIN:VEVENT
DTSTAMP:20260423T153727Z
UID:6f42cb49-9dab-4ce7-9853-287ccac0fefa
DTSTART:20260519T183000
DTEND:20260519T190000
DESCRIPTION:
LOCATION:Amherst Junior High School\, 548 Milan Ave\, Amherst\, OH 44001\, 
 USA
SUMMARY:AJH Spring Band Concert (6th Grade)
END:VEVENT
BEGIN:VEVENT
DTSTAMP:20260423T153727Z
UID:fa79543c-095c-4b95-83ad-5f1b3daebdb5
DTSTART:20260519T193000
DTEND:20260519T203000
DESCRIPTION:
LOCATION:Amherst Junior High School\, 548 Milan Ave\, Amherst\, OH 44001\, 
 USA
SUMMARY:AJH Spring Band Concert (
END:VEVENT
BEGIN:VEVENT
DTSTAMP:20260423T153727Z
UID:4c735f53-2576-4138-bad8-4023f89673a7
DTSTART:20260520T190000
DTEND:20260520T200000
DESCRIPTION:
LOCATION:Amherst Junior High School\, 548 Milan Ave\, Amherst\, OH 44001\, 
 USA
SUMMARY:AJH Spring Orchestra Concert
END:VEVENT
BEGIN:VEVENT
DTSTAMP:20260423T153727Z
UID:85d162c7-f684-4c4c-bc5f-13fe191242c9
DTSTART:20260521T190000
DTEND:20260521T200000
DESCRIPTION:
LOCATION:Amherst Junior High School\, 548 Milan Ave\, Amherst\, OH 44001\, 
 USA
SUMMARY:AJH Spring Choir Concert
END:VEVENT
BEGIN:VEVENT
DTSTAMP:20260423T153727Z
UID:78b65043-543f-421c-90f4-03d9d557aece
DTSTART;VALUE=DATE:20260522
DTEND;VALUE=DATE:20260523
DESCRIPTION:
LOCATION:
SUMMARY:Preschool Graduation 
END:VEVENT
BEGIN:VEVENT
DTSTAMP:20260423T153727Z
UID:86b8b5c1-87ff-4e4f-98e8-3463238a2afb
DTSTART:20260522T190000
DTEND:20260522T200000
DESCRIPTION:
LOCATION:Marion L. Steele High School\, 450 Washington St\, Amherst\, OH 44
 001\, USA
SUMMARY:MLS Orchestra Spring Concert 
END:VEVENT
BEGIN:VEVENT
DTSTAMP:20260423T153727Z
UID:285b7e14-8c2c-46ab-b2b4-4681fda590af
DTSTART;VALUE=DATE:20260523
DTEND;VALUE=DATE:20260524
DESCRIPTION:
LOCATION:
SUMMARY:MLS Orchestra Commencement
END:VEVENT
BEGIN:VEVENT
DTSTAMP:20260423T153727Z
UID:c5756199-d474-4790-991f-36d097139630
DTSTART:20260523T100000
DTEND:20260523T113000
DESCRIPTION:
LOCATION:Wolstein Center\, 2000 Prospect Ave E\, Cleveland\, OH 44115\, USA
SUMMARY:MLS Commencement 
END:VEVENT
BEGIN:VEVENT
DTSTAMP:20260423T153727Z
UID:233f6afe-9fbe-43e9-9c12-9502d186d265
DTSTART;VALUE=DATE:20260525
DTEND;VALUE=DATE:20260526
DESCRIPTION:
LOCATION:
SUMMARY:AMC at the Memorial Day Parade 
END:VEVENT
BEGIN:VEVENT
DTSTAMP:20260423T153727Z
UID:037e7534-2db0-4299-89e0-e34a9c23e482
DTSTART;VALUE=DATE:20260525
DTEND;VALUE=DATE:20260526
DESCRIPTION:
LOCATION:
SUMMARY:Memorial Day - No School 
END:VEVENT
BEGIN:VEVENT
DTSTAMP:20260423T153727Z
UID:0a45c97a-2fd5-4b39-892c-211c9280e524
DTSTART;VALUE=DATE:20260528
DTEND;VALUE=DATE:20260529
DESCRIPTION:
LOCATION:
SUMMARY:End of 4th Grading Period 
END:VEVENT
BEGIN:VEVENT
DTSTAMP:20260423T153727Z
UID:af68fded-94ae-4630-b5e8-126e74288f8b
DTSTART;VALUE=DATE:20260528
DTEND;VALUE=DATE:20260529
DESCRIPTION:
LOCATION:
SUMMARY:Last Day of School for Students
END:VEVENT
BEGIN:VEVENT
DTSTAMP:20260423T153727Z
UID:cfcf0803-2991-4db1-b30e-189c021fd035
DTSTART;VALUE=DATE:20260529
DTEND;VALUE=DATE:20260530
DESCRIPTION:
LOCATION:
SUMMARY:Staff Work Day 
END:VEVENT
BEGIN:VEVENT
DTSTAMP:20260423T153727Z
UID:da5f8523-97a2-4ac6-8166-2ec7cd8e887b
DTSTART:20260629T173000
DTEND:20260629T183000
DESCRIPTION:<p><a href="https://aptg.co/7GRdmy" target="_blank" rel="noopen
 er noreferrer nofollow" path-prefix="">June 29th regular Board Meeting Not
 ice </a></p>
LOCATION:450 Washington St\, Amherst\, OH 44001\, USA
SUMMARY:Regular Board Meeting 
END:VEVENT
BEGIN:VEVENT
DTSTAMP:20260423T153727Z
UID:d74fa385-2b8f-4d73-999b-0f7f7a44c899
DTSTART:20260727T080000
DTEND:20260727T090000
DESCRIPTION:<p><a href="https://aptg.co/NMBl9k" target="_blank" rel="noopen
 er noreferrer nofollow" path-prefix="">July 27th Board Meeting Notice </a>
 </p>
LOCATION:450 Washington St\, Amherst\, OH 44001\, USA
SUMMARY:Regular Board Meeting 
END:VEVENT
BEGIN:VEVENT
DTSTAMP:20260423T153727Z
UID:4569d477-ad5e-40cd-a021-8731ef3e45c5
DTSTART:20260810T173000
DTEND:20260810T183000
DESCRIPTION:<p><a href="https://aptg.co/vz__jn" target="_blank" rel="noopen
 er noreferrer nofollow" path-prefix="">August 10 Regular Board Meeting Not
 ice</a></p>
LOCATION:450 Washington St\, Amherst\, OH 44001\, USA
SUMMARY:Regular Board Meeting 
END:VEVENT
BEGIN:VEVENT
DTSTAMP:20260423T153727Z
UID:a27e635f-45b4-4cd5-8c94-b03ac8fb3a65
DTSTART:20260824T173000
DTEND:20260824T183000
DESCRIPTION:<p><a href="https://aptg.co/mPD2D2" target="_blank" rel="noopen
 er noreferrer nofollow" path-prefix="">August 24th Regular Board Meeting N
 otice</a></p>
LOCATION:450 Washington St\, Amherst\, OH 44001\, USA
SUMMARY:Regular Board Meeting 
END:VEVENT
BEGIN:VEVENT
DTSTAMP:20260423T153727Z
UID:96095341-3535-45bd-ab82-9e805758e28a
DTSTART:20260914T173000
DTEND:20260914T183000
DESCRIPTION:<p><a href="https://aptg.co/_hvX3Y" target="_blank" rel="noopen
 er noreferrer nofollow" path-prefix="">September 14th Regular Board Meetin
 g Notice </a></p>
LOCATION:
SUMMARY:Regular Board Meeting 
END:VEVENT
BEGIN:VEVENT
DTSTAMP:20260423T153727Z
UID:447c2fb9-8fe8-4414-8ebc-eb88dc363efb
DTSTART:20260928T173000
DTEND:20260928T183000
DESCRIPTION:<p><a href="https://aptg.co/6Cdp80" target="_blank" rel="noopen
 er noreferrer nofollow" path-prefix="">September 28th Regular Board Meetin
 g Notice</a></p>
LOCATION:450 Washington St\, Amherst\, OH 44001\, USA
SUMMARY:Regular Board Meeting 
END:VEVENT
BEGIN:VEVENT
DTSTAMP:20260423T153727Z
UID:61db115d-e7b3-4532-acf8-be503f47e9ce
DTSTART:20261026T173000
DTEND:20261026T183000
DESCRIPTION:<p><a href="https://aptg.co/3Q9RlV" target="_blank" rel="noopen
 er noreferrer nofollow" path-prefix="">October 26th Regular Board Meeting 
 Notice</a></p>
LOCATION:450 Washington St\, Amherst\, OH 44001\, USA
SUMMARY:Regular Board Meeting 
END:VEVENT
BEGIN:VEVENT
DTSTAMP:20260423T153727Z
UID:b0c25580-7a74-45f8-b962-c9ff750f05bc
DTSTART:20261123T173000
DTEND:20261123T183000
DESCRIPTION:<p><a href="https://aptg.co/_6Kfd7" target="_blank" rel="noopen
 er noreferrer nofollow" path-prefix="">November 23rd Regular Board Meeting
  Notice </a></p>
LOCATION:450 Washington St\, Amherst\, OH 44001\, USA
SUMMARY:Regular Board Meeting 
END:VEVENT
BEGIN:VEVENT
DTSTAMP:20260423T153727Z
UID:e759109d-7fae-4f07-89f5-ab5659aaf33d
DTSTART:20261214T173000
DTEND:20261214T183000
DESCRIPTION:<p><a href="https://aptg.co/lQtPPd" target="_blank" rel="noopen
 er noreferrer nofollow" path-prefix="">December 14th Regular Board Meeting
  Notice </a></p>
LOCATION:450 Washington St\, Amherst\, OH 44001\, USA
SUMMARY:Regular Board Meeting 
END:VEVENT
END:VCALENDAR
