BEGIN:VCALENDAR
VERSION:2.0
PRODID:icalendar-ruby
CALSCALE:GREGORIAN
BEGIN:VTIMEZONE
TZID:America/Los_Angeles
BEGIN:DAYLIGHT
DTSTART:20260308T030000
TZOFFSETFROM:-0800
TZOFFSETTO:-0700
RRULE:FREQ=YEARLY;BYDAY=2SU;BYMONTH=3
TZNAME:PDT
END:DAYLIGHT
BEGIN:STANDARD
DTSTART:20261101T010000
TZOFFSETFROM:-0700
TZOFFSETTO:-0800
RRULE:FREQ=YEARLY;BYDAY=1SU;BYMONTH=11
TZNAME:PST
END:STANDARD
END:VTIMEZONE
BEGIN:VEVENT
DTSTAMP:20260425T183345Z
UID:4fed7e64-9975-405e-b682-c9457e32af40
DTSTART:20260429T133000
DTEND:20260429T134500
DESCRIPTION:
LOCATION:
SUMMARY:Evacuation Drill
END:VEVENT
BEGIN:VEVENT
DTSTAMP:20260425T183345Z
UID:1900a8ea-158a-4c17-8440-e687cb852496
DTSTART:20260501T081000
DTEND:20260501T090000
DESCRIPTION:
LOCATION:
SUMMARY:Breakfast and Books
END:VEVENT
BEGIN:VEVENT
DTSTAMP:20260425T183345Z
UID:38e80749-b9b1-4bdd-acb2-9bf92ceedaa4
DTSTART;VALUE=DATE:20260504
DTEND;VALUE=DATE:20260509
DESCRIPTION:
LOCATION:
SUMMARY:Teacher Appreciation Week
END:VEVENT
BEGIN:VEVENT
DTSTAMP:20260425T183345Z
UID:015009e5-3a4c-4ef3-938f-5cb89ef95ab2
DTSTART:20260504T093000
DTEND:20260504T143000
DESCRIPTION:
LOCATION:
SUMMARY:Scholastic Buy One\, Get One Free Book Fair Begins
END:VEVENT
BEGIN:VEVENT
DTSTAMP:20260425T183345Z
UID:2a48cc59-f408-4a99-9443-79ebc5609d29
DTSTART:20260505T093000
DTEND:20260505T143000
DESCRIPTION:
LOCATION:
SUMMARY:Scholastic Buy One\, Get One Free Book Fair 
END:VEVENT
BEGIN:VEVENT
DTSTAMP:20260425T183345Z
UID:01294640-225f-4916-b9df-c3b0ace9ddea
DTSTART:20260506T093000
DTEND:20260506T143000
DESCRIPTION:
LOCATION:
SUMMARY:Scholastic Buy One\, Get One Free Book Fair 
END:VEVENT
BEGIN:VEVENT
DTSTAMP:20260425T183345Z
UID:adc4205b-fabd-452d-a247-994b60adb3c1
DTSTART:20260507T093000
DTEND:20260507T143000
DESCRIPTION:
LOCATION:
SUMMARY:Scholastic Buy One\, Get One Free Book Fair 
END:VEVENT
BEGIN:VEVENT
DTSTAMP:20260425T183345Z
UID:44168e3a-070f-47ae-bec4-20c950e6ad30
DTSTART:20260508T093000
DTEND:20260508T143000
DESCRIPTION:
LOCATION:
SUMMARY:Scholastic Buy One\, Get One Free Book Fair 
END:VEVENT
BEGIN:VEVENT
DTSTAMP:20260425T183345Z
UID:73f51032-debe-41fc-ab80-5534932f7d50
DTSTART:20260508T111500
DTEND:20260508T131500
DESCRIPTION:
LOCATION:
SUMMARY:Family Literacy Picnic
END:VEVENT
BEGIN:VEVENT
DTSTAMP:20260425T183345Z
UID:6251e92e-9680-43f6-8b86-e75c408b827c
DTSTART:20260519T140000
DTEND:20260519T150000
DESCRIPTION:
LOCATION:
SUMMARY:Kindergarten Graduation
END:VEVENT
BEGIN:VEVENT
DTSTAMP:20260425T183345Z
UID:f84a4245-f717-4088-bafe-19557777f184
DTSTART;VALUE=DATE:20260520
DTEND;VALUE=DATE:20260521
DESCRIPTION:
LOCATION:
SUMMARY:Field Day
END:VEVENT
BEGIN:VEVENT
DTSTAMP:20260425T183345Z
UID:b336589f-a83d-4ca9-95dc-b53db17cdd5f
DTSTART;VALUE=DATE:20260521
DTEND;VALUE=DATE:20260522
DESCRIPTION:
LOCATION:
SUMMARY:End of Quarter 4/Semester 2
END:VEVENT
BEGIN:VEVENT
DTSTAMP:20260425T183345Z
UID:8ab19279-d3af-492b-9358-98b5dd44ea55
DTSTART;VALUE=DATE:20260521
DTEND;VALUE=DATE:20260522
DESCRIPTION:
LOCATION:
SUMMARY:Last Day of School (Minimum Day)
END:VEVENT
BEGIN:VEVENT
DTSTAMP:20260425T183345Z
UID:800be2e2-f11f-4495-843c-958849f35af1
DTSTART;VALUE=DATE:20260525
DTEND;VALUE=DATE:20260526
DESCRIPTION:
LOCATION:
SUMMARY:Memorial Day Holiday
END:VEVENT
BEGIN:VEVENT
DTSTAMP:20260425T183345Z
UID:7e459d17-634f-49fa-af2c-143692947b14
DTSTART;VALUE=DATE:20260619
DTEND;VALUE=DATE:20260620
DESCRIPTION:
LOCATION:
SUMMARY:Juneteenth Holiday
END:VEVENT
BEGIN:VEVENT
DTSTAMP:20260425T183345Z
UID:0eaadff8-812a-4f19-9195-22ad1faff64d
DTSTART;VALUE=DATE:20260703
DTEND;VALUE=DATE:20260704
DESCRIPTION:
LOCATION:
SUMMARY:Independence Day Holiday (July 4th Observed)
END:VEVENT
BEGIN:VEVENT
DTSTAMP:20260425T183345Z
UID:f4ed042d-194f-49e5-833e-99eca7d37da0
DTSTART;VALUE=DATE:20260805
DTEND;VALUE=DATE:20260806
DESCRIPTION:
LOCATION:
SUMMARY:First Day of School
END:VEVENT
BEGIN:VEVENT
DTSTAMP:20260425T183345Z
UID:38002755-6848-4cd9-8172-8c54904330ad
DTSTART;VALUE=DATE:20260814
DTEND;VALUE=DATE:20260815
DESCRIPTION:
LOCATION:
SUMMARY:Inservice Day - No School for Students
END:VEVENT
BEGIN:VEVENT
DTSTAMP:20260425T183345Z
UID:9f957440-620e-4f9c-a48e-35b0883d3614
DTSTART;VALUE=DATE:20260817
DTEND;VALUE=DATE:20260818
DESCRIPTION:
LOCATION:
SUMMARY:First Day for PreK - All Schools
END:VEVENT
BEGIN:VEVENT
DTSTAMP:20260425T183345Z
UID:d4bd6775-e31a-48f8-ba83-feffed69b03e
DTSTART;VALUE=DATE:20260907
DTEND;VALUE=DATE:20260908
DESCRIPTION:
LOCATION:
SUMMARY:Labor Day - No School
END:VEVENT
BEGIN:VEVENT
DTSTAMP:20260425T183345Z
UID:bd5f373c-754b-4e7b-9778-18283051f6c9
DTSTART;VALUE=DATE:20260914
DTEND;VALUE=DATE:20260915
DESCRIPTION:
LOCATION:
SUMMARY:Inservice Day - No School for Students
END:VEVENT
BEGIN:VEVENT
DTSTAMP:20260425T183345Z
UID:5504a1a3-1d3b-42e3-82c5-5125050feaa4
DTSTART;VALUE=DATE:20261007
DTEND;VALUE=DATE:20261008
DESCRIPTION:
LOCATION:
SUMMARY:Quarter 1 Ends
END:VEVENT
BEGIN:VEVENT
DTSTAMP:20260425T183345Z
UID:e028c509-e1b7-4c94-84d8-4ce149d2519e
DTSTART;VALUE=DATE:20261008
DTEND;VALUE=DATE:20261009
DESCRIPTION:
LOCATION:
SUMMARY:Quarter 2 Begins
END:VEVENT
BEGIN:VEVENT
DTSTAMP:20260425T183345Z
UID:69c40d0c-1082-4b6b-afcc-5e830caf067f
DTSTART;VALUE=DATE:20261016
DTEND;VALUE=DATE:20261017
DESCRIPTION:
LOCATION:
SUMMARY:Inservice Day - No School for Students
END:VEVENT
BEGIN:VEVENT
DTSTAMP:20260425T183345Z
UID:a1694ccd-ccb2-43d0-8259-60e15464b999
DTSTART;VALUE=DATE:20261020
DTEND;VALUE=DATE:20261021
DESCRIPTION:This is a minimum day for the schools having conferences.
LOCATION:
SUMMARY:Parent Teacher Conferences - Pahrump Elementaries
END:VEVENT
BEGIN:VEVENT
DTSTAMP:20260425T183345Z
UID:76f1af9c-ddb2-41b2-95b3-5a31a649ef6b
DTSTART;VALUE=DATE:20261021
DTEND;VALUE=DATE:20261022
DESCRIPTION:This is a minimum day for the schools having conferences.
LOCATION:
SUMMARY:Parent Teacher Conferences - RCMS
END:VEVENT
BEGIN:VEVENT
DTSTAMP:20260425T183345Z
UID:0d45b2fc-d140-40aa-8618-9febe3405f01
DTSTART;VALUE=DATE:20261022
DTEND;VALUE=DATE:20261023
DESCRIPTION:This is a minimum day for the schools having conferences.
LOCATION:
SUMMARY:Parent Teacher Conferences - PVHS
END:VEVENT
BEGIN:VEVENT
DTSTAMP:20260425T183345Z
UID:698b5bf7-2134-4714-be10-8245d62de6d8
DTSTART;VALUE=DATE:20261030
DTEND;VALUE=DATE:20261031
DESCRIPTION:
LOCATION:
SUMMARY:Nevada Day Observed - No School
END:VEVENT
BEGIN:VEVENT
DTSTAMP:20260425T183345Z
UID:d8c2883f-4b77-4a0b-a500-3f4eb615bf96
DTSTART;VALUE=DATE:20261111
DTEND;VALUE=DATE:20261112
DESCRIPTION:
LOCATION:
SUMMARY:Veteran's Day - No School
END:VEVENT
BEGIN:VEVENT
DTSTAMP:20260425T183345Z
UID:2c42e6cf-ae8e-49b7-a77a-9ce522ee4e82
DTSTART;VALUE=DATE:20261120
DTEND;VALUE=DATE:20261121
DESCRIPTION:
LOCATION:
SUMMARY:Minimum Day
END:VEVENT
BEGIN:VEVENT
DTSTAMP:20260425T183345Z
UID:85197782-093f-475b-82b7-e8cb91f34509
DTSTART;VALUE=DATE:20261123
DTEND;VALUE=DATE:20261124
DESCRIPTION:
LOCATION:
SUMMARY:Fall Break - No School
END:VEVENT
BEGIN:VEVENT
DTSTAMP:20260425T183345Z
UID:24cefb70-ff3d-4b43-b95b-775a4e98ba3f
DTSTART;VALUE=DATE:20261124
DTEND;VALUE=DATE:20261125
DESCRIPTION:
LOCATION:
SUMMARY:Fall Break - No School
END:VEVENT
BEGIN:VEVENT
DTSTAMP:20260425T183345Z
UID:4d8f6621-910f-4219-9bd7-2d80f08714b3
DTSTART;VALUE=DATE:20261125
DTEND;VALUE=DATE:20261126
DESCRIPTION:
LOCATION:
SUMMARY:Fall Break - No School
END:VEVENT
BEGIN:VEVENT
DTSTAMP:20260425T183345Z
UID:d1a6eb66-85f5-4f6c-b57e-5e1a6181998a
DTSTART;VALUE=DATE:20261126
DTEND;VALUE=DATE:20261127
DESCRIPTION:
LOCATION:
SUMMARY:Thanksgiving Holiday - No School
END:VEVENT
BEGIN:VEVENT
DTSTAMP:20260425T183345Z
UID:d6349c8b-e186-4a2e-8699-3bb7441dee9e
DTSTART;VALUE=DATE:20261127
DTEND;VALUE=DATE:20261128
DESCRIPTION:
LOCATION:
SUMMARY:Fall Break - No School
END:VEVENT
BEGIN:VEVENT
DTSTAMP:20260425T183345Z
UID:93b58e2d-9fb6-48d8-9c9d-5e46452e54dd
DTSTART;VALUE=DATE:20261218
DTEND;VALUE=DATE:20261219
DESCRIPTION:
LOCATION:
SUMMARY:Minimum Day\nEnd of Quarter 2 & Semester 1
END:VEVENT
BEGIN:VEVENT
DTSTAMP:20260425T183345Z
UID:5f8ca622-fa65-4c99-8c8e-433a99996a7e
DTSTART;VALUE=DATE:20261221
DTEND;VALUE=DATE:20261222
DESCRIPTION:
LOCATION:
SUMMARY:Winter Break
END:VEVENT
BEGIN:VEVENT
DTSTAMP:20260425T183345Z
UID:d5fcc941-260b-4d85-8867-f4a53a39d77e
DTSTART;VALUE=DATE:20261222
DTEND;VALUE=DATE:20261223
DESCRIPTION:
LOCATION:
SUMMARY:Winter Break
END:VEVENT
BEGIN:VEVENT
DTSTAMP:20260425T183345Z
UID:77141410-0b4b-46bc-bf41-8015fc31e479
DTSTART;VALUE=DATE:20261223
DTEND;VALUE=DATE:20261224
DESCRIPTION:
LOCATION:
SUMMARY:Winter Break
END:VEVENT
BEGIN:VEVENT
DTSTAMP:20260425T183345Z
UID:90d219bf-2ea3-49c1-ac65-8f9647b561fa
DTSTART;VALUE=DATE:20261224
DTEND;VALUE=DATE:20261225
DESCRIPTION:
LOCATION:
SUMMARY:Winter Break
END:VEVENT
BEGIN:VEVENT
DTSTAMP:20260425T183345Z
UID:26a1870f-e5c2-4ed4-b9ce-7cb980063056
DTSTART;VALUE=DATE:20261225
DTEND;VALUE=DATE:20261226
DESCRIPTION:
LOCATION:
SUMMARY:Christmas Holiday
END:VEVENT
BEGIN:VEVENT
DTSTAMP:20260425T183345Z
UID:4ba15e5b-fa20-4f55-b894-4b601238cd99
DTSTART;VALUE=DATE:20261228
DTEND;VALUE=DATE:20261229
DESCRIPTION:
LOCATION:
SUMMARY:Winter Break
END:VEVENT
BEGIN:VEVENT
DTSTAMP:20260425T183345Z
UID:964c0478-d45a-4974-906d-5ce4da086333
DTSTART;VALUE=DATE:20261229
DTEND;VALUE=DATE:20261230
DESCRIPTION:
LOCATION:
SUMMARY:Winter Break
END:VEVENT
BEGIN:VEVENT
DTSTAMP:20260425T183345Z
UID:71377e91-dc3e-4a98-bf5c-47b9a21443a0
DTSTART;VALUE=DATE:20261230
DTEND;VALUE=DATE:20261231
DESCRIPTION:
LOCATION:
SUMMARY:Winter Break
END:VEVENT
BEGIN:VEVENT
DTSTAMP:20260425T183345Z
UID:32578878-1839-4c65-b88f-1612a2c7e078
DTSTART;VALUE=DATE:20261231
DTEND;VALUE=DATE:20270101
DESCRIPTION:
LOCATION:
SUMMARY:Winter Break
END:VEVENT
BEGIN:VEVENT
DTSTAMP:20260425T183345Z
UID:0e3bbc8a-f895-4043-8ea2-be9295e8df86
DTSTART;VALUE=DATE:20270101
DTEND;VALUE=DATE:20270102
DESCRIPTION:
LOCATION:
SUMMARY:New Year's Holiday - Winter Break
END:VEVENT
BEGIN:VEVENT
DTSTAMP:20260425T183345Z
UID:0af8e4d0-7aa3-410c-83ab-d6f6ef51ffb8
DTSTART;VALUE=DATE:20270104
DTEND;VALUE=DATE:20270105
DESCRIPTION:
LOCATION:
SUMMARY:First day of Quarter 3 and Semester 2
END:VEVENT
BEGIN:VEVENT
DTSTAMP:20260425T183345Z
UID:22ae4276-ef0a-4d18-9bb3-c0ad4305b64c
DTSTART;VALUE=DATE:20270118
DTEND;VALUE=DATE:20270119
DESCRIPTION:
LOCATION:
SUMMARY:Martin Luther King Jr. Day - No School
END:VEVENT
BEGIN:VEVENT
DTSTAMP:20260425T183345Z
UID:bb26962f-6d33-4724-889a-fe12298b02b3
DTSTART;VALUE=DATE:20270201
DTEND;VALUE=DATE:20270202
DESCRIPTION:No school for Grades PreK-5. Grades 6-12 are have school.
LOCATION:
SUMMARY:Elementary School Conferences - No school for Grades PreK-5. Grades
  6-12 are have school.
END:VEVENT
BEGIN:VEVENT
DTSTAMP:20260425T183345Z
UID:3859f85c-4696-4c1e-be4b-b2c7e87b8ae0
DTSTART;VALUE=DATE:20270205
DTEND;VALUE=DATE:20270206
DESCRIPTION:
LOCATION:
SUMMARY:Inservice Day - No School for Students
END:VEVENT
BEGIN:VEVENT
DTSTAMP:20260425T183345Z
UID:6bbd6110-cf6a-4ee6-bcb1-e83f71f7bc27
DTSTART;VALUE=DATE:20270214
DTEND;VALUE=DATE:20270215
DESCRIPTION:
LOCATION:
SUMMARY:Super Bowl Sunday & Valentine's Day
END:VEVENT
BEGIN:VEVENT
DTSTAMP:20260425T183345Z
UID:f427bdb7-6f04-4b36-83bf-252678e4efdc
DTSTART;VALUE=DATE:20270215
DTEND;VALUE=DATE:20270216
DESCRIPTION:
LOCATION:
SUMMARY:Presidents' Day - No School
END:VEVENT
BEGIN:VEVENT
DTSTAMP:20260425T183345Z
UID:5298032c-a9de-48c6-86d6-3601bb2f5843
DTSTART;VALUE=DATE:20270301
DTEND;VALUE=DATE:20270302
DESCRIPTION:
LOCATION:
SUMMARY:Inservice Day - No School for Students\nNevada Reading Week
END:VEVENT
BEGIN:VEVENT
DTSTAMP:20260425T183345Z
UID:3e611e0a-17d2-44d2-84eb-040a26ef1b0c
DTSTART;VALUE=DATE:20270302
DTEND;VALUE=DATE:20270303
DESCRIPTION:
LOCATION:
SUMMARY:Nevada Reading Week
END:VEVENT
BEGIN:VEVENT
DTSTAMP:20260425T183345Z
UID:4694bfc0-ad79-421a-b4c0-9c1daa6c8c5f
DTSTART;VALUE=DATE:20270303
DTEND;VALUE=DATE:20270304
DESCRIPTION:
LOCATION:
SUMMARY:Nevada Reading Week
END:VEVENT
BEGIN:VEVENT
DTSTAMP:20260425T183345Z
UID:8055ce07-9a95-4011-9b32-58a3289e7785
DTSTART;VALUE=DATE:20270304
DTEND;VALUE=DATE:20270305
DESCRIPTION:
LOCATION:
SUMMARY:Nevada Reading Week
END:VEVENT
BEGIN:VEVENT
DTSTAMP:20260425T183345Z
UID:e5ed00f8-d575-4d63-abe0-182a070118af
DTSTART;VALUE=DATE:20270305
DTEND;VALUE=DATE:20270306
DESCRIPTION:
LOCATION:
SUMMARY:Nevada Reading Week
END:VEVENT
BEGIN:VEVENT
DTSTAMP:20260425T183345Z
UID:7dbe5db4-b415-4391-9399-09fa6e2c69a4
DTSTART;VALUE=DATE:20270308
DTEND;VALUE=DATE:20270309
DESCRIPTION:These are not regular school days for students to attend. These
  are make-up days if we have to cancel school for an unforeseen reasons\, 
 like a snow day.
LOCATION:
SUMMARY:Contingency Day - No School for Students
END:VEVENT
BEGIN:VEVENT
DTSTAMP:20260425T183345Z
UID:91b98bf0-239e-4121-ace5-a80eab12c12c
DTSTART;VALUE=DATE:20270309
DTEND;VALUE=DATE:20270310
DESCRIPTION:
LOCATION:
SUMMARY:Quarter 3 Ends
END:VEVENT
BEGIN:VEVENT
DTSTAMP:20260425T183345Z
UID:74592ac0-19f0-4c40-b363-9441eafe0add
DTSTART;VALUE=DATE:20270310
DTEND;VALUE=DATE:20270311
DESCRIPTION:
LOCATION:
SUMMARY:Quarter 4 Begins
END:VEVENT
BEGIN:VEVENT
DTSTAMP:20260425T183345Z
UID:30db0b0f-4f7c-4184-a94e-9adb36d67660
DTSTART;VALUE=DATE:20270326
DTEND;VALUE=DATE:20270327
DESCRIPTION:
LOCATION:
SUMMARY:Minimum Day
END:VEVENT
BEGIN:VEVENT
DTSTAMP:20260425T183345Z
UID:5a0c3bd0-2b6d-4ad5-ae82-85bc31b794b2
DTSTART;VALUE=DATE:20270328
DTEND;VALUE=DATE:20270329
DESCRIPTION:
LOCATION:
SUMMARY:Easter Sunday
END:VEVENT
BEGIN:VEVENT
DTSTAMP:20260425T183345Z
UID:247a9218-d279-400b-a208-7d79d6c1ecbd
DTSTART;VALUE=DATE:20270329
DTEND;VALUE=DATE:20270330
DESCRIPTION:
LOCATION:
SUMMARY:Spring Break
END:VEVENT
BEGIN:VEVENT
DTSTAMP:20260425T183345Z
UID:485e2121-93e2-4b87-825f-80351da467e8
DTSTART;VALUE=DATE:20270330
DTEND;VALUE=DATE:20270331
DESCRIPTION:
LOCATION:
SUMMARY:Spring Break
END:VEVENT
BEGIN:VEVENT
DTSTAMP:20260425T183345Z
UID:a0d21af5-f36f-468a-bd5e-06b86986f581
DTSTART;VALUE=DATE:20270331
DTEND;VALUE=DATE:20270401
DESCRIPTION:
LOCATION:
SUMMARY:Spring Break
END:VEVENT
BEGIN:VEVENT
DTSTAMP:20260425T183345Z
UID:225b94c2-0573-46a8-8d33-0c7eef4c9c8e
DTSTART;VALUE=DATE:20270401
DTEND;VALUE=DATE:20270402
DESCRIPTION:
LOCATION:
SUMMARY:Spring Break
END:VEVENT
BEGIN:VEVENT
DTSTAMP:20260425T183345Z
UID:92d8bc74-2b31-45c7-9c70-db84cef8b3db
DTSTART;VALUE=DATE:20270402
DTEND;VALUE=DATE:20270403
DESCRIPTION:
LOCATION:
SUMMARY:Spring Break
END:VEVENT
BEGIN:VEVENT
DTSTAMP:20260425T183345Z
UID:92026582-c1e3-4e2b-acee-866fc0aecb0d
DTSTART:20270504T093000
DTEND:20270504T143000
DESCRIPTION:
LOCATION:
SUMMARY:Buy One\, Get One Free Book Fair
END:VEVENT
BEGIN:VEVENT
DTSTAMP:20260425T183345Z
UID:e901715d-b8f2-4721-81f4-1291e04f5a04
DTSTART:20270505T093000
DTEND:20270505T143000
DESCRIPTION:
LOCATION:
SUMMARY: Buy One\, Get One Free Book Fair
END:VEVENT
BEGIN:VEVENT
DTSTAMP:20260425T183345Z
UID:e86bbd7b-ab50-4433-8653-70e252a4e4cb
DTSTART:20270506T093000
DTEND:20270506T143000
DESCRIPTION:
LOCATION:
SUMMARY: Buy One\, Get One Free Book Fair
END:VEVENT
BEGIN:VEVENT
DTSTAMP:20260425T183345Z
UID:9d483023-75a3-4319-86f7-c6d2683098c7
DTSTART;VALUE=DATE:20270519
DTEND;VALUE=DATE:20270520
DESCRIPTION:All Schools
LOCATION:
SUMMARY:Last Day of School - Minimum Day
END:VEVENT
BEGIN:VEVENT
DTSTAMP:20260425T183345Z
UID:81a096e3-75d8-4226-a95a-231f5d60d948
DTSTART;VALUE=DATE:20270520
DTEND;VALUE=DATE:20270521
DESCRIPTION:These are not regular school days for students to attend. These
  are make-up days if we have to cancel school for an unforeseen reasons\, 
 like a snow day.
LOCATION:
SUMMARY:Contingency Day - All Schools
END:VEVENT
BEGIN:VEVENT
DTSTAMP:20260425T183345Z
UID:db09d2e8-e1da-4f5b-9fd5-da172d610ef6
DTSTART;VALUE=DATE:20270521
DTEND;VALUE=DATE:20270522
DESCRIPTION:These are not regular school days for students to attend. These
  are make-up days if we have to cancel school for an unforeseen reasons\, 
 like a snow day.
LOCATION:
SUMMARY:Contingency Day - All Schools
END:VEVENT
BEGIN:VEVENT
DTSTAMP:20260425T183345Z
UID:e655ba6e-730f-46b2-83df-474d1f2aae26
DTSTART;VALUE=DATE:20270524
DTEND;VALUE=DATE:20270525
DESCRIPTION:These are not regular school days for students to attend. These
  are make-up days if we have to cancel school for an unforeseen reasons\, 
 like a snow day.
LOCATION:
SUMMARY:Contingency Day - All Schools
END:VEVENT
BEGIN:VEVENT
DTSTAMP:20260425T183345Z
UID:fd2fa7a4-e5ca-4486-bba0-d6ef57f226a4
DTSTART;VALUE=DATE:20270525
DTEND;VALUE=DATE:20270526
DESCRIPTION:These are not regular school days for students to attend. These
  are make-up days if we have to cancel school for an unforeseen reasons\, 
 like a snow day.
LOCATION:
SUMMARY:Contingency Day - All Schools
END:VEVENT
BEGIN:VEVENT
DTSTAMP:20260425T183345Z
UID:0dfc1fa6-4392-41b5-a32d-d4168bf580cb
DTSTART;VALUE=DATE:20270526
DTEND;VALUE=DATE:20270527
DESCRIPTION:These are not regular school days for students to attend. These
  are make-up days if we have to cancel school for an unforeseen reasons\, 
 like a snow day.
LOCATION:
SUMMARY:Contingency Day - All Schools
END:VEVENT
END:VCALENDAR
