BEGIN:VCALENDAR
VERSION:2.0
PRODID:icalendar-ruby
CALSCALE:GREGORIAN
BEGIN:VTIMEZONE
TZID:America/New_York
BEGIN:DAYLIGHT
DTSTART:20260308T030000
TZOFFSETFROM:-0500
TZOFFSETTO:-0400
RRULE:FREQ=YEARLY;BYDAY=2SU;BYMONTH=3
TZNAME:EDT
END:DAYLIGHT
BEGIN:STANDARD
DTSTART:20261101T010000
TZOFFSETFROM:-0400
TZOFFSETTO:-0500
RRULE:FREQ=YEARLY;BYDAY=1SU;BYMONTH=11
TZNAME:EST
END:STANDARD
END:VTIMEZONE
BEGIN:VEVENT
DTSTAMP:20260426T000945Z
UID:5041218a-3a3c-4d26-a47a-d12bd1551182
DTSTART:20260429T080000
DTEND:20260429T150000
DESCRIPTION:
LOCATION:
SUMMARY:SAT/WIN/MSTEP/PSAT Testing MakeUps
END:VEVENT
BEGIN:VEVENT
DTSTAMP:20260426T000945Z
UID:acff5d8e-87a4-4fc0-95c0-3650b60b56aa
DTSTART:20260502T190000
DTEND:20260502T220000
DESCRIPTION:Event ID: EVT-20260415-009\n\n2026 Hastings High School Jr. Sr.
  Prom\nTheme:  Roaring 20's\n\nUpdate History\n• 04/17 Prom Tickets & Gu
 ests - Prom tickets will go on sale on Wednesday\, April 22!  Tickets are 
 $35 each. You may purchase tickets at lunch in the cafeteria or at other t
 imes in the day from Mrs. Newbery in Room B123.  Please bring cash or chec
 ks made out to "Hastings High School".\nIf you are bringing a non-HHS stud
 ent\, you must complete a guest form and return it before May 1. Guests mu
 st be under 20 years old and at least in ninth grade. Be prepared that you
 r guest form must be filled out by other schools and will take a few days 
 to process!\nIf you have any questions\, please reach out to Mrs. Newbery.
   I am looking forward to seeing you dressed in your best and ready to hav
 e a great time!\n• 04/22 Prom Song Requests - Please send us suggestions
  for music you would like to have played at prom...this is not a guarantee
  that we can fit every suggestion in!\nhttps://docs.google.com/forms/d/e/1
 FAIpQLSeAmIGIDeQpbwF48x0Ejn1kJJt-rzyBMfqbPXvNlh5I7BZojg/viewform?usp=publi
 sh-editor
LOCATION:Venue 1230\n1230 N Michigan Ave\nHastings\, MI  49058
SUMMARY:HHS Jr./Sr. Prom
END:VEVENT
BEGIN:VEVENT
DTSTAMP:20260426T000945Z
UID:2d67b4b9-3ea5-40e9-8b5e-ab5bf50b73ff
DTSTART:20260505T190000
DTEND:20260505T210000
DESCRIPTION:We invite all to attend this final performance of our HS Band D
 epartment.  In addition\, awards will be presented to all members.<b></b>
LOCATION:HPAC\, 520 W South St\, Hastings\, MI 49058\, USA
SUMMARY:HS Spring Band Concert & Awards
END:VEVENT
BEGIN:VEVENT
DTSTAMP:20260426T000945Z
UID:97358f46-d325-472d-83cc-d22cf0109f60
DTSTART:20260527T080000
DTEND:20260527T092000
DESCRIPTION:Event ID: GCAL-7jcf3ab74s5klsu12i83o709bh_google_com
LOCATION:Hastings High School\, 520 W South St\, Hastings\, MI 49058\, USA
SUMMARY:6th Hour Exam
END:VEVENT
BEGIN:VEVENT
DTSTAMP:20260426T000945Z
UID:8c994dca-afa2-449e-9592-869d8e0f38ab
DTSTART:20260527T093000
DTEND:20260527T105000
DESCRIPTION:Event ID: GCAL-561nfdhb32pvkfe5evbr99c717_google_com
LOCATION:Hastings High School\, 520 W South St\, Hastings\, MI 49058\, USA
SUMMARY:5th Hour Exam
END:VEVENT
BEGIN:VEVENT
DTSTAMP:20260426T000945Z
UID:4d07ac82-0ce6-4aa2-bf68-0dbfe550aeb1
DTSTART:20260528T080000
DTEND:20260528T092000
DESCRIPTION:Event ID: GCAL-10glburq4gr9g2g4p62k0lorn9_google_com
LOCATION:Hastings High School\, 520 W South St\, Hastings\, MI 49058\, USA
SUMMARY:4th Hour Exam
END:VEVENT
BEGIN:VEVENT
DTSTAMP:20260426T000945Z
UID:27db46c6-c2af-4e4f-9b69-01beba517495
DTSTART:20260528T093000
DTEND:20260528T105000
DESCRIPTION:Event ID: GCAL-202mnghibivi48v8j43dib6hk4_google_com
LOCATION:Hastings High School\, 520 W South St\, Hastings\, MI 49058\, USA
SUMMARY:3rd Hour Exam
END:VEVENT
BEGIN:VEVENT
DTSTAMP:20260426T000945Z
UID:aa813786-e204-4853-9bad-6775006f68db
DTSTART:20260529T080000
DTEND:20260529T092000
DESCRIPTION:Event ID: GCAL-7io9tcs7mq84opbs9j0mdtlr5d_google_com
LOCATION:Hastings High School\, 520 W South St\, Hastings\, MI 49058\, USA
SUMMARY:2nd Hour Exam
END:VEVENT
BEGIN:VEVENT
DTSTAMP:20260426T000945Z
UID:5084a1ac-dac9-4422-8064-559dc4086ae1
DTSTART:20260529T093000
DTEND:20260529T105000
DESCRIPTION:Event ID: GCAL-2iuh5a0q5ukdrj7rnqqj6qi7j3_google_com
LOCATION:Hastings High School\, 520 W South St\, Hastings\, MI 49058\, USA
SUMMARY:1st Hour Exam
END:VEVENT
BEGIN:VEVENT
DTSTAMP:20260426T000945Z
UID:c416be8c-9bb0-4e11-abaa-fd51bb52c2f8
DTSTART;VALUE=DATE:20260925
DTEND;VALUE=DATE:20260926
DESCRIPTION:
LOCATION:Hastings High School\, 520 W South St\, Hastings\, MI 49058\, USA
SUMMARY:Homecoming v.s. Western
END:VEVENT
BEGIN:VEVENT
DTSTAMP:20260426T000945Z
UID:a4a21a61-0f7e-4384-96b6-42b94485e673
DTSTART:20261216T080000
DTEND:20261216T093000
DESCRIPTION:Event ID: GCAL-1ockq2cs3kp72t7npqa8es0bos_google_com
LOCATION:Hastings High School\, 520 W South St\, Hastings\, MI 49058\, USA
SUMMARY:1st Hour Exam
END:VEVENT
BEGIN:VEVENT
DTSTAMP:20260426T000945Z
UID:007708d0-3bc1-4eb6-8b46-1614063c2416
DTSTART:20261216T080000
DTEND:20261216T093000
DESCRIPTION:
LOCATION:Hastings High School\, 520 W South St\, Hastings\, MI 49058\, USA
SUMMARY:1st Hour Exam (Unconfirmed)
END:VEVENT
BEGIN:VEVENT
DTSTAMP:20260426T000945Z
UID:ee064b69-2244-4742-80ed-954e1733e022
DTSTART:20261216T094500
DTEND:20261216T111500
DESCRIPTION:Event ID: GCAL-6f9b6uluss0csmk1cj1fsri39a_google_com
LOCATION:Hastings High School\, 520 W South St\, Hastings\, MI 49058\, USA
SUMMARY:2nd Hour Exam
END:VEVENT
BEGIN:VEVENT
DTSTAMP:20260426T000945Z
UID:4feebada-f041-4a37-a2d3-ad1f1238e7e7
DTSTART:20261216T094500
DTEND:20261216T111500
DESCRIPTION:
LOCATION:Hastings High School\, 520 W South St\, Hastings\, MI 49058\, USA
SUMMARY:2nd Hour Exam (Unconfirmed)
END:VEVENT
BEGIN:VEVENT
DTSTAMP:20260426T000945Z
UID:0735a497-443a-44f1-a091-7d2c104c752b
DTSTART:20261217T080000
DTEND:20261217T093000
DESCRIPTION:Event ID: GCAL-748icrk5dkagfuqdqetdijbgdc_google_com
LOCATION:Hastings High School\, 520 W South St\, Hastings\, MI 49058\, USA
SUMMARY:3th Hour Exam
END:VEVENT
BEGIN:VEVENT
DTSTAMP:20260426T000945Z
UID:859ee477-a97a-4aba-844a-5e23a7048ee3
DTSTART:20261217T080000
DTEND:20261217T093000
DESCRIPTION:
LOCATION:Hastings High School\, 520 W South St\, Hastings\, MI 49058\, USA
SUMMARY:3th Hour Exam (Unconfirmed)
END:VEVENT
BEGIN:VEVENT
DTSTAMP:20260426T000945Z
UID:de6d1c97-6df8-4898-a52a-8e1db350d6c1
DTSTART:20261217T094500
DTEND:20261217T111500
DESCRIPTION:Event ID: GCAL-63f02r1qu2qvlf1fvb0abp8a98_google_com
LOCATION:Hastings High School\, 520 W South St\, Hastings\, MI 49058\, USA
SUMMARY:4th Hour Exam
END:VEVENT
BEGIN:VEVENT
DTSTAMP:20260426T000945Z
UID:d53bb715-e3a0-41f2-9298-a018ba00abd9
DTSTART:20261217T094500
DTEND:20261217T111500
DESCRIPTION:
LOCATION:Hastings High School\, 520 W South St\, Hastings\, MI 49058\, USA
SUMMARY:4th Hour Exam (Unconfirmed)
END:VEVENT
BEGIN:VEVENT
DTSTAMP:20260426T000945Z
UID:2ac548d1-93c1-43fc-943a-cd153c2740ea
DTSTART:20261218T080000
DTEND:20261218T093000
DESCRIPTION:Event ID: GCAL-0oq1tmpigshstesvf1gr8sofgr_google_com
LOCATION:Hastings High School\, 520 W South St\, Hastings\, MI 49058\, USA
SUMMARY:5th Hour Exam
END:VEVENT
BEGIN:VEVENT
DTSTAMP:20260426T000945Z
UID:83b91be4-28e0-465d-90b1-e12402438a4d
DTSTART:20261218T080000
DTEND:20261218T093000
DESCRIPTION:
LOCATION:Hastings High School\, 520 W South St\, Hastings\, MI 49058\, USA
SUMMARY:5th Hour Exam (Unconfirmed)
END:VEVENT
BEGIN:VEVENT
DTSTAMP:20260426T000945Z
UID:6c679e63-a8cc-4f2e-b967-0444c7678f87
DTSTART:20261218T094500
DTEND:20261218T111500
DESCRIPTION:Event ID: GCAL-28n1kfp26f78a2l1f1bslalrts_google_com
LOCATION:Hastings High School\, 520 W South St\, Hastings\, MI 49058\, USA
SUMMARY:6th Hour Exam
END:VEVENT
BEGIN:VEVENT
DTSTAMP:20260426T000945Z
UID:7c3020fd-b9b7-43e6-8b4b-6383c9f40d16
DTSTART:20261218T094500
DTEND:20261218T111500
DESCRIPTION:
LOCATION:Hastings High School\, 520 W South St\, Hastings\, MI 49058\, USA
SUMMARY:6th Hour Exam (Unconfirmed)
END:VEVENT
BEGIN:VEVENT
DTSTAMP:20260426T000945Z
UID:01cf375d-e6e8-4f78-bb57-ca1e8f21cca1
DTSTART:20270525T080000
DTEND:20270525T093000
DESCRIPTION:
LOCATION:Hastings High School\, 520 W South St\, Hastings\, MI 49058\, USA
SUMMARY:6th Hour Exam (Unconfirmed)
END:VEVENT
BEGIN:VEVENT
DTSTAMP:20260426T000945Z
UID:ce39b94a-869c-4195-9c9d-ae3a7dc35da4
DTSTART:20270525T094500
DTEND:20270525T111500
DESCRIPTION:
LOCATION:Hastings High School\, 520 W South St\, Hastings\, MI 49058\, USA
SUMMARY:5th Hour Exam (Unconfirmed)
END:VEVENT
BEGIN:VEVENT
DTSTAMP:20260426T000945Z
UID:fd154711-11c1-4624-aec8-969868508e07
DTSTART:20270526T080000
DTEND:20270526T093000
DESCRIPTION:
LOCATION:Hastings High School\, 520 W South St\, Hastings\, MI 49058\, USA
SUMMARY:4th Hour Exam (Unconfirmed)
END:VEVENT
BEGIN:VEVENT
DTSTAMP:20260426T000945Z
UID:f9e747b5-5fb4-4c81-9957-c279552d6b77
DTSTART:20270526T094500
DTEND:20270526T111500
DESCRIPTION:
LOCATION:Hastings High School\, 520 W South St\, Hastings\, MI 49058\, USA
SUMMARY:3rd Hour Exam (Unconfirmed)
END:VEVENT
BEGIN:VEVENT
DTSTAMP:20260426T000945Z
UID:b02e5920-493a-4565-8926-9dd4bd4675e8
DTSTART:20270527T080000
DTEND:20270527T093000
DESCRIPTION:
LOCATION:Hastings High School\, 520 W South St\, Hastings\, MI 49058\, USA
SUMMARY:2nd Hour Exam (Unconfirmed)
END:VEVENT
BEGIN:VEVENT
DTSTAMP:20260426T000945Z
UID:d0e039c3-ba65-454b-8f01-9fcce3ed1e57
DTSTART:20270527T094500
DTEND:20270527T111500
DESCRIPTION:
LOCATION:Hastings High School\, 520 W South St\, Hastings\, MI 49058\, USA
SUMMARY:1st Hour Exam (Unconfirmed)
END:VEVENT
END:VCALENDAR
