BEGIN:VCALENDAR
VERSION:2.0
PRODID:icalendar-ruby
CALSCALE:GREGORIAN
BEGIN:VTIMEZONE
TZID:America/New_York
BEGIN:DAYLIGHT
DTSTART:20260308T030000
TZOFFSETFROM:-0500
TZOFFSETTO:-0400
RRULE:FREQ=YEARLY;BYDAY=2SU;BYMONTH=3
TZNAME:EDT
END:DAYLIGHT
BEGIN:STANDARD
DTSTART:20261101T010000
TZOFFSETFROM:-0400
TZOFFSETTO:-0500
RRULE:FREQ=YEARLY;BYDAY=1SU;BYMONTH=11
TZNAME:EST
END:STANDARD
END:VTIMEZONE
BEGIN:VEVENT
DTSTAMP:20260425T110022Z
UID:78fe0d75-c242-42b9-beff-f6f3beaa652e
DTSTART:20260429T183000
DTEND:20260429T193000
DESCRIPTION:
LOCATION:
SUMMARY:1st-4th Grade Music Concert
END:VEVENT
BEGIN:VEVENT
DTSTAMP:20260425T110022Z
UID:c88a4cdc-5b07-430a-9377-4551df56fe18
DTSTART;VALUE=DATE:20260430
DTEND;VALUE=DATE:20260501
DESCRIPTION:
LOCATION:
SUMMARY:PTO Birthday Club
END:VEVENT
BEGIN:VEVENT
DTSTAMP:20260425T110022Z
UID:486657f2-69c6-451d-981e-9342a8847d85
DTSTART;VALUE=DATE:20260430
DTEND;VALUE=DATE:20260501
DESCRIPTION:
LOCATION:
SUMMARY:PTO Popcorn Day
END:VEVENT
BEGIN:VEVENT
DTSTAMP:20260425T110022Z
UID:32b67553-f665-4d46-b520-0d433b664f4f
DTSTART:20260430T150000
DTEND:20260430T160000
DESCRIPTION:
LOCATION:
SUMMARY:PTO Meeting
END:VEVENT
BEGIN:VEVENT
DTSTAMP:20260425T110022Z
UID:28ae284d-7d1f-408f-8182-c7ca913b1351
DTSTART:20260430T150000
DTEND:20260430T154500
DESCRIPTION:
LOCATION:
SUMMARY:Y on the Fly
END:VEVENT
BEGIN:VEVENT
DTSTAMP:20260425T110022Z
UID:795deb81-ba3d-4a51-baff-d8d4735e516b
DTSTART:20260501T090000
DTEND:20260501T110000
DESCRIPTION:
LOCATION:
SUMMARY:Kindergarten Field Trip
END:VEVENT
BEGIN:VEVENT
DTSTAMP:20260425T110022Z
UID:c1bd11a7-ad24-446a-8301-f4727a420f2d
DTSTART:20260507T130000
DTEND:20260507T133000
DESCRIPTION:
LOCATION:
SUMMARY:Kindergarten Parent Program
END:VEVENT
BEGIN:VEVENT
DTSTAMP:20260425T110022Z
UID:2469e817-fb44-4bd5-bf5d-35d742826e0b
DTSTART:20260507T150000
DTEND:20260507T154500
DESCRIPTION:
LOCATION:
SUMMARY:Y on the Fly
END:VEVENT
BEGIN:VEVENT
DTSTAMP:20260425T110022Z
UID:49b844b0-23a8-49e8-afce-7f594fea673b
DTSTART;VALUE=DATE:20260511
DTEND;VALUE=DATE:20260512
DESCRIPTION:
LOCATION:
SUMMARY:Kickstart Deposit Day
END:VEVENT
BEGIN:VEVENT
DTSTAMP:20260425T110022Z
UID:bbb3a4b8-f90a-4898-817e-043d4458d76e
DTSTART;VALUE=DATE:20260512
DTEND;VALUE=DATE:20260513
DESCRIPTION:
LOCATION:
SUMMARY:PTO Pizza Hut
END:VEVENT
BEGIN:VEVENT
DTSTAMP:20260425T110022Z
UID:c55b3a2c-2490-45e3-9678-a7e45138b972
DTSTART;VALUE=DATE:20260513
DTEND;VALUE=DATE:20260516
DESCRIPTION:
LOCATION:
SUMMARY:BOGO Book Fair
END:VEVENT
BEGIN:VEVENT
DTSTAMP:20260425T110022Z
UID:5005be6d-4574-47b3-9f2b-2f5a92524e51
DTSTART:20260514T150000
DTEND:20260514T154500
DESCRIPTION:
LOCATION:
SUMMARY:Y on the Fly
END:VEVENT
BEGIN:VEVENT
DTSTAMP:20260425T110022Z
UID:3753b082-e6ff-4ebe-9f8d-009d36e3c170
DTSTART:20260520T173000
DTEND:20260520T181500
DESCRIPTION:
LOCATION:
SUMMARY:Wax Museum
END:VEVENT
BEGIN:VEVENT
DTSTAMP:20260425T110022Z
UID:bccdb2af-cf5d-4a0f-b03c-c18e3ef8d7e8
DTSTART;VALUE=DATE:20260521
DTEND;VALUE=DATE:20260522
DESCRIPTION:
LOCATION:
SUMMARY:Last Day of GSRP
END:VEVENT
BEGIN:VEVENT
DTSTAMP:20260425T110022Z
UID:218d5852-a335-4984-93f9-daafa3bf1d5b
DTSTART:20260521T140000
DTEND:20260521T144500
DESCRIPTION:
LOCATION:
SUMMARY:GSRP Graduation at SE
END:VEVENT
BEGIN:VEVENT
DTSTAMP:20260425T110022Z
UID:1250c8c3-f966-479c-ba02-3b1b5bd0f099
DTSTART:20260521T150000
DTEND:20260521T154500
DESCRIPTION:
LOCATION:
SUMMARY:Y on the Fly
END:VEVENT
BEGIN:VEVENT
DTSTAMP:20260425T110022Z
UID:2d5b18e6-1b2b-41f3-b588-d230fc61e86f
DTSTART;VALUE=DATE:20260525
DTEND;VALUE=DATE:20260526
DESCRIPTION:
LOCATION:
SUMMARY:No School
END:VEVENT
BEGIN:VEVENT
DTSTAMP:20260425T110022Z
UID:4934ce14-2738-4cbe-897b-5c265953cfeb
DTSTART;VALUE=DATE:20260526
DTEND;VALUE=DATE:20260527
DESCRIPTION:
LOCATION:
SUMMARY:Field Day
END:VEVENT
BEGIN:VEVENT
DTSTAMP:20260425T110022Z
UID:f519b605-9c54-4b08-8de8-25daea7a08ba
DTSTART;VALUE=DATE:20260526
DTEND;VALUE=DATE:20260527
DESCRIPTION:
LOCATION:
SUMMARY:PTO Birthday Club (May)
END:VEVENT
BEGIN:VEVENT
DTSTAMP:20260425T110022Z
UID:f8d231cb-07ef-4f2e-a30e-557ecf4cacfc
DTSTART;VALUE=DATE:20260527
DTEND;VALUE=DATE:20260528
DESCRIPTION:
LOCATION:
SUMMARY:PTO Birthday Club (June & July)
END:VEVENT
BEGIN:VEVENT
DTSTAMP:20260425T110022Z
UID:e3d2595b-fea2-4b71-900c-e6569ed99cc5
DTSTART:20260528T150000
DTEND:20260528T154500
DESCRIPTION:
LOCATION:
SUMMARY:Y on the Fly
END:VEVENT
BEGIN:VEVENT
DTSTAMP:20260425T110022Z
UID:d735e522-68a6-4228-895d-6581eb1fcca7
DTSTART;VALUE=DATE:20260529
DTEND;VALUE=DATE:20260530
DESCRIPTION:
LOCATION:
SUMMARY:Last day of School!
END:VEVENT
BEGIN:VEVENT
DTSTAMP:20260425T110022Z
UID:38b800b9-6c9e-4030-895a-0d5e5d980268
DTSTART:20260529T103000
DTEND:20260529T103000
DESCRIPTION:
LOCATION:
SUMMARY: 5th Grade Send Off!
END:VEVENT
BEGIN:VEVENT
DTSTAMP:20260425T110022Z
UID:22f20f3a-ac3b-4ccb-a16c-2fac5ed73971
DTSTART:20260529T110000
DTEND:20260529T110000
DESCRIPTION:
LOCATION:
SUMMARY:Half Day - 11:00 Dismissal
END:VEVENT
BEGIN:VEVENT
DTSTAMP:20260425T110022Z
UID:20ae9396-268f-4033-baa2-f343281cfc8a
DTSTART:20261030T110000
DTEND:20261030T110000
DESCRIPTION:
LOCATION:
SUMMARY:Half Day of School
END:VEVENT
END:VCALENDAR
