BEGIN:VCALENDAR
VERSION:2.0
PRODID:icalendar-ruby
CALSCALE:GREGORIAN
BEGIN:VTIMEZONE
TZID:America/New_York
BEGIN:DAYLIGHT
DTSTART:20260308T030000
TZOFFSETFROM:-0500
TZOFFSETTO:-0400
RRULE:FREQ=YEARLY;BYDAY=2SU;BYMONTH=3
TZNAME:EDT
END:DAYLIGHT
BEGIN:STANDARD
DTSTART:20261101T010000
TZOFFSETFROM:-0400
TZOFFSETTO:-0500
RRULE:FREQ=YEARLY;BYDAY=1SU;BYMONTH=11
TZNAME:EST
END:STANDARD
END:VTIMEZONE
BEGIN:VEVENT
DTSTAMP:20260425T161614Z
UID:4e689dd9-e1d7-43cb-a267-cfe68b10f9bd
DTSTART:20260428T161500
DTEND:20260428T171500
DESCRIPTION:
LOCATION:RDHS Track
SUMMARY:MS Track Meet
END:VEVENT
BEGIN:VEVENT
DTSTAMP:20260425T161614Z
UID:68bdd7a1-5377-41ba-89a4-6403b8b79343
DTSTART:20260501T080000
DTEND:20260508T090000
DESCRIPTION:
LOCATION:
SUMMARY:Spanish Honor Society Pulsera Project 
END:VEVENT
BEGIN:VEVENT
DTSTAMP:20260425T161614Z
UID:029c52cf-baa6-4837-90ba-55d9c1676764
DTSTART:20260503T090000
DTEND:20260503T150000
DESCRIPTION:
LOCATION:MS Back Parking Lot
SUMMARY:Boy's Lacrosse Booster Club Car Wash 
END:VEVENT
BEGIN:VEVENT
DTSTAMP:20260425T161614Z
UID:95d080a6-fc32-44ab-bef7-36c1ef9b2ca4
DTSTART:20260504T133000
DTEND:20260504T143000
DESCRIPTION:
LOCATION:Library
SUMMARY:Therapy Dogs
END:VEVENT
BEGIN:VEVENT
DTSTAMP:20260425T161614Z
UID:e7fa540d-f10a-4b14-906f-3ab7008ebd68
DTSTART;VALUE=DATE:20260505
DTEND;VALUE=DATE:20260506
DESCRIPTION:
LOCATION:
SUMMARY:NJSLA SCIENCE  (8th Grade)
END:VEVENT
BEGIN:VEVENT
DTSTAMP:20260425T161614Z
UID:3625219d-088a-4823-b1a4-382dde80fc5d
DTSTART:20260505T161500
DTEND:20260505T171500
DESCRIPTION:
LOCATION:RDHS Track
SUMMARY:MS Track Meet 
END:VEVENT
BEGIN:VEVENT
DTSTAMP:20260425T161614Z
UID:d57f1542-fc39-42fd-bb94-bd4abd14e79b
DTSTART;VALUE=DATE:20260506
DTEND;VALUE=DATE:20260507
DESCRIPTION:
LOCATION:
SUMMARY:NJSLA SCIENCE  (8th Grade)
END:VEVENT
BEGIN:VEVENT
DTSTAMP:20260425T161614Z
UID:e155205c-acef-45cc-b8c8-5f11d882ae0b
DTSTART:20260506T080000
DTEND:20260506T090000
DESCRIPTION:
LOCATION:
SUMMARY:School Nurse Day 
END:VEVENT
BEGIN:VEVENT
DTSTAMP:20260425T161614Z
UID:c1a44e10-b9b4-4fcd-bd3b-23cb192cce43
DTSTART;VALUE=DATE:20260507
DTEND;VALUE=DATE:20260508
DESCRIPTION:
LOCATION:
SUMMARY:NJSLA SCIENCE Testing Make-ups
END:VEVENT
BEGIN:VEVENT
DTSTAMP:20260425T161614Z
UID:b1f8679e-b1c8-4934-8945-01372d31b81e
DTSTART:20260507T080000
DTEND:20260507T090000
DESCRIPTION:
LOCATION:
SUMMARY:PTSO Teacher Breakfast
END:VEVENT
BEGIN:VEVENT
DTSTAMP:20260425T161614Z
UID:4c1f8221-32ed-45c7-8faa-bc0b5e04d553
DTSTART;VALUE=DATE:20260508
DTEND;VALUE=DATE:20260509
DESCRIPTION:
LOCATION:
SUMMARY:NJSLA SCIENCE Testing Make-ups
END:VEVENT
BEGIN:VEVENT
DTSTAMP:20260425T161614Z
UID:b5501f17-0638-48b0-8fa4-a30b6168c7ba
DTSTART:20260508T144000
DTEND:20260508T151500
DESCRIPTION:
LOCATION:
SUMMARY:Mother's Day Plant Sale 
END:VEVENT
BEGIN:VEVENT
DTSTAMP:20260425T161614Z
UID:415a7eb8-933e-4c51-87a6-7cdb79c3cdcb
DTSTART:20260511T161500
DTEND:20260511T171500
DESCRIPTION:
LOCATION:RDHS Track
SUMMARY:MS Track Meet 
END:VEVENT
BEGIN:VEVENT
DTSTAMP:20260425T161614Z
UID:30a9928e-1d93-4253-9bf3-6d3fdcb63c73
DTSTART;VALUE=DATE:20260512
DTEND;VALUE=DATE:20260513
DESCRIPTION:
LOCATION:
SUMMARY:NJSLA ELA (Grade 7 & 8)
END:VEVENT
BEGIN:VEVENT
DTSTAMP:20260425T161614Z
UID:cb16c852-26af-4a5a-ad37-3895ff36bd9f
DTSTART;VALUE=DATE:20260513
DTEND;VALUE=DATE:20260514
DESCRIPTION:
LOCATION:
SUMMARY:NJSLA ELA (Grade 7 & 8)
END:VEVENT
BEGIN:VEVENT
DTSTAMP:20260425T161614Z
UID:cd8eab12-7b10-48ad-895a-5d303d1a58d6
DTSTART:20260514T161500
DTEND:20260514T171500
DESCRIPTION:
LOCATION:RDHS Track
SUMMARY:MS Track Meet 
END:VEVENT
BEGIN:VEVENT
DTSTAMP:20260425T161614Z
UID:2a024a3c-7d0b-496c-b5a4-1040416bd38c
DTSTART:20260517T090000
DTEND:20260517T140000
DESCRIPTION:
LOCATION:MS Parking Lot 
SUMMARY:RD Baseball Booster Club Car Wash 
END:VEVENT
BEGIN:VEVENT
DTSTAMP:20260425T161614Z
UID:60d793f4-1163-426d-b4b4-a42242166dfe
DTSTART:20260518T080000
DTEND:20260518T090000
DESCRIPTION:
LOCATION:
SUMMARY:MS Track Meet Championship @ Indian Hills HS
END:VEVENT
BEGIN:VEVENT
DTSTAMP:20260425T161614Z
UID:6edd136c-2eeb-464e-b677-56ecc9c553e5
DTSTART;VALUE=DATE:20260519
DTEND;VALUE=DATE:20260520
DESCRIPTION:
LOCATION:
SUMMARY:NJSLA MATH (Grade 7 & 8)
END:VEVENT
BEGIN:VEVENT
DTSTAMP:20260425T161614Z
UID:d3654633-ef15-4bbb-8928-7c3fa607d7c6
DTSTART:20260521T080000
DTEND:20260521T090000
DESCRIPTION:
LOCATION:
SUMMARY:SGO Dance
END:VEVENT
BEGIN:VEVENT
DTSTAMP:20260425T161614Z
UID:a8e124fd-5074-4d9f-866e-68f95e0cb60f
DTSTART:20260521T144000
DTEND:20260521T151500
DESCRIPTION:
LOCATION:MS Front Lobby 
SUMMARY:Business Club Sale 
END:VEVENT
BEGIN:VEVENT
DTSTAMP:20260425T161614Z
UID:5bc34adc-3aea-4f3d-9bfa-b55eaed964fc
DTSTART:20260522T080000
DTEND:20260522T090000
DESCRIPTION:
LOCATION:
SUMMARY:Matt Bellace Assembly 
END:VEVENT
BEGIN:VEVENT
DTSTAMP:20260425T161614Z
UID:25a53ac6-ddb0-4bba-8940-1a0c587b9219
DTSTART:20260524T080000
DTEND:20260524T140000
DESCRIPTION:
LOCATION:MS Parking Lot 
SUMMARY:RD Baseball Booster Club Car Wash Rain Date
END:VEVENT
BEGIN:VEVENT
DTSTAMP:20260425T161614Z
UID:97fcff11-a8a0-4eec-b2c1-1e48fa45f9e6
DTSTART;VALUE=DATE:20260525
DTEND;VALUE=DATE:20260526
DESCRIPTION:
LOCATION:
SUMMARY:Memorial Day - DISTRICT CLOSED
END:VEVENT
BEGIN:VEVENT
DTSTAMP:20260425T161614Z
UID:882362c6-6ab2-422c-91d9-36e8c31b90c0
DTSTART;VALUE=DATE:20260526
DTEND;VALUE=DATE:20260527
DESCRIPTION:
LOCATION:
SUMMARY:NJSLA ELA Testing Make-ups
END:VEVENT
BEGIN:VEVENT
DTSTAMP:20260425T161614Z
UID:2cce2dd3-3894-4909-bbe3-ae2589406d5d
DTSTART;VALUE=DATE:20260527
DTEND;VALUE=DATE:20260528
DESCRIPTION:
LOCATION:
SUMMARY:NJSLA ELA Testing Make-ups
END:VEVENT
BEGIN:VEVENT
DTSTAMP:20260425T161614Z
UID:e4054b53-3bba-4170-8ae6-d5e961d707bf
DTSTART;VALUE=DATE:20260528
DTEND;VALUE=DATE:20260529
DESCRIPTION:
LOCATION:
SUMMARY:NJSLA MATH Testing Make-ups
END:VEVENT
BEGIN:VEVENT
DTSTAMP:20260425T161614Z
UID:2af041d6-c8c3-40c3-9383-f654640521bf
DTSTART;VALUE=DATE:20260529
DTEND;VALUE=DATE:20260530
DESCRIPTION:
LOCATION:
SUMMARY:NJSLA MATH Testing Make-ups
END:VEVENT
BEGIN:VEVENT
DTSTAMP:20260425T161614Z
UID:1cbfbbeb-b22f-4f38-bfcf-54a4a780a111
DTSTART;VALUE=DATE:20260615
DTEND;VALUE=DATE:20260616
DESCRIPTION:
LOCATION:
SUMMARY:ONE SESSION DAY FOR STUDENTS
END:VEVENT
BEGIN:VEVENT
DTSTAMP:20260425T161614Z
UID:6aa9a9ec-fd80-451b-bad3-e1229b44b334
DTSTART;VALUE=DATE:20260616
DTEND;VALUE=DATE:20260617
DESCRIPTION:
LOCATION:
SUMMARY:ONE SESSION DAY FOR STUDENTS
END:VEVENT
BEGIN:VEVENT
DTSTAMP:20260425T161614Z
UID:0e83757b-bc00-477b-bd4d-68ae6029cdad
DTSTART:20260616T140000
DTEND:20260616T150000
DESCRIPTION:
LOCATION:River Dell High School Main Gymnasium
SUMMARY:RDMS "Moving Up Ceremony"
END:VEVENT
BEGIN:VEVENT
DTSTAMP:20260425T161614Z
UID:9820d5c4-4848-4a08-974f-05bf7a8cbdb4
DTSTART;VALUE=DATE:20260617
DTEND;VALUE=DATE:20260618
DESCRIPTION:
LOCATION:
SUMMARY:ONE SESSION DAY FOR STUDENTS
END:VEVENT
BEGIN:VEVENT
DTSTAMP:20260425T161614Z
UID:6db53a13-603e-4290-a579-cee3f0d15d88
DTSTART;VALUE=DATE:20260618
DTEND;VALUE=DATE:20260619
DESCRIPTION:
LOCATION:
SUMMARY:ONE SESSION DAY FOR STUDENTS - Last Day for Students - RDHS Graduat
 ion
END:VEVENT
BEGIN:VEVENT
DTSTAMP:20260425T161614Z
UID:b987e2f1-0afe-48cd-97e5-a5f3d2264ace
DTSTART;VALUE=DATE:20260619
DTEND;VALUE=DATE:20260620
DESCRIPTION:
LOCATION:
SUMMARY:Last Day for Staff
END:VEVENT
END:VCALENDAR
