BEGIN:VCALENDAR
VERSION:2.0
PRODID:icalendar-ruby
CALSCALE:GREGORIAN
BEGIN:VTIMEZONE
TZID:America/New_York
BEGIN:DAYLIGHT
DTSTART:20260308T030000
TZOFFSETFROM:-0500
TZOFFSETTO:-0400
RRULE:FREQ=YEARLY;BYDAY=2SU;BYMONTH=3
TZNAME:EDT
END:DAYLIGHT
BEGIN:STANDARD
DTSTART:20261101T010000
TZOFFSETFROM:-0400
TZOFFSETTO:-0500
RRULE:FREQ=YEARLY;BYDAY=1SU;BYMONTH=11
TZNAME:EST
END:STANDARD
END:VTIMEZONE
BEGIN:VEVENT
DTSTAMP:20260425T171956Z
UID:af61f01c-234b-48fc-b118-b885ac69c184
DTSTART:20260429T080000
DTEND:20260429T100000
DESCRIPTION:<p>Delayed Opening </p>
LOCATION:
SUMMARY:NJSLA - ELA (9th Grade) & SCIENCE (11th Grade)
END:VEVENT
BEGIN:VEVENT
DTSTAMP:20260425T171956Z
UID:18aab034-5faf-4db9-9ce6-fcaf546ede08
DTSTART:20260430T080000
DTEND:20260430T100000
DESCRIPTION:<p>Delayed opening</p>
LOCATION:
SUMMARY:NJSLA - ELA (9th Grade) & SCIENCE (11th Grade)
END:VEVENT
BEGIN:VEVENT
DTSTAMP:20260425T171956Z
UID:46eadb43-97f9-4aca-aafa-868d591634a3
DTSTART:20260502T073000
DTEND:20260502T130000
DESCRIPTION:
LOCATION:55 Pyle St\, Oradell\, NJ 07649\, USA
SUMMARY:SAT TESTING
END:VEVENT
BEGIN:VEVENT
DTSTAMP:20260425T171956Z
UID:b29cb58e-5b5f-42bd-b9ea-fa5c6980e5aa
DTSTART:20260518T080000
DTEND:20260518T100000
DESCRIPTION:<p>Delayed opening</p>
LOCATION:
SUMMARY:NJSLA - MATH (9th Grade)
END:VEVENT
BEGIN:VEVENT
DTSTAMP:20260425T171956Z
UID:8b9afabd-ede0-4107-bf42-c7d498106ddc
DTSTART:20260519T080000
DTEND:20260519T100000
DESCRIPTION:<p>Delayed opening</p>
LOCATION:
SUMMARY:NJSLA - MATH (9th Grade)
END:VEVENT
BEGIN:VEVENT
DTSTAMP:20260425T171956Z
UID:24ffbe06-84d1-4ac4-a46a-097e8a7b0602
DTSTART;VALUE=DATE:20260525
DTEND;VALUE=DATE:20260526
DESCRIPTION:
LOCATION:
SUMMARY:Memorial Day - DISTRICT CLOSED
END:VEVENT
BEGIN:VEVENT
DTSTAMP:20260425T171956Z
UID:25c0a837-b0c0-44e0-86eb-bf29b1964682
DTSTART:20260606T073000
DTEND:20260606T130000
DESCRIPTION:
LOCATION:55 Pyle St\, Oradell\, NJ 07649\, USA
SUMMARY:SAT TESTING
END:VEVENT
BEGIN:VEVENT
DTSTAMP:20260425T171956Z
UID:7693cbb8-3695-4742-bf9d-06099bb2b1b8
DTSTART:20260613T073000
DTEND:20260613T130000
DESCRIPTION:
LOCATION:55 Pyle St\, Oradell\, NJ 07649\, USA
SUMMARY:ACT TESTING 
END:VEVENT
BEGIN:VEVENT
DTSTAMP:20260425T171956Z
UID:2be697bd-3502-4404-86d5-7793c50c2b5a
DTSTART;VALUE=DATE:20260615
DTEND;VALUE=DATE:20260616
DESCRIPTION:
LOCATION:
SUMMARY:ONE SESSION DAY FOR STUDENTS
END:VEVENT
BEGIN:VEVENT
DTSTAMP:20260425T171956Z
UID:83920765-9d83-4c55-b826-4f2ac64988c6
DTSTART;VALUE=DATE:20260616
DTEND;VALUE=DATE:20260617
DESCRIPTION:
LOCATION:
SUMMARY:ONE SESSION DAY FOR STUDENTS
END:VEVENT
BEGIN:VEVENT
DTSTAMP:20260425T171956Z
UID:63ff6a57-f82f-4247-a2d7-b3efe4f43faf
DTSTART;VALUE=DATE:20260617
DTEND;VALUE=DATE:20260618
DESCRIPTION:
LOCATION:
SUMMARY:ONE SESSION DAY FOR STUDENTS
END:VEVENT
BEGIN:VEVENT
DTSTAMP:20260425T171956Z
UID:894e084a-c79f-4f63-a135-c2f0e863f3af
DTSTART;VALUE=DATE:20260618
DTEND;VALUE=DATE:20260619
DESCRIPTION:
LOCATION:
SUMMARY:ONE SESSION DAY FOR STUDENTS - Last Day for Students - Graduation
END:VEVENT
BEGIN:VEVENT
DTSTAMP:20260425T171956Z
UID:a40e7b2e-da81-4eec-98e6-f3f2c4ad48a6
DTSTART;VALUE=DATE:20260619
DTEND;VALUE=DATE:20260620
DESCRIPTION:
LOCATION:
SUMMARY:Last Day for Staff
END:VEVENT
BEGIN:VEVENT
DTSTAMP:20260425T171956Z
UID:569d514b-04ac-4524-a60f-e2955716cd94
DTSTART:20261003T070000
DTEND:20261003T123000
DESCRIPTION:
LOCATION:55 Pyle St\, Oradell\, NJ 07649\, USA
SUMMARY:SAT TESTING
END:VEVENT
BEGIN:VEVENT
DTSTAMP:20260425T171956Z
UID:77bb261e-4a7a-4cf2-a64b-f8543aa6d612
DTSTART:20261212T070000
DTEND:20261212T120000
DESCRIPTION:
LOCATION:55 Pyle St\, Oradell\, NJ 07649\, USA
SUMMARY:ACT TESTING
END:VEVENT
BEGIN:VEVENT
DTSTAMP:20260425T171956Z
UID:90cd0aa1-7d36-4655-aa36-92a23ef7d8e5
DTSTART:20270306T070000
DTEND:20270306T123000
DESCRIPTION:
LOCATION:RDHS
SUMMARY:SAT TESTING
END:VEVENT
BEGIN:VEVENT
DTSTAMP:20260425T171956Z
UID:bb3d3431-ea5c-4ca1-8c97-d9884f9bdc36
DTSTART:20270410T070000
DTEND:20270410T123000
DESCRIPTION:
LOCATION:55 Pyle St\, Oradell\, NJ 07649\, USA
SUMMARY:ACT TESTING
END:VEVENT
BEGIN:VEVENT
DTSTAMP:20260425T171956Z
UID:ef36b8f5-0d94-4410-841a-c08950318c28
DTSTART:20270501T070000
DTEND:20270501T123000
DESCRIPTION:
LOCATION:RDHS
SUMMARY:SAT TESTING
END:VEVENT
BEGIN:VEVENT
DTSTAMP:20260425T171956Z
UID:3fda85d2-0c9a-4d37-89fe-deb4aea70779
DTSTART:20270605T070000
DTEND:20270605T123000
DESCRIPTION:
LOCATION:RDHS
SUMMARY:SAT TESTING
END:VEVENT
BEGIN:VEVENT
DTSTAMP:20260425T171956Z
UID:5f38edb2-b401-4bcb-b09b-565f58d3616d
DTSTART:20270612T070000
DTEND:20270612T123000
DESCRIPTION:
LOCATION:
SUMMARY:ACT TESTING
END:VEVENT
END:VCALENDAR
