BEGIN:VCALENDAR
VERSION:2.0
PRODID:icalendar-ruby
CALSCALE:GREGORIAN
BEGIN:VTIMEZONE
TZID:America/New_York
BEGIN:DAYLIGHT
DTSTART:20260308T030000
TZOFFSETFROM:-0500
TZOFFSETTO:-0400
RRULE:FREQ=YEARLY;BYDAY=2SU;BYMONTH=3
TZNAME:EDT
END:DAYLIGHT
BEGIN:STANDARD
DTSTART:20261101T010000
TZOFFSETFROM:-0400
TZOFFSETTO:-0500
RRULE:FREQ=YEARLY;BYDAY=1SU;BYMONTH=11
TZNAME:EST
END:STANDARD
END:VTIMEZONE
BEGIN:VEVENT
DTSTAMP:20260425T201853Z
UID:d34fabd0-8517-427b-897d-46141358f95e
DTSTART;VALUE=DATE:20260430
DTEND;VALUE=DATE:20260501
DESCRIPTION:<strong>Event:</strong> <a href="https://aptg.co/_KyKr1">Yonker
 s Council of PTA/PTSAs Annual Fundraising Gala</a><br><strong>Date:</stron
 g> Thursday\, April 30\, 2026<br><strong>Time:</strong> 5:30 PM<br><strong
 >Venue:</strong> Westchester Manor<br><strong>Address:</strong> 140 Saw Mi
 ll River Road\, Hastings-on-Hudson\, NY 10706<br><strong>Honorees:</strong
 > Brenda Cardoza\; RoseAnne Collins-Judon
LOCATION:Westchester Manor\, 140 Saw Mill River Rd\, Hastings-On-Hudson\, N
 Y 10706\, USA
SUMMARY:5:30 PM YCPTA Annual Fundraising Gala
END:VEVENT
BEGIN:VEVENT
DTSTAMP:20260425T201853Z
UID:86b26467-e4b3-45f1-837c-d49fa7e35a98
DTSTART;VALUE=DATE:20260430
DTEND;VALUE=DATE:20260501
DESCRIPTION:<strong>Event:</strong> <a href="https://aptg.co/_KyKr1">Yonker
 s Council of PTA/PTSAs Annual Fundraising Gala</a><br><strong>Date:</stron
 g> Thursday\, April 30\, 2026<br><strong>Time:</strong> 5:30 PM<br><strong
 >Venue:</strong> Westchester Manor<br><strong>Address:</strong> 140 Saw Mi
 ll River Road\, Hastings-on-Hudson\, NY 10706<br><strong>Honorees:</strong
 > Brenda Cardoza\; RoseAnne Collins-Judon
LOCATION:Westchester Manor\, 140 Saw Mill River Rd\, Hastings-On-Hudson\, N
 Y 10706\, USA
SUMMARY:5:30 PM YCPTA Annual Fundraising Gala
END:VEVENT
BEGIN:VEVENT
DTSTAMP:20260425T201853Z
UID:e82e738a-50ae-495d-8568-1abb8b4718c9
DTSTART;VALUE=DATE:20260509
DTEND;VALUE=DATE:20260510
DESCRIPTION:
LOCATION:Lincoln High School\, 375 Kneeland Ave\, Yonkers\, NY 10704\, USA
SUMMARY:Annual Districtwide Science Fair
END:VEVENT
BEGIN:VEVENT
DTSTAMP:20260425T201853Z
UID:d910894c-befa-4e9d-9d8e-09b785a88904
DTSTART;VALUE=DATE:20260509
DTEND;VALUE=DATE:20260510
DESCRIPTION:
LOCATION:Lincoln High School\, 375 Kneeland Ave\, Yonkers\, NY 10704\, USA
SUMMARY:Annual Districtwide Science Fair
END:VEVENT
BEGIN:VEVENT
DTSTAMP:20260425T201853Z
UID:52f3b838-95a8-40ac-b677-408591d4aa19
DTSTART;VALUE=DATE:20260525
DTEND;VALUE=DATE:20260526
DESCRIPTION:
LOCATION:
SUMMARY:Memorial Day: Schools & Central Office Closed
END:VEVENT
BEGIN:VEVENT
DTSTAMP:20260425T201853Z
UID:a7741a36-5caf-42fe-be91-de8bb563bc83
DTSTART;VALUE=DATE:20260525
DTEND;VALUE=DATE:20260526
DESCRIPTION:
LOCATION:
SUMMARY:Memorial Day: Schools & Central Office Closed
END:VEVENT
BEGIN:VEVENT
DTSTAMP:20260425T201853Z
UID:d19d09e3-c859-41d2-a307-d8ff2c642085
DTSTART:20260529T150000
DTEND:20260529T230000
DESCRIPTION:
LOCATION:Charles E. Gorton High School\, 100 Shonnard Pl\, Yonkers\, NY 107
 03\, USA
SUMMARY:Relay for Life Yonkers
END:VEVENT
BEGIN:VEVENT
DTSTAMP:20260425T201853Z
UID:ca61be4c-bfa3-41d0-8364-364ea8945bbe
DTSTART:20260529T150000
DTEND:20260529T230000
DESCRIPTION:
LOCATION:Charles E. Gorton High School\, 100 Shonnard Pl\, Yonkers\, NY 107
 03\, USA
SUMMARY:Relay for Life Yonkers
END:VEVENT
BEGIN:VEVENT
DTSTAMP:20260425T201853Z
UID:67a08ed7-dc35-4754-9a8a-bd7035896997
DTSTART;VALUE=DATE:20260609
DTEND;VALUE=DATE:20260611
DESCRIPTION:
LOCATION:
SUMMARY:Regents Exams: High Schools Only
END:VEVENT
BEGIN:VEVENT
DTSTAMP:20260425T201853Z
UID:6278a743-eeb7-424e-a70c-074408d649d3
DTSTART;VALUE=DATE:20260609
DTEND;VALUE=DATE:20260611
DESCRIPTION:
LOCATION:
SUMMARY:Regents Exams: High Schools Only
END:VEVENT
BEGIN:VEVENT
DTSTAMP:20260425T201853Z
UID:28cc47be-0808-46da-9537-c48f5b13e35a
DTSTART;VALUE=DATE:20260611
DTEND;VALUE=DATE:20260612
DESCRIPTION:
LOCATION:Saunders Trades and Technical High School\, 183 Palmer Rd\, Yonker
 s\, NY 10701\, USA
SUMMARY:5:30 PM 5th Grade Spelling Bee
END:VEVENT
BEGIN:VEVENT
DTSTAMP:20260425T201853Z
UID:3cd2b1db-90cd-40da-8208-ec9f0c169e65
DTSTART;VALUE=DATE:20260611
DTEND;VALUE=DATE:20260612
DESCRIPTION:
LOCATION:Saunders Trades and Technical High School\, 183 Palmer Rd\, Yonker
 s\, NY 10701\, USA
SUMMARY:5:30 PM 5th Grade Spelling Bee
END:VEVENT
BEGIN:VEVENT
DTSTAMP:20260425T201853Z
UID:7463dbc7-1314-4a6d-93a5-84861a96c20e
DTSTART;VALUE=DATE:20260614
DTEND;VALUE=DATE:20260615
DESCRIPTION:
LOCATION:
SUMMARY:Flag Day
END:VEVENT
BEGIN:VEVENT
DTSTAMP:20260425T201853Z
UID:f85e9fe6-4efe-4440-86db-7fa33ca3ccec
DTSTART;VALUE=DATE:20260614
DTEND;VALUE=DATE:20260615
DESCRIPTION:
LOCATION:
SUMMARY:Flag Day
END:VEVENT
BEGIN:VEVENT
DTSTAMP:20260425T201853Z
UID:d3ab1ea9-f1a0-4688-a8bd-b1494a1df8d9
DTSTART;VALUE=DATE:20260617
DTEND;VALUE=DATE:20260619
DESCRIPTION:
LOCATION:
SUMMARY:Regents Exams
END:VEVENT
BEGIN:VEVENT
DTSTAMP:20260425T201853Z
UID:4e622737-04b9-42f1-9451-2709f67f2345
DTSTART;VALUE=DATE:20260617
DTEND;VALUE=DATE:20260619
DESCRIPTION:
LOCATION:
SUMMARY:Regents Exams
END:VEVENT
BEGIN:VEVENT
DTSTAMP:20260425T201853Z
UID:ce75d769-aa51-4456-ad72-2978d5e12f20
DTSTART;VALUE=DATE:20260619
DTEND;VALUE=DATE:20260620
DESCRIPTION:
LOCATION:
SUMMARY:Juneteenth: Schools & Central Office Closed
END:VEVENT
BEGIN:VEVENT
DTSTAMP:20260425T201853Z
UID:0e646906-f927-4177-8f7a-adf36748d682
DTSTART;VALUE=DATE:20260619
DTEND;VALUE=DATE:20260620
DESCRIPTION:
LOCATION:
SUMMARY:Juneteenth: Schools & Central Office Closed
END:VEVENT
BEGIN:VEVENT
DTSTAMP:20260425T201853Z
UID:cb4cb595-fa32-41ad-94a8-0d51a0fd8de1
DTSTART;VALUE=DATE:20260622
DTEND;VALUE=DATE:20260626
DESCRIPTION:
LOCATION:
SUMMARY:Regents Exams
END:VEVENT
BEGIN:VEVENT
DTSTAMP:20260425T201853Z
UID:bc82cc86-53e2-4004-b701-f544a0a8719a
DTSTART;VALUE=DATE:20260622
DTEND;VALUE=DATE:20260626
DESCRIPTION:
LOCATION:
SUMMARY:Regents Exams
END:VEVENT
BEGIN:VEVENT
DTSTAMP:20260425T201853Z
UID:aa05d8d0-83b6-4235-afb4-9c8d0f7d194c
DTSTART;VALUE=DATE:20260625
DTEND;VALUE=DATE:20260626
DESCRIPTION:
LOCATION:
SUMMARY:Half-Day for Elementary Students
END:VEVENT
BEGIN:VEVENT
DTSTAMP:20260425T201853Z
UID:cd61f924-e506-4069-8b82-201ea27c061f
DTSTART;VALUE=DATE:20260625
DTEND;VALUE=DATE:20260626
DESCRIPTION:
LOCATION:
SUMMARY:Half-Day for Elementary Students
END:VEVENT
BEGIN:VEVENT
DTSTAMP:20260425T201853Z
UID:f5cdcac7-8c1c-40d1-8169-fecd30dea26c
DTSTART;VALUE=DATE:20260626
DTEND;VALUE=DATE:20260627
DESCRIPTION:Half Day for Students and Hourly Staff\nFull Day for Staff (Exc
 ept Hourly Staff)
LOCATION:
SUMMARY:Last Day of School! Half Day for Students & Hourly Staff
END:VEVENT
BEGIN:VEVENT
DTSTAMP:20260425T201853Z
UID:a16ec02c-f26d-4437-99cd-667c3537883b
DTSTART;VALUE=DATE:20260626
DTEND;VALUE=DATE:20260627
DESCRIPTION:Half Day for Students and Hourly Staff\nFull Day for Staff (Exc
 ept Hourly Staff)
LOCATION:
SUMMARY:Last Day of School! Half Day for Students & Hourly Staff
END:VEVENT
BEGIN:VEVENT
DTSTAMP:20260425T201853Z
UID:f076d2ef-95c7-4f38-92be-0a0278188440
DTSTART;VALUE=DATE:20260626
DTEND;VALUE=DATE:20260627
DESCRIPTION:
LOCATION:
SUMMARY:Regents Rating Day
END:VEVENT
BEGIN:VEVENT
DTSTAMP:20260425T201853Z
UID:c153cee9-5526-42f1-b49f-c948f9d251c2
DTSTART;VALUE=DATE:20260626
DTEND;VALUE=DATE:20260627
DESCRIPTION:
LOCATION:
SUMMARY:Regents Rating Day
END:VEVENT
BEGIN:VEVENT
DTSTAMP:20260425T201853Z
UID:5889a379-427a-474a-86b5-1972032a58f2
DTSTART;VALUE=DATE:20260704
DTEND;VALUE=DATE:20260705
DESCRIPTION:
LOCATION:
SUMMARY:Independence Day: School Buildings & Central Office Closed
END:VEVENT
BEGIN:VEVENT
DTSTAMP:20260425T201853Z
UID:ad8c329f-a18d-4c02-9feb-e06354182687
DTSTART;VALUE=DATE:20260704
DTEND;VALUE=DATE:20260705
DESCRIPTION:
LOCATION:
SUMMARY:Independence Day: School Buildings & Central Office Closed
END:VEVENT
BEGIN:VEVENT
DTSTAMP:20260425T201853Z
UID:8020d34c-78c8-4406-bf66-eec76e5dc640
DTSTART;VALUE=DATE:20260911
DTEND;VALUE=DATE:20260912
DESCRIPTION:
LOCATION:
SUMMARY:September 11 Day of Service and Remembrance
END:VEVENT
BEGIN:VEVENT
DTSTAMP:20260425T201853Z
UID:7423f492-d184-42c3-b530-eb3966f04fb7
DTSTART;VALUE=DATE:20260911
DTEND;VALUE=DATE:20260912
DESCRIPTION:
LOCATION:
SUMMARY:September 11 Day of Service and Remembrance
END:VEVENT
END:VCALENDAR
