BEGIN:VCALENDAR
VERSION:2.0
PRODID:icalendar-ruby
CALSCALE:GREGORIAN
BEGIN:VTIMEZONE
TZID:America/New_York
BEGIN:DAYLIGHT
DTSTART:20260308T030000
TZOFFSETFROM:-0500
TZOFFSETTO:-0400
RRULE:FREQ=YEARLY;BYDAY=2SU;BYMONTH=3
TZNAME:EDT
END:DAYLIGHT
BEGIN:STANDARD
DTSTART:20261101T010000
TZOFFSETFROM:-0400
TZOFFSETTO:-0500
RRULE:FREQ=YEARLY;BYDAY=1SU;BYMONTH=11
TZNAME:EST
END:STANDARD
END:VTIMEZONE
BEGIN:VEVENT
DTSTAMP:20260422T045726Z
UID:f96a987d-724c-449f-984b-3b9cab57372c
DTSTART;VALUE=DATE:20260422
DTEND;VALUE=DATE:20260425
DESCRIPTION:
LOCATION:
SUMMARY:8th Grade Outerbanks Trip
END:VEVENT
BEGIN:VEVENT
DTSTAMP:20260422T045726Z
UID:d19321b2-a842-41c8-b44f-b5c6d924c4fa
DTSTART:20260423T072000
DTEND:20260423T074000
DESCRIPTION:
LOCATION:
SUMMARY:FCA Meeting
END:VEVENT
BEGIN:VEVENT
DTSTAMP:20260422T045726Z
UID:599f9eec-81b8-41c4-b9e4-1ff02cbfecb8
DTSTART;VALUE=DATE:20260427
DTEND;VALUE=DATE:20260428
DESCRIPTION:
LOCATION:
SUMMARY:Spirit Week - Jersey Day (wear your favorite sports jersey or team 
 apparel))
END:VEVENT
BEGIN:VEVENT
DTSTAMP:20260422T045726Z
UID:68cd347b-1942-40fb-8962-7252574370ba
DTSTART:20260427T163000
DTEND:20260427T183000
DESCRIPTION:
LOCATION:
SUMMARY:Baseball: Tournament First Round at Ellis
END:VEVENT
BEGIN:VEVENT
DTSTAMP:20260422T045726Z
UID:bd707d3e-2295-4dd2-b4e7-9c81afef3b22
DTSTART:20260427T163000
DTEND:20260427T183000
DESCRIPTION:
LOCATION:
SUMMARY:Soccer: Tournament First Round (Girls @ West Rowan)
END:VEVENT
BEGIN:VEVENT
DTSTAMP:20260422T045726Z
UID:6f3f4e8f-7515-4833-9d8d-3afad3ac8c08
DTSTART:20260427T170000
DTEND:20260427T180000
DESCRIPTION:
LOCATION:Media Center
SUMMARY:2026-27 Cheerleader Interest Meeting
END:VEVENT
BEGIN:VEVENT
DTSTAMP:20260422T045726Z
UID:daf01291-91a7-4cc9-ac91-1185870b5c84
DTSTART;VALUE=DATE:20260428
DTEND;VALUE=DATE:20260429
DESCRIPTION:
LOCATION:
SUMMARY:Spirit Week - Fun Sock Day
END:VEVENT
BEGIN:VEVENT
DTSTAMP:20260422T045726Z
UID:7d95cfe9-0a64-435f-a9c2-0b57bf875e98
DTSTART:20260428T072000
DTEND:20260428T075000
DESCRIPTION:
LOCATION:
SUMMARY:Jr Beta Club Meeting
END:VEVENT
BEGIN:VEVENT
DTSTAMP:20260422T045726Z
UID:4240ba95-2aee-48f3-b96f-78a7bab288a5
DTSTART:20260428T163000
DTEND:20260428T180000
DESCRIPTION:
LOCATION:
SUMMARY:JV Volleyball: First Round Tournament @ West Rowan
END:VEVENT
BEGIN:VEVENT
DTSTAMP:20260422T045726Z
UID:e9f33bb1-e602-473e-b04d-086bbab9f985
DTSTART;VALUE=DATE:20260429
DTEND;VALUE=DATE:20260430
DESCRIPTION:
LOCATION:
SUMMARY:Spirit Week - Favorite Book or Movie Character
END:VEVENT
BEGIN:VEVENT
DTSTAMP:20260422T045726Z
UID:1b54ee95-bbe3-4435-9345-60bddd9e3881
DTSTART:20260429T150000
DTEND:20260429T160000
DESCRIPTION:
LOCATION:
SUMMARY:Jazz Band
END:VEVENT
BEGIN:VEVENT
DTSTAMP:20260422T045726Z
UID:d5d56670-14d7-4453-a5b4-b2d9b12ed9d3
DTSTART:20260429T163000
DTEND:20260429T183000
DESCRIPTION:
LOCATION:
SUMMARY:Soccer: Tournament Semi Finals at Corriher Lipe
END:VEVENT
BEGIN:VEVENT
DTSTAMP:20260422T045726Z
UID:6a2b0f23-d556-425c-a058-08ccb1ff7a86
DTSTART;VALUE=DATE:20260430
DTEND;VALUE=DATE:20260501
DESCRIPTION:
LOCATION:
SUMMARY:Spirit Week - Tie-Dye Day
END:VEVENT
BEGIN:VEVENT
DTSTAMP:20260422T045726Z
UID:56235654-0802-429e-9c47-45446ac2d456
DTSTART:20260430T072000
DTEND:20260430T074000
DESCRIPTION:
LOCATION:
SUMMARY:FCA Meeting
END:VEVENT
BEGIN:VEVENT
DTSTAMP:20260422T045726Z
UID:3fac2df0-032f-4233-8067-3274c70150ce
DTSTART:20260430T163000
DTEND:20260430T183000
DESCRIPTION:
LOCATION:
SUMMARY:Baseball: Tournament Semi Finals at Carson High School
END:VEVENT
BEGIN:VEVENT
DTSTAMP:20260422T045726Z
UID:8ca3d16d-daba-4429-8b5a-b99502f2b3c1
DTSTART:20260430T163000
DTEND:20260430T183000
DESCRIPTION:
LOCATION:
SUMMARY:Soccer: Tournament Semi Finals at Corriher Lipe
END:VEVENT
BEGIN:VEVENT
DTSTAMP:20260422T045726Z
UID:ca7c4f4d-c3d9-42d5-a6eb-ae75e357d33a
DTSTART:20260430T163000
DTEND:20260430T180000
DESCRIPTION:
LOCATION:
SUMMARY:V Volleyball: First Round Tournament
END:VEVENT
BEGIN:VEVENT
DTSTAMP:20260422T045726Z
UID:1f493701-c85c-4205-8b44-3402d5530e22
DTSTART;VALUE=DATE:20260501
DTEND;VALUE=DATE:20260502
DESCRIPTION:
LOCATION:
SUMMARY:8th Grade Top Golf Permission Slips Due
END:VEVENT
BEGIN:VEVENT
DTSTAMP:20260422T045726Z
UID:3dec51e0-e87e-48d8-bf91-123ae0d38d4e
DTSTART;VALUE=DATE:20260501
DTEND;VALUE=DATE:20260502
DESCRIPTION:
LOCATION:
SUMMARY:Last Day to Purchase 8th Grade Dance Ticket
END:VEVENT
BEGIN:VEVENT
DTSTAMP:20260422T045726Z
UID:73865185-6ec7-4a01-bbe1-3095b755fbc0
DTSTART;VALUE=DATE:20260501
DTEND;VALUE=DATE:20260502
DESCRIPTION:
LOCATION:
SUMMARY:Spirit Week - House Colors
END:VEVENT
BEGIN:VEVENT
DTSTAMP:20260422T045726Z
UID:8e738ae5-ff0b-499a-bb5d-a9a31fa784c5
DTSTART:20260504T163000
DTEND:20260504T183000
DESCRIPTION:
LOCATION:
SUMMARY:Baseball: Tournament Finals as Southeast
END:VEVENT
BEGIN:VEVENT
DTSTAMP:20260422T045726Z
UID:ef19c37c-c4e3-46c3-ba68-4dc1458005c2
DTSTART:20260504T163000
DTEND:20260504T183000
DESCRIPTION:
LOCATION:
SUMMARY:Soccer: Tournament Finals at Corriher Lipe
END:VEVENT
BEGIN:VEVENT
DTSTAMP:20260422T045726Z
UID:741d82da-133e-4f72-9473-356cd63c2e4e
DTSTART:20260504T163000
DTEND:20260504T180000
DESCRIPTION:
LOCATION:
SUMMARY:Volleyball: Semi Finals at WRMS
END:VEVENT
BEGIN:VEVENT
DTSTAMP:20260422T045726Z
UID:590e2fc1-6a84-4c93-b575-bbea7a1aa977
DTSTART;VALUE=DATE:20260505
DTEND;VALUE=DATE:20260506
DESCRIPTION:
LOCATION:
SUMMARY:Progress Reports
END:VEVENT
BEGIN:VEVENT
DTSTAMP:20260422T045726Z
UID:ac88cf52-0d5f-4d92-9871-0f80bda97b7f
DTSTART:20260505T150000
DTEND:20260505T160000
DESCRIPTION:
LOCATION:Mrs. Litaker's Classroom
SUMMARY:Garden Club
END:VEVENT
BEGIN:VEVENT
DTSTAMP:20260422T045726Z
UID:60082578-112b-4790-8d98-efe84f0139ab
DTSTART:20260505T163000
DTEND:20260505T180000
DESCRIPTION:
LOCATION:
SUMMARY:Volleyball: Finals at Southeast
END:VEVENT
BEGIN:VEVENT
DTSTAMP:20260422T045726Z
UID:4811c198-7471-4b56-8a90-5530316f5ea0
DTSTART:20260506T150000
DTEND:20260506T160000
DESCRIPTION:
LOCATION:
SUMMARY:Jazz Band
END:VEVENT
BEGIN:VEVENT
DTSTAMP:20260422T045726Z
UID:4db0935f-e792-422a-9faf-f7fb6e268df9
DTSTART:20260507T072000
DTEND:20260507T074000
DESCRIPTION:
LOCATION:
SUMMARY:FCA Meeting
END:VEVENT
BEGIN:VEVENT
DTSTAMP:20260422T045726Z
UID:39139d07-b965-4094-a4f4-a4896b052185
DTSTART;VALUE=DATE:20260508
DTEND;VALUE=DATE:20260509
DESCRIPTION:
LOCATION:
SUMMARY:8th Grade Dance
END:VEVENT
BEGIN:VEVENT
DTSTAMP:20260422T045726Z
UID:29d51a72-a471-429d-b55a-d3e9e9a963b7
DTSTART:20260509T100000
DTEND:20260509T140000
DESCRIPTION:
LOCATION:1200 Salisbury Rd\, Mocksville\, NC 27028\, USA
SUMMARY:Arts Smart
END:VEVENT
BEGIN:VEVENT
DTSTAMP:20260422T045726Z
UID:69aaa9e2-91cb-4b4d-813f-38846eed1ee8
DTSTART:20260511T151500
DTEND:20260511T170000
DESCRIPTION:
LOCATION:
SUMMARY:Cheerleading Tryouts
END:VEVENT
BEGIN:VEVENT
DTSTAMP:20260422T045726Z
UID:bc844a8d-8414-43ca-b01c-819a506566d9
DTSTART:20260512T150000
DTEND:20260512T160000
DESCRIPTION:
LOCATION:Mrs. Litaker's Classroom
SUMMARY:Garden Club
END:VEVENT
BEGIN:VEVENT
DTSTAMP:20260422T045726Z
UID:bc189df5-984f-43ee-95a8-e9dcb992d708
DTSTART:20260512T151500
DTEND:20260512T170000
DESCRIPTION:
LOCATION:
SUMMARY:Cheerleading Tryouts
END:VEVENT
BEGIN:VEVENT
DTSTAMP:20260422T045726Z
UID:a87b99f5-a00a-4ee7-b327-e22462bfd777
DTSTART:20260513T150000
DTEND:20260513T160000
DESCRIPTION:
LOCATION:
SUMMARY:Jazz Band
END:VEVENT
BEGIN:VEVENT
DTSTAMP:20260422T045726Z
UID:24e555f5-362e-4da4-a359-88849ae887f0
DTSTART:20260513T151500
DTEND:20260513T170000
DESCRIPTION:
LOCATION:
SUMMARY:Cheerleading Tryouts
END:VEVENT
BEGIN:VEVENT
DTSTAMP:20260422T045726Z
UID:08a72b42-ea7e-49e9-8cc5-7e5b01345c91
DTSTART:20260514T072000
DTEND:20260514T074000
DESCRIPTION:
LOCATION:
SUMMARY:FCA Meeting
END:VEVENT
BEGIN:VEVENT
DTSTAMP:20260422T045726Z
UID:b6250d29-2c6d-46b5-9eac-8e1fd0063068
DTSTART:20260514T151500
DTEND:20260514T170000
DESCRIPTION:
LOCATION:
SUMMARY:Cheerleading Tryouts
END:VEVENT
BEGIN:VEVENT
DTSTAMP:20260422T045726Z
UID:9b0aa2c8-ef5c-4015-914d-f0c539008081
DTSTART:20260514T180000
DTEND:20260514T190000
DESCRIPTION:
LOCATION:
SUMMARY:6th and Jazz Band Spring Concert at WEMS (6th grade and Jazz band)
END:VEVENT
BEGIN:VEVENT
DTSTAMP:20260422T045726Z
UID:87378425-b656-4833-ae8e-3fe444b0c1b7
DTSTART:20260514T190000
DTEND:20260514T200000
DESCRIPTION:
LOCATION:
SUMMARY:7th and 8th Grade Spring Concert at WEMS (7th and 8th)
END:VEVENT
BEGIN:VEVENT
DTSTAMP:20260422T045726Z
UID:3c76f340-8f84-477d-8f29-74e61af550a4
DTSTART;VALUE=DATE:20260516
DTEND;VALUE=DATE:20260517
DESCRIPTION:
LOCATION:
SUMMARY:Davie County Spring Jamboree at DCHS at 8am then Carowinds (7th)
END:VEVENT
BEGIN:VEVENT
DTSTAMP:20260422T045726Z
UID:d3edc0ed-acd5-47bd-a466-666b3f70c4fe
DTSTART:20260518T170000
DTEND:20260518T180000
DESCRIPTION:
LOCATION:
SUMMARY:BETA Club Induction Ceremony
END:VEVENT
BEGIN:VEVENT
DTSTAMP:20260422T045726Z
UID:2d02be1c-c11b-4810-bd9b-f87a9f26d458
DTSTART:20260519T150000
DTEND:20260519T160000
DESCRIPTION:
LOCATION:Mrs. Litaker's Classroom
SUMMARY:Garden Club
END:VEVENT
BEGIN:VEVENT
DTSTAMP:20260422T045726Z
UID:fc94a661-6411-46d0-9108-ed1a9e649af3
DTSTART:20260519T180000
DTEND:20260519T190000
DESCRIPTION:
LOCATION:
SUMMARY:Spring Chorus Concert
END:VEVENT
BEGIN:VEVENT
DTSTAMP:20260422T045726Z
UID:f04fb573-b164-4229-90c0-f83a08671169
DTSTART:20260520T150000
DTEND:20260520T160000
DESCRIPTION:
LOCATION:
SUMMARY:Jazz Band
END:VEVENT
BEGIN:VEVENT
DTSTAMP:20260422T045726Z
UID:0d362457-4644-4373-9397-060f1141edf7
DTSTART:20260520T170000
DTEND:20260520T190000
DESCRIPTION:
LOCATION:
SUMMARY:WEMS Spirit Night at Sam's Ice Cream
END:VEVENT
BEGIN:VEVENT
DTSTAMP:20260422T045726Z
UID:cd0cfef9-93ac-46ae-be1b-33a74267f454
DTSTART:20260521T072000
DTEND:20260521T074000
DESCRIPTION:
LOCATION:
SUMMARY:FCA Meeting
END:VEVENT
BEGIN:VEVENT
DTSTAMP:20260422T045726Z
UID:a0a0dc7a-c006-4a16-8cc3-46bfb58654d9
DTSTART:20260521T150000
DTEND:20260521T155500
DESCRIPTION:
LOCATION:
SUMMARY:Art Club Meeting
END:VEVENT
BEGIN:VEVENT
DTSTAMP:20260422T045726Z
UID:f688971c-5e84-48e7-a1d3-fcc0e863d6ee
DTSTART;VALUE=DATE:20260522
DTEND;VALUE=DATE:20260523
DESCRIPTION:
LOCATION:
SUMMARY:8th Grade Science EOG
END:VEVENT
BEGIN:VEVENT
DTSTAMP:20260422T045726Z
UID:5e0d306f-35ea-4030-8eb5-fd4b59e82f4f
DTSTART;VALUE=DATE:20260525
DTEND;VALUE=DATE:20260526
DESCRIPTION:
LOCATION:
SUMMARY:Holiday - Memorial Day
END:VEVENT
BEGIN:VEVENT
DTSTAMP:20260422T045726Z
UID:f3f3115e-fcca-474b-afef-24959d8e1b6f
DTSTART;VALUE=DATE:20260527
DTEND;VALUE=DATE:20260528
DESCRIPTION:
LOCATION:
SUMMARY:Reading EOGs
END:VEVENT
BEGIN:VEVENT
DTSTAMP:20260422T045726Z
UID:41a63e88-cea6-4c5c-b9c8-244e14eae601
DTSTART:20260527T150000
DTEND:20260527T160000
DESCRIPTION:
LOCATION:
SUMMARY:Jazz Band
END:VEVENT
BEGIN:VEVENT
DTSTAMP:20260422T045726Z
UID:875e279b-9d4a-4b7c-a37e-737e085f7b55
DTSTART:20260527T180000
DTEND:20260527T190000
DESCRIPTION:
LOCATION:
SUMMARY:Winter & Spring Sports Recognition
END:VEVENT
BEGIN:VEVENT
DTSTAMP:20260422T045726Z
UID:34423d45-7f64-4af7-b52b-680d2079cdcb
DTSTART:20260528T072000
DTEND:20260528T074000
DESCRIPTION:
LOCATION:
SUMMARY:FCA Meeting
END:VEVENT
BEGIN:VEVENT
DTSTAMP:20260422T045726Z
UID:c296bf54-1e25-46b0-b191-2676b006a05e
DTSTART;VALUE=DATE:20260529
DTEND;VALUE=DATE:20260530
DESCRIPTION:
LOCATION:
SUMMARY:Math EOG and Math 1 EOC
END:VEVENT
BEGIN:VEVENT
DTSTAMP:20260422T045726Z
UID:49e404af-b010-4c17-a26f-498ee1a029b2
DTSTART;VALUE=DATE:20260602
DTEND;VALUE=DATE:20260603
DESCRIPTION:
LOCATION:
SUMMARY:Field Day
END:VEVENT
BEGIN:VEVENT
DTSTAMP:20260422T045726Z
UID:9cd6bf16-70e4-4bcc-8b91-adee960b8355
DTSTART;VALUE=DATE:20260603
DTEND;VALUE=DATE:20260604
DESCRIPTION:
LOCATION:
SUMMARY:EOG Retesting
END:VEVENT
BEGIN:VEVENT
DTSTAMP:20260422T045726Z
UID:9f10339e-83da-4b69-b4c7-3bf691b26251
DTSTART:20260603T150000
DTEND:20260603T160000
DESCRIPTION:
LOCATION:
SUMMARY:Jazz Band
END:VEVENT
BEGIN:VEVENT
DTSTAMP:20260422T045726Z
UID:c913068a-fc5c-41a5-b399-8c98d0682617
DTSTART;VALUE=DATE:20260604
DTEND;VALUE=DATE:20260605
DESCRIPTION:
LOCATION:
SUMMARY:Awards Day
END:VEVENT
BEGIN:VEVENT
DTSTAMP:20260422T045726Z
UID:52bd1bf4-b94e-4ff7-bb30-9f55c2057501
DTSTART:20260604T072000
DTEND:20260604T074000
DESCRIPTION:
LOCATION:
SUMMARY:FCA Meeting
END:VEVENT
BEGIN:VEVENT
DTSTAMP:20260422T045726Z
UID:3ac56f21-2962-4e46-aa20-417c960f3cb8
DTSTART;VALUE=DATE:20260605
DTEND;VALUE=DATE:20260606
DESCRIPTION:
LOCATION:
SUMMARY:Early Release\, End 4th Quarter
END:VEVENT
BEGIN:VEVENT
DTSTAMP:20260422T045726Z
UID:7455cf96-6193-44ae-9337-75f66299efeb
DTSTART;VALUE=DATE:20260608
DTEND;VALUE=DATE:20260609
DESCRIPTION:
LOCATION:
SUMMARY:Professional Day - Required
END:VEVENT
BEGIN:VEVENT
DTSTAMP:20260422T045726Z
UID:ee427e11-4e90-48fe-9e2b-eec1b175b806
DTSTART;VALUE=DATE:20260609
DTEND;VALUE=DATE:20260610
DESCRIPTION:
LOCATION:
SUMMARY:Professional Day - Required
END:VEVENT
BEGIN:VEVENT
DTSTAMP:20260422T045726Z
UID:4c3ed939-895d-4807-be8d-4e04fb8c8b61
DTSTART;VALUE=DATE:20260610
DTEND;VALUE=DATE:20260611
DESCRIPTION:
LOCATION:
SUMMARY:Professional Day - Not Required
END:VEVENT
BEGIN:VEVENT
DTSTAMP:20260422T045726Z
UID:f1418a34-ae1d-438a-a884-bcbac2a68e86
DTSTART;VALUE=DATE:20260611
DTEND;VALUE=DATE:20260612
DESCRIPTION:
LOCATION:
SUMMARY:Professional Day - Not Required
END:VEVENT
BEGIN:VEVENT
DTSTAMP:20260422T045726Z
UID:0e2f6b8a-3f2f-4d02-b394-95a42a1c0796
DTSTART;VALUE=DATE:20260612
DTEND;VALUE=DATE:20260613
DESCRIPTION:
LOCATION:
SUMMARY:Professional Day - Not Required
END:VEVENT
BEGIN:VEVENT
DTSTAMP:20260422T045726Z
UID:c5b6a1b6-3d5f-4e81-bac6-9dd8e8683984
DTSTART;VALUE=DATE:20260612
DTEND;VALUE=DATE:20260613
DESCRIPTION:
LOCATION:
SUMMARY:Professional Day - Not Required
END:VEVENT
BEGIN:VEVENT
DTSTAMP:20260422T045726Z
UID:68f5ee5c-e8c2-4ff2-b09a-88af6b53fe4d
DTSTART;VALUE=DATE:20260612
DTEND;VALUE=DATE:20260613
DESCRIPTION:
LOCATION:
SUMMARY:Report Cards
END:VEVENT
BEGIN:VEVENT
DTSTAMP:20260422T045726Z
UID:5ec88b08-4d73-4bc5-959b-df328b513a6b
DTSTART;VALUE=DATE:20260812
DTEND;VALUE=DATE:20260813
DESCRIPTION:
LOCATION:
SUMMARY:Professional Day - Not Required
END:VEVENT
BEGIN:VEVENT
DTSTAMP:20260422T045726Z
UID:6ede1ca6-f107-45b7-8819-13e7a6dfde77
DTSTART;VALUE=DATE:20260813
DTEND;VALUE=DATE:20260814
DESCRIPTION:
LOCATION:
SUMMARY:Professional Day - Required
END:VEVENT
BEGIN:VEVENT
DTSTAMP:20260422T045726Z
UID:2b8b044c-c3ca-4ff7-b003-91347bbdfbb1
DTSTART;VALUE=DATE:20260814
DTEND;VALUE=DATE:20260815
DESCRIPTION:
LOCATION:
SUMMARY:Professional Day - Required
END:VEVENT
BEGIN:VEVENT
DTSTAMP:20260422T045726Z
UID:d1fe5344-ad2e-4146-8cc2-c08efff23cb8
DTSTART;VALUE=DATE:20260817
DTEND;VALUE=DATE:20260818
DESCRIPTION:
LOCATION:
SUMMARY:Professional Day - Required
END:VEVENT
BEGIN:VEVENT
DTSTAMP:20260422T045726Z
UID:6f20a459-6091-4780-9bbc-2d5adf21db26
DTSTART;VALUE=DATE:20260818
DTEND;VALUE=DATE:20260819
DESCRIPTION:
LOCATION:
SUMMARY:Professional Day - Required
END:VEVENT
BEGIN:VEVENT
DTSTAMP:20260422T045726Z
UID:9dd9e39c-6739-4f7c-903d-5cbc8a52b7f7
DTSTART:20260818T080000
DTEND:20260818T083000
DESCRIPTION:
LOCATION:
SUMMARY:Staff Picture
END:VEVENT
BEGIN:VEVENT
DTSTAMP:20260422T045726Z
UID:9a5c8295-d82e-4570-a9fd-ac37f37493e5
DTSTART;VALUE=DATE:20260819
DTEND;VALUE=DATE:20260820
DESCRIPTION:
LOCATION:
SUMMARY:Professional Day - Required
END:VEVENT
BEGIN:VEVENT
DTSTAMP:20260422T045726Z
UID:0463d12f-0d81-4d43-a23d-d1ce7b8c9744
DTSTART;VALUE=DATE:20260820
DTEND;VALUE=DATE:20260821
DESCRIPTION:
LOCATION:
SUMMARY:Professional Day - Required
END:VEVENT
BEGIN:VEVENT
DTSTAMP:20260422T045726Z
UID:519fe6c3-eae4-4a49-a566-910d2ef3f7b9
DTSTART;VALUE=DATE:20260821
DTEND;VALUE=DATE:20260822
DESCRIPTION:
LOCATION:
SUMMARY:Professional Day - Required
END:VEVENT
BEGIN:VEVENT
DTSTAMP:20260422T045726Z
UID:bbda92d7-ecb6-43b3-aca9-2c6051b8a5e4
DTSTART;VALUE=DATE:20260824
DTEND;VALUE=DATE:20260825
DESCRIPTION:
LOCATION:
SUMMARY:First Student Day
END:VEVENT
BEGIN:VEVENT
DTSTAMP:20260422T045726Z
UID:94355183-f371-4089-8d35-035260565ebe
DTSTART;VALUE=DATE:20260907
DTEND;VALUE=DATE:20260908
DESCRIPTION:
LOCATION:
SUMMARY:Holiday - Labor Day
END:VEVENT
BEGIN:VEVENT
DTSTAMP:20260422T045726Z
UID:f4b2cd97-749b-4092-ba6e-b315373cdf7a
DTSTART;VALUE=DATE:20260914
DTEND;VALUE=DATE:20260915
DESCRIPTION:
LOCATION:
SUMMARY:Fall Pictures
END:VEVENT
BEGIN:VEVENT
DTSTAMP:20260422T045726Z
UID:25663018-af26-4a60-84e3-4bf35bb50101
DTSTART;VALUE=DATE:20260923
DTEND;VALUE=DATE:20260924
DESCRIPTION:
LOCATION:
SUMMARY:Early Release
END:VEVENT
BEGIN:VEVENT
DTSTAMP:20260422T045726Z
UID:3795564e-279f-44ba-9d6a-0aea829ed7b1
DTSTART;VALUE=DATE:20261012
DTEND;VALUE=DATE:20261013
DESCRIPTION:
LOCATION:
SUMMARY:Professional Day - Required - Davie Experience
END:VEVENT
BEGIN:VEVENT
DTSTAMP:20260422T045726Z
UID:bf83d792-881d-4fa3-852c-bff34972c4d5
DTSTART;VALUE=DATE:20261015
DTEND;VALUE=DATE:20261016
DESCRIPTION:
LOCATION:
SUMMARY:Fall Picture Retake/Make Up Day
END:VEVENT
BEGIN:VEVENT
DTSTAMP:20260422T045726Z
UID:2edb5069-47f3-460d-92a2-61ec2c1cf3e4
DTSTART;VALUE=DATE:20261030
DTEND;VALUE=DATE:20261031
DESCRIPTION:
LOCATION:
SUMMARY:Professional Day - Not Required
END:VEVENT
BEGIN:VEVENT
DTSTAMP:20260422T045726Z
UID:8a4d60aa-0154-42a4-930f-09798b6786ca
DTSTART;VALUE=DATE:20261111
DTEND;VALUE=DATE:20261112
DESCRIPTION:
LOCATION:
SUMMARY:Holiday - Veterans Day
END:VEVENT
BEGIN:VEVENT
DTSTAMP:20260422T045726Z
UID:4082eb8d-a4cb-4e77-bba4-e8b8a35ed908
DTSTART;VALUE=DATE:20261125
DTEND;VALUE=DATE:20261126
DESCRIPTION:
LOCATION:
SUMMARY:Professional Day - Not Required
END:VEVENT
BEGIN:VEVENT
DTSTAMP:20260422T045726Z
UID:db62bc51-c5e8-47d5-87f9-f48e380f6d2e
DTSTART;VALUE=DATE:20261126
DTEND;VALUE=DATE:20261127
DESCRIPTION:
LOCATION:
SUMMARY:Holiday - Thanksgiving
END:VEVENT
BEGIN:VEVENT
DTSTAMP:20260422T045726Z
UID:e13d884b-eac1-468a-abf5-8c438a0eaa9b
DTSTART;VALUE=DATE:20261127
DTEND;VALUE=DATE:20261128
DESCRIPTION:
LOCATION:
SUMMARY:Holiday - Thanksgiving
END:VEVENT
BEGIN:VEVENT
DTSTAMP:20260422T045726Z
UID:6694fa4b-271b-4202-9762-c89ec4ed4109
DTSTART;VALUE=DATE:20261221
DTEND;VALUE=DATE:20261222
DESCRIPTION:
LOCATION:
SUMMARY:Annual Leave
END:VEVENT
BEGIN:VEVENT
DTSTAMP:20260422T045726Z
UID:20619cfa-1657-410e-8e20-a40ef83e6967
DTSTART;VALUE=DATE:20261222
DTEND;VALUE=DATE:20261223
DESCRIPTION:
LOCATION:
SUMMARY:Annual Leave
END:VEVENT
BEGIN:VEVENT
DTSTAMP:20260422T045726Z
UID:42ad425d-82c9-4416-b432-191881b173a8
DTSTART;VALUE=DATE:20261223
DTEND;VALUE=DATE:20261224
DESCRIPTION:
LOCATION:
SUMMARY:Holiday - Christmas Eve
END:VEVENT
BEGIN:VEVENT
DTSTAMP:20260422T045726Z
UID:05c84b91-8c7f-43a0-9c8a-6bda4a9ba1ef
DTSTART;VALUE=DATE:20261224
DTEND;VALUE=DATE:20261225
DESCRIPTION:
LOCATION:
SUMMARY:Holiday - Christmas
END:VEVENT
BEGIN:VEVENT
DTSTAMP:20260422T045726Z
UID:42200fe3-abe3-4655-a504-fd7630e40ab0
DTSTART;VALUE=DATE:20261225
DTEND;VALUE=DATE:20261226
DESCRIPTION:
LOCATION:
SUMMARY:Holiday - Christmas
END:VEVENT
BEGIN:VEVENT
DTSTAMP:20260422T045726Z
UID:2b3ef325-1bef-4ae0-a863-aaea8db1fdbb
DTSTART;VALUE=DATE:20261228
DTEND;VALUE=DATE:20261229
DESCRIPTION:
LOCATION:
SUMMARY:Annual Leave
END:VEVENT
BEGIN:VEVENT
DTSTAMP:20260422T045726Z
UID:ea83155b-4bb8-47cc-9036-ef220f706d7b
DTSTART;VALUE=DATE:20261230
DTEND;VALUE=DATE:20261231
DESCRIPTION:
LOCATION:
SUMMARY:Annual Leave
END:VEVENT
BEGIN:VEVENT
DTSTAMP:20260422T045726Z
UID:d00ef71f-dabb-4156-8ed3-1b5f064a2ad4
DTSTART;VALUE=DATE:20261231
DTEND;VALUE=DATE:20270101
DESCRIPTION:
LOCATION:
SUMMARY:Annual Leave
END:VEVENT
BEGIN:VEVENT
DTSTAMP:20260422T045726Z
UID:0b6a518b-68fd-4af1-bb6c-e51adf0a24b1
DTSTART;VALUE=DATE:20270101
DTEND;VALUE=DATE:20270102
DESCRIPTION:
LOCATION:
SUMMARY:Holiday - New Years
END:VEVENT
BEGIN:VEVENT
DTSTAMP:20260422T045726Z
UID:33c3c360-ccf8-4305-9e25-238e6838f9dd
DTSTART;VALUE=DATE:20270115
DTEND;VALUE=DATE:20270116
DESCRIPTION:
LOCATION:
SUMMARY:End 2nd Quarter
END:VEVENT
BEGIN:VEVENT
DTSTAMP:20260422T045726Z
UID:f16418a4-021b-41a9-bcaa-7973be9d5b86
DTSTART;VALUE=DATE:20270118
DTEND;VALUE=DATE:20270119
DESCRIPTION:
LOCATION:
SUMMARY:Holiday - MLK Day
END:VEVENT
BEGIN:VEVENT
DTSTAMP:20260422T045726Z
UID:a47747ee-f64c-4472-9613-499e4bd04e38
DTSTART;VALUE=DATE:20270119
DTEND;VALUE=DATE:20270120
DESCRIPTION:
LOCATION:
SUMMARY:Professional Day - Required
END:VEVENT
BEGIN:VEVENT
DTSTAMP:20260422T045726Z
UID:cbbfa081-c793-452a-a5c2-09dfce7e073d
DTSTART;VALUE=DATE:20270215
DTEND;VALUE=DATE:20270216
DESCRIPTION:
LOCATION:
SUMMARY:Professional Day - Required
END:VEVENT
BEGIN:VEVENT
DTSTAMP:20260422T045726Z
UID:c236670a-3723-4dd9-adbf-26d2bd30a8f3
DTSTART;VALUE=DATE:20270311
DTEND;VALUE=DATE:20270312
DESCRIPTION:
LOCATION:
SUMMARY:Spring Pictures
END:VEVENT
BEGIN:VEVENT
DTSTAMP:20260422T045726Z
UID:646db871-179a-40f8-91a7-d7d49980d1a9
DTSTART;VALUE=DATE:20270324
DTEND;VALUE=DATE:20270325
DESCRIPTION:
LOCATION:
SUMMARY:End 3rd Quarter
END:VEVENT
BEGIN:VEVENT
DTSTAMP:20260422T045726Z
UID:e8be3a8e-9aee-4de8-9efa-98459d7baeb8
DTSTART;VALUE=DATE:20270329
DTEND;VALUE=DATE:20270330
DESCRIPTION:
LOCATION:
SUMMARY:Holiday - Easter Monday
END:VEVENT
BEGIN:VEVENT
DTSTAMP:20260422T045726Z
UID:6c7cc2db-d142-4411-89a3-c58772c270c0
DTSTART;VALUE=DATE:20270330
DTEND;VALUE=DATE:20270331
DESCRIPTION:
LOCATION:
SUMMARY:Annual Leave
END:VEVENT
BEGIN:VEVENT
DTSTAMP:20260422T045726Z
UID:85cd6d1e-0493-4b58-8857-de1eabc4fccf
DTSTART;VALUE=DATE:20270331
DTEND;VALUE=DATE:20270401
DESCRIPTION:
LOCATION:
SUMMARY:Annual Leave
END:VEVENT
BEGIN:VEVENT
DTSTAMP:20260422T045726Z
UID:53aa48ef-ee8c-4335-aee1-bffb7bfd2779
DTSTART;VALUE=DATE:20270401
DTEND;VALUE=DATE:20270402
DESCRIPTION:
LOCATION:
SUMMARY:Annual Leave
END:VEVENT
BEGIN:VEVENT
DTSTAMP:20260422T045726Z
UID:c84adb78-627a-42d7-a5ea-bbd0ae647adb
DTSTART;VALUE=DATE:20270402
DTEND;VALUE=DATE:20270403
DESCRIPTION:
LOCATION:
SUMMARY:Annual Leave
END:VEVENT
BEGIN:VEVENT
DTSTAMP:20260422T045726Z
UID:70ccd883-b069-4813-9bce-e388ad5131cd
DTSTART;VALUE=DATE:20270413
DTEND;VALUE=DATE:20270414
DESCRIPTION:
LOCATION:
SUMMARY:8th Grade Promotion Pictures
END:VEVENT
BEGIN:VEVENT
DTSTAMP:20260422T045726Z
UID:2885da37-a8f8-4221-a043-5f50a85928a2
DTSTART;VALUE=DATE:20270430
DTEND;VALUE=DATE:20270501
DESCRIPTION:
LOCATION:
SUMMARY:Professional Day - Not Required
END:VEVENT
BEGIN:VEVENT
DTSTAMP:20260422T045726Z
UID:ffd833e0-929c-45a4-b6fc-6950fac9e7a0
DTSTART;VALUE=DATE:20270513
DTEND;VALUE=DATE:20270514
DESCRIPTION:
LOCATION:
SUMMARY:Early Release
END:VEVENT
BEGIN:VEVENT
DTSTAMP:20260422T045726Z
UID:9c20bad4-014e-4eb8-a330-0945bb1f0d9d
DTSTART;VALUE=DATE:20270531
DTEND;VALUE=DATE:20270601
DESCRIPTION:
LOCATION:
SUMMARY:Holiday - Memorial Day
END:VEVENT
BEGIN:VEVENT
DTSTAMP:20260422T045726Z
UID:9997e9a0-1e26-4c2f-bb54-194bd2a95f21
DTSTART;VALUE=DATE:20270604
DTEND;VALUE=DATE:20270605
DESCRIPTION:
LOCATION:
SUMMARY:Professional Day - Required
END:VEVENT
BEGIN:VEVENT
DTSTAMP:20260422T045726Z
UID:b8756b17-22e0-49ff-8181-5e819237a311
DTSTART;VALUE=DATE:20270607
DTEND;VALUE=DATE:20270608
DESCRIPTION:
LOCATION:
SUMMARY:Professional Day - Required
END:VEVENT
BEGIN:VEVENT
DTSTAMP:20260422T045726Z
UID:10b79b2f-4ce3-4d72-9eeb-d31ac53e0e4d
DTSTART;VALUE=DATE:20270608
DTEND;VALUE=DATE:20270609
DESCRIPTION:
LOCATION:
SUMMARY:Professional Day - Not Required
END:VEVENT
BEGIN:VEVENT
DTSTAMP:20260422T045726Z
UID:edc0340d-e4da-49b5-8cba-cbd09785fbf4
DTSTART;VALUE=DATE:20271026
DTEND;VALUE=DATE:20271027
DESCRIPTION:
LOCATION:
SUMMARY:End 1st Quarter
END:VEVENT
END:VCALENDAR
