BEGIN:VCALENDAR
VERSION:2.0
PRODID:icalendar-ruby
CALSCALE:GREGORIAN
BEGIN:VTIMEZONE
TZID:America/Chicago
BEGIN:DAYLIGHT
DTSTART:20260308T030000
TZOFFSETFROM:-0600
TZOFFSETTO:-0500
RRULE:FREQ=YEARLY;BYDAY=2SU;BYMONTH=3
TZNAME:CDT
END:DAYLIGHT
BEGIN:STANDARD
DTSTART:20261101T010000
TZOFFSETFROM:-0500
TZOFFSETTO:-0600
RRULE:FREQ=YEARLY;BYDAY=1SU;BYMONTH=11
TZNAME:CST
END:STANDARD
END:VTIMEZONE
BEGIN:VEVENT
DTSTAMP:20260419T125549Z
UID:ef2d0198-1c49-49d6-a9f5-198632a2608e
DTSTART;VALUE=DATE:20260420
DTEND;VALUE=DATE:20260421
DESCRIPTION:
LOCATION:
SUMMARY:A Day
END:VEVENT
BEGIN:VEVENT
DTSTAMP:20260419T125549Z
UID:b7b6ee47-17e8-4293-abb3-19aa50ac3275
DTSTART:20260420T180000
DTEND:20260420T200000
DESCRIPTION:
LOCATION:Stony Point High School\, 1801 Tiger Trail\, Round Rock\, TX 78664
 \, USA
SUMMARY:Future and Returning SPHS Football Players Meeting - Main Gym
END:VEVENT
BEGIN:VEVENT
DTSTAMP:20260419T125549Z
UID:0dae064b-8a20-4e06-9d65-cc63e7ecb523
DTSTART;VALUE=DATE:20260421
DTEND;VALUE=DATE:20260422
DESCRIPTION:
LOCATION:
SUMMARY:Algebra I  STAAR Testing
END:VEVENT
BEGIN:VEVENT
DTSTAMP:20260419T125549Z
UID:7665eedc-d26e-48f2-bd96-e9ec1d0958e5
DTSTART;VALUE=DATE:20260422
DTEND;VALUE=DATE:20260423
DESCRIPTION:
LOCATION:
SUMMARY:A Day
END:VEVENT
BEGIN:VEVENT
DTSTAMP:20260419T125549Z
UID:cfa3f54b-bcbb-4b0d-a5dc-7c8cd8ead1bc
DTSTART;VALUE=DATE:20260424
DTEND;VALUE=DATE:20260425
DESCRIPTION:
LOCATION:
SUMMARY:A Day
END:VEVENT
BEGIN:VEVENT
DTSTAMP:20260419T125549Z
UID:8bb7d784-45a4-4fd2-805f-e37a5ea896a9
DTSTART;VALUE=DATE:20260428
DTEND;VALUE=DATE:20260429
DESCRIPTION:
LOCATION:
SUMMARY:A Day
END:VEVENT
BEGIN:VEVENT
DTSTAMP:20260419T125549Z
UID:2f56cb10-21d7-4df8-955f-968e1178cf8c
DTSTART:20260428T180000
DTEND:20260428T200000
DESCRIPTION:<p dir="ltr">We are grateful that we are able to provide health
  and wellness education\, resources and opportunities for all our Round Ro
 ck ISD community! That’s why we are providing two free health and wellne
 ss fairs for students and families before school ends.</p><p dir="ltr">You
 ’re invited to meet with health and wellness specialists and community v
 endors between the six breakout sessions and free pizza (while it lasts).<
 /p><p dir="ltr"><b>Topics covered:<br></b>- Student support through academ
 ic transition<br>- Stress management and mental health awareness<br>- CPR 
 &amp\; Stop The Bleed demos<br>- Internet safety<br>- Physical fitness act
 ivities</p>
LOCATION:Ridgeview Middle School\, 2000 Via Sonoma Trail #5659\, Round Rock
 \, TX 78665\, USA
SUMMARY:District Health and Well Being Fair #2
END:VEVENT
BEGIN:VEVENT
DTSTAMP:20260419T125549Z
UID:109ef762-3c5e-4705-8f68-08a2d2f69278
DTSTART:20260428T180000
DTEND:20260428T200000
DESCRIPTION:
LOCATION:
SUMMARY:Underclassmen Awards -Main gym
END:VEVENT
BEGIN:VEVENT
DTSTAMP:20260419T125549Z
UID:64a88a48-2fab-4234-9755-2fffa815952e
DTSTART;VALUE=DATE:20260430
DTEND;VALUE=DATE:20260501
DESCRIPTION:
LOCATION:
SUMMARY:A Day
END:VEVENT
BEGIN:VEVENT
DTSTAMP:20260419T125549Z
UID:cf29f4b9-d985-440a-97c0-401298dd24ff
DTSTART:20260430T180000
DTEND:20260430T200000
DESCRIPTION:Contact: Sandy Logston X 7089
LOCATION:
SUMMARY:Senior Awards Ceremony-Main gym
END:VEVENT
BEGIN:VEVENT
DTSTAMP:20260419T125549Z
UID:dfb096ff-93a2-4caa-b317-937504f8b01b
DTSTART;VALUE=DATE:20260501
DTEND;VALUE=DATE:20260503
DESCRIPTION:
LOCATION:Heroes Stadium\, 4799 Thousand Oaks Dr\, San Antonio\, TX 78233\, 
 USA
SUMMARY:Track (Qualifiers only) @ Region IV Meet
END:VEVENT
BEGIN:VEVENT
DTSTAMP:20260419T125549Z
UID:40dab0bb-5be9-4644-8774-a4bd9b73355b
DTSTART:20260502T093000
DTEND:20260502T123000
DESCRIPTION:<b>We invite our community and families to join us at our Enrol
 lment Extravaganza!<br></b><br><u>What this event will support: <br></u>
 • Complete new in-district &amp\; out-of-district student enrollment and
  get<br>help with annual forms.<br>• Sign up for fun and affordable camp
 s.<br>• Families whose students are invited to participate in our Launch
 \, Propel and<br>high school summer learning can get their questions answe
 red and<br>in-person help enrolling.<br>• Learn about our virtual learni
 ng program.<br>• Get guidance directly from our subject matter experts.<
 br>• Enjoy refreshments while your student enjoys fun activities.<br><br
 ><b>Have a new student you'd like to enroll?<br></b><br><u>Make sure to br
 ing these documents\, and we'll get you enrolled!<br></u>• Student’s 
 certified birth certificate\,<br>• Immunization records\,<br>• Proof
  of residence within the school district<br>• Boundaries\, or bring you
 r district transfer approval.<br>• The last report card or withdrawal fo
 rm from the prior school district (if available)\, <br>• The student’s
  Social Security Card (if available).
LOCATION:Pearson Ranch Middle School\, 8901 Pearson Ranch Rd\, Austin\, TX 
 78717\, USA
SUMMARY:Enrollment Extravaganza & Virtual Academy Info Sessions
END:VEVENT
BEGIN:VEVENT
DTSTAMP:20260419T125549Z
UID:554a1ee1-c359-41f7-9496-6aa145123a4f
DTSTART;VALUE=DATE:20260504
DTEND;VALUE=DATE:20260505
DESCRIPTION:
LOCATION:
SUMMARY:A Day
END:VEVENT
BEGIN:VEVENT
DTSTAMP:20260419T125549Z
UID:facd4ac6-77af-48dc-9100-c22552ae21e6
DTSTART:20260504T180000
DTEND:20260504T200000
DESCRIPTION:Contact: Sandy Logston ext. 7089
LOCATION:
SUMMARY:Project Grad Meeting-Library
END:VEVENT
BEGIN:VEVENT
DTSTAMP:20260419T125549Z
UID:2d31dad4-8ec9-4d9e-a0ca-f3130b7aeb65
DTSTART;VALUE=DATE:20260506
DTEND;VALUE=DATE:20260507
DESCRIPTION:
LOCATION:
SUMMARY:A Day
END:VEVENT
BEGIN:VEVENT
DTSTAMP:20260419T125549Z
UID:674847ba-c80e-4569-8cd9-3b4b0f140639
DTSTART:20260506T173000
DTEND:20260506T200000
DESCRIPTION:This meeting will be hosted in person. <br>For more informatio
 n\, visit our <a href="https://www.roundrockisd.org/o/rrisd/page/safety-se
 curity-committee">Safety and Security Committee webpage</a>.
LOCATION:Old Hopewell Conference Center\, 1325-1499 Round Rock Ave\, Round 
 Rock\, TX 78681\, USA
SUMMARY:Safety and Security Committee: Called Meeting
END:VEVENT
BEGIN:VEVENT
DTSTAMP:20260419T125549Z
UID:f837b1e7-6336-47df-9a70-2007bcbe688a
DTSTART;VALUE=DATE:20260508
DTEND;VALUE=DATE:20260509
DESCRIPTION:
LOCATION:
SUMMARY:A Day
END:VEVENT
BEGIN:VEVENT
DTSTAMP:20260419T125549Z
UID:4b44ea9e-cb36-4316-903c-14c59c3195f2
DTSTART:20260511T180000
DTEND:20260511T210000
DESCRIPTION:<b>Contact:</b> William Hinkle x7150
LOCATION:
SUMMARY:FFA Banquet - Cafeteria
END:VEVENT
BEGIN:VEVENT
DTSTAMP:20260419T125549Z
UID:42d42372-bf9c-42a5-987e-994bf3d823d7
DTSTART;VALUE=DATE:20260512
DTEND;VALUE=DATE:20260513
DESCRIPTION:
LOCATION:
SUMMARY:A Day
END:VEVENT
BEGIN:VEVENT
DTSTAMP:20260419T125549Z
UID:e8cef23d-870f-4e1c-b7a7-21c395f0c554
DTSTART:20260512T163000
DTEND:20260512T180000
DESCRIPTION:<b>Contact:</b> Errick Prince x7234
LOCATION:
SUMMARY:DECA Banquet - Cafeteria 
END:VEVENT
BEGIN:VEVENT
DTSTAMP:20260419T125549Z
UID:f2495001-abfe-441d-a498-254f338999f9
DTSTART:20260513T180000
DTEND:20260513T200000
DESCRIPTION:CONTACT: Master Guns ext. 7278\nEVENT START TIME: 6:00 PM
LOCATION:
SUMMARY:NJROTC Change of Command-Main gym
END:VEVENT
BEGIN:VEVENT
DTSTAMP:20260419T125549Z
UID:14857db3-c40e-4126-b278-b3649ed4680c
DTSTART;VALUE=DATE:20260514
DTEND;VALUE=DATE:20260515
DESCRIPTION:
LOCATION:
SUMMARY:A Day
END:VEVENT
BEGIN:VEVENT
DTSTAMP:20260419T125549Z
UID:37ebb529-ce4e-4dd3-a7e2-e317cf15cd8b
DTSTART;VALUE=DATE:20260514
DTEND;VALUE=DATE:20260517
DESCRIPTION:
LOCATION:University of Texas at Austin\, Austin\, TX\, USA
SUMMARY:Track (Qualifiers only) @ State Meet
END:VEVENT
BEGIN:VEVENT
DTSTAMP:20260419T125549Z
UID:e9266b91-9b48-47fa-86fe-7fe000095e73
DTSTART;VALUE=DATE:20260518
DTEND;VALUE=DATE:20260519
DESCRIPTION:
LOCATION:
SUMMARY:A Day
END:VEVENT
BEGIN:VEVENT
DTSTAMP:20260419T125549Z
UID:2540adaf-b9ef-46c5-9b4a-73ccda60fad2
DTSTART;VALUE=DATE:20260520
DTEND;VALUE=DATE:20260521
DESCRIPTION:
LOCATION:
SUMMARY:A Day
END:VEVENT
BEGIN:VEVENT
DTSTAMP:20260419T125549Z
UID:8a1217f7-f1d4-401e-ac78-a921dbf6e278
DTSTART:20260520T150000
DTEND:20260520T163000
DESCRIPTION:<b>Graduation 2026:</b> <br>ECHS  Location: Raymond H. PAC M
 ay 20\, 2026| 3:00 PM<br>Success HS Location: Raymond H. PAC May 20\, 202
 6| 6:00 PM<br><br>Stony Point HS Location: HEB May 21\, 2025 | 2:00 PM  
 <br>Round Rock HS Location: HEB May 21\, 2025 | 7:00 PM <br>  *Senior A
 ttendance procedures for May 21st- Attendance submitted at 10:50 AM<br><br
 >Ceder Ridge HS Location: HEB May 22\, 2025 | 9:00 AM<br>McNeil HS Locatio
 n: HEB May 22\, 2025 | 2:00 PM<br>Westwood HS Location: HEB May 22\, 2025 
 | 7:00 PM
LOCATION:Raymond H. PAC
SUMMARY:ECHS Graduation
END:VEVENT
BEGIN:VEVENT
DTSTAMP:20260419T125549Z
UID:c34170b4-8686-4f19-a2bc-45588c96e2b0
DTSTART:20260520T180000
DTEND:20260520T200000
DESCRIPTION:<b>Graduation 2026:</b> <br>ECHS  Location: Raymond H. PAC M
 ay 20\, 2026| 3:00 PM<br>Success HS Location: Raymond H. PAC May 20\, 202
 6| 6:00 PM<br><br>Stony Point HS Location: HEB May 21\, 2025 | 2:00 PM  
 <br>Round Rock HS Location: HEB May 21\, 2025 | 7:00 PM <br>  *Senior A
 ttendance procedures for May 21st- Attendance submitted at 10:50 AM<br><br
 >Ceder Ridge HS Location: HEB May 22\, 2025 | 9:00 AM<br>McNeil HS Locatio
 n: HEB May 22\, 2025 | 2:00 PM<br>Westwood HS Location: HEB May 22\, 2025 
 | 7:00 PM
LOCATION:Raymond H. PAC
SUMMARY:Success Graduation
END:VEVENT
BEGIN:VEVENT
DTSTAMP:20260419T125549Z
UID:13e2fe05-3f56-4185-aaf0-6efe1ae651af
DTSTART;VALUE=DATE:20260521
DTEND;VALUE=DATE:20260522
DESCRIPTION:
LOCATION:
SUMMARY:Last Day of Classes/Second Semester Ends
END:VEVENT
BEGIN:VEVENT
DTSTAMP:20260419T125549Z
UID:243b0095-f19d-45d5-a79a-bb845035fb18
DTSTART:20260521T140000
DTEND:20260521T153000
DESCRIPTION:
LOCATION:H-E-B Center at Cedar Park\, 2100 Ave of the Stars\, Cedar Park\, 
 TX 78613\, USA
SUMMARY:Stony Point Graduation Ceremony
END:VEVENT
BEGIN:VEVENT
DTSTAMP:20260419T125549Z
UID:a8dbbf03-5ab7-4395-bb83-7cce0aa54a64
DTSTART:20260521T140000
DTEND:20260521T173000
DESCRIPTION:<b>Graduation 2026:</b> <br>ECHS  Location: Raymond H. PAC M
 ay 20\, 2026| 3:00 PM<br>Success HS Location: Raymond H. PAC May 20\, 202
 6| 6:00 PM<br><br>Stony Point HS Location: HEB May 21\, 2025 | 2:00 PM  
 <br>Round Rock HS Location: HEB May 21\, 2025 | 7:00 PM <br>  *Senior A
 ttendance procedures for May 21st- Attendance submitted at 10:50 AM<br><br
 >Ceder Ridge HS Location: HEB May 22\, 2025 | 9:00 AM<br>McNeil HS Locatio
 n: HEB May 22\, 2025 | 2:00 PM<br>Westwood HS Location: HEB May 22\, 2025 
 | 7:00 PM
LOCATION:H-E-B Center at Cedar Park\, 2100 Ave of the Stars\, Cedar Park\, 
 TX 78613\, USA
SUMMARY:Stony Point HS Graduation
END:VEVENT
BEGIN:VEVENT
DTSTAMP:20260419T125549Z
UID:35074a41-1223-415b-b441-666f8c88b9f4
DTSTART:20260521T173000
DTEND:20260521T213000
DESCRIPTION:Round Rock HS 100 Lecture Hall – Board Meeting Room
LOCATION:300 N Lake Creek Dr\, Round Rock\, TX 78681\, USA
SUMMARY:Board of Trustees Regular Board Meeting
END:VEVENT
BEGIN:VEVENT
DTSTAMP:20260419T125549Z
UID:efc98658-39a3-45cd-b1b6-d26fa08a308e
DTSTART:20260521T190000
DTEND:20260521T220000
DESCRIPTION:<b>Graduation 2026:</b> <br>ECHS  Location: Raymond H. PAC M
 ay 20\, 2026| 3:00 PM<br>Success HS Location: Raymond H. PAC May 20\, 202
 6| 6:00 PM<br><br>Stony Point HS Location: HEB May 21\, 2025 | 2:00 PM  
 <br>Round Rock HS Location: HEB May 21\, 2025 | 7:00 PM <br>  *Senior A
 ttendance procedures for May 21st- Attendance submitted at 10:50 AM<br><br
 >Ceder Ridge HS Location: HEB May 22\, 2025 | 9:00 AM<br>McNeil HS Locatio
 n: HEB May 22\, 2025 | 2:00 PM<br>Westwood HS Location: HEB May 22\, 2025 
 | 7:00 PM
LOCATION:H-E-B Center at Cedar Park\, 2100 Ave of the Stars\, Cedar Park\, 
 TX 78613\, USA
SUMMARY:Round Rock HS  Graduation
END:VEVENT
BEGIN:VEVENT
DTSTAMP:20260419T125549Z
UID:9f6d9750-cee0-468c-8ab7-48109ff0f387
DTSTART:20260522T090000
DTEND:20260522T120000
DESCRIPTION:<b>Graduation 2026:</b> <br>ECHS  Location: Raymond H. PAC M
 ay 20\, 2026| 3:00 PM<br>Success HS Location: Raymond H. PAC May 20\, 202
 6| 6:00 PM<br><br>Stony Point HS Location: HEB May 21\, 2026 | 2:00 PM  
 <br>Round Rock HS Location: HEB May 21\, 2026 | 7:00 PM <br>  *Senior A
 ttendance procedures for May 21st- Attendance submitted at 10:50 AM<br><br
 >Ceder Ridge HS Location: HEB May 22\, 2026 | 9:00 AM<br>McNeil HS Locatio
 n: HEB May 22\, 2026 | 2:00 PM<br>Westwood HS Location: HEB May 22\, 2026 
 | 7:00 PM
LOCATION:H-E-B Center at Cedar Park\, 2100 Ave of the Stars\, Cedar Park\, 
 TX 78613\, USA
SUMMARY:Cedar Ridge HS   Graduation
END:VEVENT
BEGIN:VEVENT
DTSTAMP:20260419T125549Z
UID:b960e00b-07a1-4aa7-8bf8-c5738b67710a
DTSTART:20260522T140000
DTEND:20260522T170000
DESCRIPTION:<b>Graduation 2026:</b> <br>ECHS  Location: Raymond H. PAC M
 ay 20\, 2026| 3:00 PM<br>Success HS Location: Raymond H. PAC May 20\, 202
 6| 6:00 PM<br><br>Stony Point HS Location: HEB May 21\, 2025 | 2:00 PM  
 <br>Round Rock HS Location: HEB May 21\, 2025 | 7:00 PM <br>  *Senior A
 ttendance procedures for May 21st- Attendance submitted at 10:50 AM<br><br
 >Ceder Ridge HS Location: HEB May 22\, 2025 | 9:00 AM<br>McNeil HS Locatio
 n: HEB May 22\, 2025 | 2:00 PM<br>Westwood HS Location: HEB May 22\, 2025 
 | 7:00 PM
LOCATION:H-E-B Center at Cedar Park\, 2100 Ave of the Stars\, Cedar Park\, 
 TX 78613\, USA
SUMMARY:McNeil HS   Graduation
END:VEVENT
BEGIN:VEVENT
DTSTAMP:20260419T125549Z
UID:235117be-3c51-49bc-b54f-4f419067e0b2
DTSTART:20260522T190000
DTEND:20260522T220000
DESCRIPTION:<b>Graduation 2026:</b> <br>ECHS  Location: Raymond H. PAC M
 ay 20\, 2026| 3:00 PM<br>Success HS Location: Raymond H. PAC May 20\, 202
 6| 6:00 PM<br><br>Stony Point HS Location: HEB May 21\, 2025 | 2:00 PM  
 <br>Round Rock HS Location: HEB May 21\, 2025 | 7:00 PM <br>  *Senior A
 ttendance procedures for May 21st- Attendance submitted at 10:50 AM<br><br
 >Ceder Ridge HS Location: HEB May 22\, 2025 | 9:00 AM<br>McNeil HS Locatio
 n: HEB May 22\, 2025 | 2:00 PM<br>Westwood HS Location: HEB May 22\, 2025 
 | 7:00 PM
LOCATION:H-E-B Center at Cedar Park\, 2100 Ave of the Stars\, Cedar Park\, 
 TX 78613\, USA
SUMMARY:Westwood HS   Graduation
END:VEVENT
BEGIN:VEVENT
DTSTAMP:20260419T125549Z
UID:adaf8ae8-f7e7-4360-9dd8-b110984ba862
DTSTART;VALUE=DATE:20260525
DTEND;VALUE=DATE:20260526
DESCRIPTION:
LOCATION:
SUMMARY:Memorial Day - Staff Holiday
END:VEVENT
BEGIN:VEVENT
DTSTAMP:20260419T125549Z
UID:c7007a05-b010-4b19-b7cc-13665e55a37a
DTSTART:20260527T140000
DTEND:20260527T160000
DESCRIPTION:Don't miss our upcoming Support staff hiring event.<br>To learn
  more about what Round Rock ISD has to offer\, visit <a href="http://www.r
 oundrockisd.org/o/rrisd/page/jobs?fbclid=IwZXh0bgNhZW0CMTAAYnJpZBExNWlLMlN
 STldCMmQyQk44THNydGMGYXBwX2lkEDIyMjAzOTE3ODgyMDA4OTIAAR75-7O17pu1eIna46Zpj
 BZCF-HCI4XWoId85SIp2RWc6zclEUvt55ogAYSuHA_aem_b0aVrch6F8cg2pPtE4v22Q">our 
 jobs webpage</a>!<br>We're excited to have you join our team!
LOCATION:Cedar Valley Middle School\, 8139 Racine Trail\, Round Rock\, TX 7
 8681\, USA
SUMMARY:2026-27 Support Staff Job Fair
END:VEVENT
BEGIN:VEVENT
DTSTAMP:20260419T125549Z
UID:9a19f949-45ed-4cf0-a869-044e117c8b72
DTSTART:20260616T173000
DTEND:20260616T213000
DESCRIPTION:Round Rock HS 100 Lecture Hall – Board Meeting Room
LOCATION:300 N Lake Creek Dr\, Round Rock\, TX 78681\, USA
SUMMARY:Board of Trustees Regular Board Meeting
END:VEVENT
BEGIN:VEVENT
DTSTAMP:20260419T125549Z
UID:ecb45537-8381-4418-a499-8dd6991c56fc
DTSTART;VALUE=DATE:20260810
DTEND;VALUE=DATE:20260815
DESCRIPTION:
LOCATION:
SUMMARY:Staff Development Days
END:VEVENT
BEGIN:VEVENT
DTSTAMP:20260419T125549Z
UID:27d1d914-019c-4d6a-a023-399ed2191b30
DTSTART;VALUE=DATE:20260817
DTEND;VALUE=DATE:20260819
DESCRIPTION:
LOCATION:
SUMMARY:Staff Development Days
END:VEVENT
BEGIN:VEVENT
DTSTAMP:20260419T125549Z
UID:8e5c1c32-307f-452c-82d0-e204090d0a1b
DTSTART;VALUE=DATE:20260819
DTEND;VALUE=DATE:20260820
DESCRIPTION:
LOCATION:
SUMMARY:First Day of School
END:VEVENT
BEGIN:VEVENT
DTSTAMP:20260419T125549Z
UID:50e02580-28c9-43c8-8a28-5266479926ce
DTSTART;VALUE=DATE:20260907
DTEND;VALUE=DATE:20260908
DESCRIPTION:
LOCATION:
SUMMARY:Labor Day: Student & Staff Holiday
END:VEVENT
BEGIN:VEVENT
DTSTAMP:20260419T125549Z
UID:976f7e27-0f0f-4474-b7b1-6d2834147b1c
DTSTART:20260909T180000
DTEND:20260909T200000
DESCRIPTION:
LOCATION:Stony Point High School\, 1801 Tiger Trail\, Round Rock\, TX 78664
 \, USA
SUMMARY:Stony Point Back to School Night
END:VEVENT
BEGIN:VEVENT
DTSTAMP:20260419T125549Z
UID:4dbb14b1-1d96-4472-9e97-16575c1b84a6
DTSTART;VALUE=DATE:20260921
DTEND;VALUE=DATE:20260922
DESCRIPTION:
LOCATION:
SUMMARY:Student Holiday/Staff Development
END:VEVENT
BEGIN:VEVENT
DTSTAMP:20260419T125549Z
UID:44af0e08-d0c5-4c4c-bb73-a3cffeb858df
DTSTART;VALUE=DATE:20261008
DTEND;VALUE=DATE:20261009
DESCRIPTION:
LOCATION:
SUMMARY:End of 1st nine weeks
END:VEVENT
BEGIN:VEVENT
DTSTAMP:20260419T125549Z
UID:e5429f07-0284-49cc-8b96-0cdffafc6bb0
DTSTART;VALUE=DATE:20261009
DTEND;VALUE=DATE:20261010
DESCRIPTION:
LOCATION:
SUMMARY:Student Holiday/Staff Development
END:VEVENT
BEGIN:VEVENT
DTSTAMP:20260419T125549Z
UID:e3900846-254a-4682-89ae-3209bfa81470
DTSTART;VALUE=DATE:20261012
DTEND;VALUE=DATE:20261013
DESCRIPTION:
LOCATION:
SUMMARY:Student Holiday/Staff Development
END:VEVENT
BEGIN:VEVENT
DTSTAMP:20260419T125549Z
UID:f92f7a69-eee8-4c4b-86df-467d4b0e008e
DTSTART;VALUE=DATE:20261013
DTEND;VALUE=DATE:20261014
DESCRIPTION:
LOCATION:
SUMMARY:Start of 2nd nine weeks
END:VEVENT
BEGIN:VEVENT
DTSTAMP:20260419T125549Z
UID:72c71eea-b059-4a97-9ad1-83b41b6a3d8c
DTSTART;VALUE=DATE:20261019
DTEND;VALUE=DATE:20261020
DESCRIPTION:
LOCATION:
SUMMARY:YOU Day! Student & Staff Holiday
END:VEVENT
BEGIN:VEVENT
DTSTAMP:20260419T125549Z
UID:a5c18256-d898-4aa3-acb7-3c582d98847f
DTSTART;VALUE=DATE:20261123
DTEND;VALUE=DATE:20261128
DESCRIPTION:
LOCATION:
SUMMARY:Fall Break: Student & Staff Holiday
END:VEVENT
BEGIN:VEVENT
DTSTAMP:20260419T125549Z
UID:3421392c-ca27-412e-b0e2-e37510f065c1
DTSTART;VALUE=DATE:20261217
DTEND;VALUE=DATE:20261218
DESCRIPTION:
LOCATION:
SUMMARY:End of 2nd nine weeks
END:VEVENT
BEGIN:VEVENT
DTSTAMP:20260419T125549Z
UID:f866a304-48e8-4cd2-a962-c7925dfe0a87
DTSTART;VALUE=DATE:20261218
DTEND;VALUE=DATE:20261219
DESCRIPTION:
LOCATION:
SUMMARY:Student Holiday/Teacher Work Day
END:VEVENT
BEGIN:VEVENT
DTSTAMP:20260419T125549Z
UID:da1e7f34-6458-4729-9113-221cafbd4b20
DTSTART;VALUE=DATE:20261221
DTEND;VALUE=DATE:20270102
DESCRIPTION:
LOCATION:
SUMMARY:Winter Break: Student & Staff Holiday
END:VEVENT
BEGIN:VEVENT
DTSTAMP:20260419T125549Z
UID:c169da19-a577-4c93-9822-5328cc48cbff
DTSTART;VALUE=DATE:20270104
DTEND;VALUE=DATE:20270105
DESCRIPTION:
LOCATION:
SUMMARY:Student Holiday/Staff Development
END:VEVENT
BEGIN:VEVENT
DTSTAMP:20260419T125549Z
UID:bada2052-2512-4de4-9a71-6606362431f0
DTSTART;VALUE=DATE:20270105
DTEND;VALUE=DATE:20270106
DESCRIPTION:
LOCATION:
SUMMARY:Start of 3rd nine weeks
END:VEVENT
BEGIN:VEVENT
DTSTAMP:20260419T125549Z
UID:ede155a4-ce69-423a-9081-51e7c268632a
DTSTART;VALUE=DATE:20270118
DTEND;VALUE=DATE:20270119
DESCRIPTION:
LOCATION:
SUMMARY:MLK Day: Student & Staff Holiday
END:VEVENT
BEGIN:VEVENT
DTSTAMP:20260419T125549Z
UID:0298821f-b0fa-40f5-85ae-09498e9fa6eb
DTSTART;VALUE=DATE:20270212
DTEND;VALUE=DATE:20270213
DESCRIPTION:
LOCATION:
SUMMARY:Student Holiday/Staff Development
END:VEVENT
BEGIN:VEVENT
DTSTAMP:20260419T125549Z
UID:28143a8b-a423-4989-8720-c1c0f2c5bff0
DTSTART;VALUE=DATE:20270215
DTEND;VALUE=DATE:20270216
DESCRIPTION:
LOCATION:
SUMMARY:YOU Day! Student & Staff Holiday
END:VEVENT
BEGIN:VEVENT
DTSTAMP:20260419T125549Z
UID:d9b84876-2b32-45de-b922-6a80aa5fb347
DTSTART;VALUE=DATE:20270310
DTEND;VALUE=DATE:20270311
DESCRIPTION:
LOCATION:
SUMMARY:Student Holiday/Staff Development
END:VEVENT
BEGIN:VEVENT
DTSTAMP:20260419T125549Z
UID:c14d4001-f185-4c3b-80bd-2754d09dadfe
DTSTART;VALUE=DATE:20270315
DTEND;VALUE=DATE:20270320
DESCRIPTION:
LOCATION:
SUMMARY:Spring Break: Student & Staff Holiday
END:VEVENT
BEGIN:VEVENT
DTSTAMP:20260419T125549Z
UID:8d220058-b61a-404d-ada7-a7e7613e1c77
DTSTART;VALUE=DATE:20270326
DTEND;VALUE=DATE:20270327
DESCRIPTION:
LOCATION:
SUMMARY:Student & Staff Holiday
END:VEVENT
BEGIN:VEVENT
DTSTAMP:20260419T125549Z
UID:121fd2ab-a9c2-4509-a73d-29f05b439aac
DTSTART;VALUE=DATE:20270527
DTEND;VALUE=DATE:20270528
DESCRIPTION:
LOCATION:
SUMMARY:Last day of school
END:VEVENT
BEGIN:VEVENT
DTSTAMP:20260419T125549Z
UID:077e106d-2466-45b3-9693-f09f1d1994d0
DTSTART;VALUE=DATE:20270528
DTEND;VALUE=DATE:20270529
DESCRIPTION:
LOCATION:
SUMMARY:Teacher Work Day
END:VEVENT
BEGIN:VEVENT
DTSTAMP:20260419T125549Z
UID:f14d0359-5780-4cf3-94af-cbbc1bcfcf79
DTSTART;VALUE=DATE:20270531
DTEND;VALUE=DATE:20270601
DESCRIPTION:
LOCATION:
SUMMARY:Memorial Day: Staff Holiday
END:VEVENT
BEGIN:VEVENT
DTSTAMP:20260419T125549Z
UID:70344419-df0f-41dd-bea8-a2afb1d47316
DTSTART;VALUE=DATE:20270604
DTEND;VALUE=DATE:20270605
DESCRIPTION:
LOCATION:
SUMMARY:District Closed
END:VEVENT
BEGIN:VEVENT
DTSTAMP:20260419T125549Z
UID:2f9ba950-a322-4d0c-b1fc-ac7c4eb2769f
DTSTART;VALUE=DATE:20270611
DTEND;VALUE=DATE:20270612
DESCRIPTION:
LOCATION:
SUMMARY:District Closed
END:VEVENT
BEGIN:VEVENT
DTSTAMP:20260419T125549Z
UID:b29cf558-2370-4160-b503-9bfe9e64eae6
DTSTART;VALUE=DATE:20270618
DTEND;VALUE=DATE:20270619
DESCRIPTION:
LOCATION:
SUMMARY:District Closed
END:VEVENT
BEGIN:VEVENT
DTSTAMP:20260419T125549Z
UID:68bc5a01-8ab3-4bf1-8394-7f5ba8b21398
DTSTART;VALUE=DATE:20270621
DTEND;VALUE=DATE:20270703
DESCRIPTION:
LOCATION:
SUMMARY:District Closed
END:VEVENT
BEGIN:VEVENT
DTSTAMP:20260419T125549Z
UID:9ba347eb-d06c-4b44-920a-88519af25f70
DTSTART;VALUE=DATE:20270709
DTEND;VALUE=DATE:20270710
DESCRIPTION:
LOCATION:
SUMMARY:District Closed
END:VEVENT
BEGIN:VEVENT
DTSTAMP:20260419T125549Z
UID:41420ca1-58af-4024-9ec4-7ed0c4e6cccf
DTSTART;VALUE=DATE:20270716
DTEND;VALUE=DATE:20270717
DESCRIPTION:
LOCATION:
SUMMARY:District Closed
END:VEVENT
BEGIN:VEVENT
DTSTAMP:20260419T125549Z
UID:fd7677df-406b-445f-bf6c-a95290151c81
DTSTART;VALUE=DATE:20270723
DTEND;VALUE=DATE:20270724
DESCRIPTION:
LOCATION:
SUMMARY:District Closed
END:VEVENT
BEGIN:VEVENT
DTSTAMP:20260419T125549Z
UID:f50eba72-2038-418f-97a7-6234a12a3eac
DTSTART;VALUE=DATE:20270730
DTEND;VALUE=DATE:20270731
DESCRIPTION:
LOCATION:
SUMMARY:District Closed
END:VEVENT
END:VCALENDAR
