BEGIN:VCALENDAR
VERSION:2.0
PRODID:icalendar-ruby
CALSCALE:GREGORIAN
BEGIN:VTIMEZONE
TZID:America/New_York
BEGIN:DAYLIGHT
DTSTART:20260308T030000
TZOFFSETFROM:-0500
TZOFFSETTO:-0400
RRULE:FREQ=YEARLY;BYDAY=2SU;BYMONTH=3
TZNAME:EDT
END:DAYLIGHT
BEGIN:STANDARD
DTSTART:20261101T010000
TZOFFSETFROM:-0400
TZOFFSETTO:-0500
RRULE:FREQ=YEARLY;BYDAY=1SU;BYMONTH=11
TZNAME:EST
END:STANDARD
END:VTIMEZONE
BEGIN:VEVENT
DTSTAMP:20260425T112329Z
UID:82edd5f5-e640-4f63-8986-023a652f2c5b
DTSTART:20260427T200000
DTEND:20260427T230000
DESCRIPTION:<p>The live and recorded meeting will be available on&nbsp\;<a 
 target="_blank" rel="noopener noreferrer nofollow" href="https://www.youtu
 be.com/user/RiverDellTelevision">RDTV's YouTube Channel</a></p>
LOCATION:RDHS Media Center
SUMMARY:Board of Education Meeting
END:VEVENT
BEGIN:VEVENT
DTSTAMP:20260425T112329Z
UID:2baa565c-f4d7-4abd-a628-c69e291a222d
DTSTART:20260511T200000
DTEND:20260511T230000
DESCRIPTION:<p>The live and recorded meeting will be available on&nbsp\;<a 
 target="_blank" rel="noopener noreferrer nofollow" href="https://www.youtu
 be.com/user/RiverDellTelevision">RDTV's YouTube Channel</a></p>
LOCATION:RDHS Media Center
SUMMARY:Board of Education Meeting
END:VEVENT
BEGIN:VEVENT
DTSTAMP:20260425T112329Z
UID:98764f44-9a63-4a29-9a97-ef92173ab85d
DTSTART;VALUE=DATE:20260525
DTEND;VALUE=DATE:20260526
DESCRIPTION:
LOCATION:
SUMMARY:DISTRICT CLOSED - Memorial Day 
END:VEVENT
BEGIN:VEVENT
DTSTAMP:20260425T112329Z
UID:bcf969ac-9df4-4752-b847-497d26b08805
DTSTART;VALUE=DATE:20260615
DTEND;VALUE=DATE:20260616
DESCRIPTION:<p>Early dismissal at 12:10pm</p>
LOCATION:
SUMMARY:ONE SESSION DAY FOR STUDENTS
END:VEVENT
BEGIN:VEVENT
DTSTAMP:20260425T112329Z
UID:75fe79a2-1766-4cbe-8d47-5fd214024a2f
DTSTART:20260615T200000
DTEND:20260615T230000
DESCRIPTION:<p>The live and recorded meeting will be available on&nbsp\;<a 
 target="_blank" rel="noopener noreferrer nofollow" href="https://www.youtu
 be.com/user/RiverDellTelevision">RDTV's YouTube Channel</a></p>
LOCATION:RDHS Media Center
SUMMARY:Board of Education Meeting
END:VEVENT
BEGIN:VEVENT
DTSTAMP:20260425T112329Z
UID:74e1995d-1eef-4a11-ab98-6d5ac907d2aa
DTSTART;VALUE=DATE:20260616
DTEND;VALUE=DATE:20260617
DESCRIPTION:<p>Early dismissal at 12:10pm</p>
LOCATION:
SUMMARY:ONE SESSION DAY FOR STUDENTS
END:VEVENT
BEGIN:VEVENT
DTSTAMP:20260425T112329Z
UID:1735713a-7344-4833-ba27-edd427f6c90a
DTSTART:20260616T140000
DTEND:20260616T150000
DESCRIPTION:<p>Moving Up Ceremony at 2:00PM in the River Dell High School G
 ymnasium</p>
LOCATION:River Dell High School Gymnasium
SUMMARY:MS MOVING UP CEREMONY
END:VEVENT
BEGIN:VEVENT
DTSTAMP:20260425T112329Z
UID:2a0d1d2a-98b9-41bc-8369-975f47167aeb
DTSTART;VALUE=DATE:20260617
DTEND;VALUE=DATE:20260618
DESCRIPTION:<p>Early dismissal at 12:10pm</p>
LOCATION:
SUMMARY:ONE SESSION DAY FOR STUDENTS
END:VEVENT
BEGIN:VEVENT
DTSTAMP:20260425T112329Z
UID:2ad44694-0a14-4ae8-bc94-a46c24451a94
DTSTART;VALUE=DATE:20260618
DTEND;VALUE=DATE:20260619
DESCRIPTION:<p></p>
LOCATION:
SUMMARY:Marking Period 4 ends
END:VEVENT
BEGIN:VEVENT
DTSTAMP:20260425T112329Z
UID:9beadfff-4aa0-4da8-bb90-ba18087e87d6
DTSTART;VALUE=DATE:20260618
DTEND;VALUE=DATE:20260619
DESCRIPTION:<p>Early dismissal at 12:10pm</p>
LOCATION:
SUMMARY:ONE SESSION DAY FOR STUDENTS - Last Day for Students - Graduation
END:VEVENT
BEGIN:VEVENT
DTSTAMP:20260425T112329Z
UID:ed73578b-f4c7-402b-b57c-55ea8a2df19f
DTSTART;VALUE=DATE:20260619
DTEND;VALUE=DATE:20260620
DESCRIPTION:
LOCATION:
SUMMARY:LAST DAY FOR STAFF
END:VEVENT
BEGIN:VEVENT
DTSTAMP:20260425T112329Z
UID:092c13ee-7f1a-4bee-a3cb-7c3652e855f3
DTSTART:20260720T200000
DTEND:20260720T230000
DESCRIPTION:<p>The live and recorded meeting will be available on&nbsp\;<a 
 target="_blank" rel="noopener noreferrer nofollow" href="https://www.youtu
 be.com/user/RiverDellTelevision">RDTV's YouTube Channel</a></p>
LOCATION:RDHS Media Center
SUMMARY:Board of Education Meeting
END:VEVENT
BEGIN:VEVENT
DTSTAMP:20260425T112329Z
UID:7123d4f0-102b-498c-9b32-12517c5c36db
DTSTART:20260914T200000
DTEND:20260914T230000
DESCRIPTION:<p>The live and recorded meeting will be available on&nbsp\;<a 
 target="_blank" rel="noopener noreferrer nofollow" href="https://www.youtu
 be.com/user/RiverDellTelevision">RDTV's YouTube Channel</a></p>
LOCATION:RDHS Media Center
SUMMARY:Board of Education Meeting
END:VEVENT
BEGIN:VEVENT
DTSTAMP:20260425T112329Z
UID:74f7bfc4-08c2-4baa-8e7d-af0ce6f4532e
DTSTART:20261012T200000
DTEND:20261012T230000
DESCRIPTION:<p>The live and recorded meeting will be available on&nbsp\;<a 
 target="_blank" rel="noopener noreferrer nofollow" href="https://www.youtu
 be.com/user/RiverDellTelevision">RDTV's YouTube Channel</a></p>
LOCATION:RDHS Media Center
SUMMARY:Board of Education Meeting
END:VEVENT
BEGIN:VEVENT
DTSTAMP:20260425T112329Z
UID:bd863681-c803-4ab5-88d8-256542a41139
DTSTART:20261116T200000
DTEND:20261116T230000
DESCRIPTION:<p>The live and recorded meeting will be available on&nbsp\;<a 
 target="_blank" rel="noopener noreferrer nofollow" href="https://www.youtu
 be.com/user/RiverDellTelevision">RDTV's YouTube Channel</a></p>
LOCATION:RDHS Media Center
SUMMARY:Board of Education Meeting
END:VEVENT
BEGIN:VEVENT
DTSTAMP:20260425T112329Z
UID:18a1ede3-9b75-4977-9a60-da732b06e1a7
DTSTART:20261214T200000
DTEND:20261214T230000
DESCRIPTION:<p>The live and recorded meeting will be available on&nbsp\;<a 
 target="_blank" rel="noopener noreferrer nofollow" href="https://www.youtu
 be.com/user/RiverDellTelevision">RDTV's YouTube Channel</a></p>
LOCATION:RDHS Media Center
SUMMARY:Board of Education Meeting
END:VEVENT
BEGIN:VEVENT
DTSTAMP:20260425T112329Z
UID:96ad8088-ce1e-4695-8390-26cc348507bf
DTSTART:20270104T190000
DTEND:20270104T230000
DESCRIPTION:<p>The live and recorded meeting will be available on <a targe
 t="_blank" rel="noopener noreferrer nofollow" href="https://www.youtube.co
 m/user/RiverDellTelevision">RDTV's YouTube Channel</a></p>
LOCATION:RDHS Media Center
SUMMARY:Board of Education Reorganization Meeting
END:VEVENT
END:VCALENDAR
