BEGIN:VCALENDAR
VERSION:2.0
PRODID:icalendar-ruby
CALSCALE:GREGORIAN
BEGIN:VTIMEZONE
TZID:America/Phoenix
BEGIN:STANDARD
DTSTART:19671029T010000
TZOFFSETFROM:-0600
TZOFFSETTO:-0700
TZNAME:MST
END:STANDARD
END:VTIMEZONE
BEGIN:VEVENT
DTSTAMP:20260425T123300Z
UID:5e0def76-1605-41ab-b68b-abf4f1b3e760
DTSTART:20260506T073000
DTEND:20260506T083000
DESCRIPTION:
LOCATION:
SUMMARY:GRW/GRE Coffee Talk with Principals
END:VEVENT
END:VCALENDAR
