BEGIN:VCALENDAR
VERSION:2.0
PRODID:icalendar-ruby
CALSCALE:GREGORIAN
BEGIN:VTIMEZONE
TZID:America/Phoenix
BEGIN:STANDARD
DTSTART:19671029T010000
TZOFFSETFROM:-0600
TZOFFSETTO:-0700
TZNAME:MST
END:STANDARD
END:VTIMEZONE
BEGIN:VEVENT
DTSTAMP:20260425T112202Z
UID:86150447-490c-49fa-8456-8c35807ccc0a
DTSTART:20260428T080000
DTEND:20260428T150000
DESCRIPTION:<u>Servicing the Alhambra Community</u>: Free eye exams and gl
 asses for children up to 17 years old. To schedule an appointment please c
 all 602-336-2208 or book online <a href="https://www.google.com/url?q=http
 s://eyecare4kids.org/arizona-eye-exam/&amp\;sa=D&amp\;source=calendar&amp\
 ;ust=1759098155448314&amp\;usg=AOvVaw1BszaDKsoYXr_1ru4OOyah" target="_blan
 k">here</a>\, No walk-ins\, appointments only.<br><p><span><u>Al servicio 
 de la Comunidad de la Alhambra:</u> </span><span>Exámenes de vista y len
 tes gratuitos para niños de hasta 17 años. Para programar una cita\, lla
 me al 602-336-2208 </span>o reserve en línea <a href="https://www.google
 .com/url?q=https://eyecare4kids.org/arizona-eye-exam/&amp\;sa=D&amp\;sourc
 e=calendar&amp\;ust=1759098155448314&amp\;usg=AOvVaw1BszaDKsoYXr_1ru4OOyah
 " target="_blank">aquí</a>\, No visitas sin cita previa.</p>
LOCATION:
SUMMARY:Alhambra Eye Care 4 Kids Clinic
END:VEVENT
BEGIN:VEVENT
DTSTAMP:20260425T112202Z
UID:bc028b31-375d-4b65-9562-fc544252941f
DTSTART:20260505T080000
DTEND:20260505T150000
DESCRIPTION:<u>Servicing the Alhambra Community</u>: Free eye exams and gl
 asses for children up to 17 years old. To schedule an appointment please c
 all 602-336-2208 or book online <a href="https://www.google.com/url?q=http
 s://eyecare4kids.org/arizona-eye-exam/&amp\;sa=D&amp\;source=calendar&amp\
 ;ust=1759098155448314&amp\;usg=AOvVaw1BszaDKsoYXr_1ru4OOyah" target="_blan
 k">here</a>\, No walk-ins\, appointments only.<br><p><span><u>Al servicio 
 de la Comunidad de la Alhambra:</u> </span><span>Exámenes de vista y len
 tes gratuitos para niños de hasta 17 años. Para programar una cita\, lla
 me al 602-336-2208 </span>o reserve en línea <a href="https://www.google
 .com/url?q=https://eyecare4kids.org/arizona-eye-exam/&amp\;sa=D&amp\;sourc
 e=calendar&amp\;ust=1759098155448314&amp\;usg=AOvVaw1BszaDKsoYXr_1ru4OOyah
 " target="_blank">aquí</a>\, No visitas sin cita previa.</p>
LOCATION:
SUMMARY:Alhambra Eye Care 4 Kids Clinic
END:VEVENT
BEGIN:VEVENT
DTSTAMP:20260425T112202Z
UID:97ca79ec-5019-454c-bec5-3721a10792e9
DTSTART:20260512T080000
DTEND:20260512T150000
DESCRIPTION:<u>Servicing the Alhambra Community</u>: Free eye exams and gl
 asses for children up to 17 years old. To schedule an appointment please c
 all 602-336-2208 or book online <a href="https://www.google.com/url?q=http
 s://eyecare4kids.org/arizona-eye-exam/&amp\;sa=D&amp\;source=calendar&amp\
 ;ust=1759098155448314&amp\;usg=AOvVaw1BszaDKsoYXr_1ru4OOyah" target="_blan
 k">here</a>\, No walk-ins\, appointments only.<br><p><span><u>Al servicio 
 de la Comunidad de la Alhambra:</u> </span><span>Exámenes de vista y len
 tes gratuitos para niños de hasta 17 años. Para programar una cita\, lla
 me al 602-336-2208 </span>o reserve en línea <a href="https://www.google
 .com/url?q=https://eyecare4kids.org/arizona-eye-exam/&amp\;sa=D&amp\;sourc
 e=calendar&amp\;ust=1759098155448314&amp\;usg=AOvVaw1BszaDKsoYXr_1ru4OOyah
 " target="_blank">aquí</a>\, No visitas sin cita previa.</p>
LOCATION:
SUMMARY:Alhambra Eye Care 4 Kids Clinic
END:VEVENT
BEGIN:VEVENT
DTSTAMP:20260425T112202Z
UID:7ad071fa-b9f1-42a3-8332-3357df2a6ea9
DTSTART:20260519T080000
DTEND:20260519T150000
DESCRIPTION:<u>Servicing the Alhambra Community</u>: Free eye exams and gl
 asses for children up to 17 years old. To schedule an appointment please c
 all 602-336-2208 or book online <a href="https://www.google.com/url?q=http
 s://eyecare4kids.org/arizona-eye-exam/&amp\;sa=D&amp\;source=calendar&amp\
 ;ust=1759098155448314&amp\;usg=AOvVaw1BszaDKsoYXr_1ru4OOyah" target="_blan
 k">here</a>\, No walk-ins\, appointments only.<br><p><span><u>Al servicio 
 de la Comunidad de la Alhambra:</u> </span><span>Exámenes de vista y len
 tes gratuitos para niños de hasta 17 años. Para programar una cita\, lla
 me al 602-336-2208 </span>o reserve en línea <a href="https://www.google
 .com/url?q=https://eyecare4kids.org/arizona-eye-exam/&amp\;sa=D&amp\;sourc
 e=calendar&amp\;ust=1759098155448314&amp\;usg=AOvVaw1BszaDKsoYXr_1ru4OOyah
 " target="_blank">aquí</a>\, No visitas sin cita previa.</p>
LOCATION:
SUMMARY:Alhambra Eye Care 4 Kids Clinic
END:VEVENT
END:VCALENDAR
