BEGIN:VCALENDAR
VERSION:2.0
PRODID:icalendar-ruby
CALSCALE:GREGORIAN
BEGIN:VTIMEZONE
TZID:America/Phoenix
BEGIN:STANDARD
DTSTART:19671029T010000
TZOFFSETFROM:-0600
TZOFFSETTO:-0700
TZNAME:MST
END:STANDARD
END:VTIMEZONE
BEGIN:VEVENT
DTSTAMP:20260425T145731Z
UID:2fc894f3-953b-4a66-9576-009a8b331786
DTSTART:20260527T073000
DTEND:20260527T084500
DESCRIPTION:
LOCATION:
SUMMARY:Coffee with the Principal
END:VEVENT
END:VCALENDAR
