BEGIN:VCALENDAR
VERSION:2.0
PRODID:icalendar-ruby
CALSCALE:GREGORIAN
BEGIN:VTIMEZONE
TZID:America/Phoenix
BEGIN:STANDARD
DTSTART:19671029T010000
TZOFFSETFROM:-0600
TZOFFSETTO:-0700
TZNAME:MST
END:STANDARD
END:VTIMEZONE
BEGIN:VEVENT
DTSTAMP:20260425T140214Z
UID:5a749d76-a9d8-4e39-9ffb-44a3d867df18
DTSTART:20260504T090000
DTEND:20260504T100000
DESCRIPTION:
LOCATION:
SUMMARY:ATS-Parent Involvement Network
END:VEVENT
BEGIN:VEVENT
DTSTAMP:20260425T140214Z
UID:f314b386-93d4-4489-970b-e9bd8d2082df
DTSTART:20260507T161500
DTEND:20260507T180000
DESCRIPTION:
LOCATION:
SUMMARY:ATS-Celebration of Learning
END:VEVENT
BEGIN:VEVENT
DTSTAMP:20260425T140214Z
UID:67b92284-2764-4635-a648-5b3bb4584a71
DTSTART:20260508T091500
DTEND:20260508T101500
DESCRIPTION:
LOCATION:
SUMMARY:ATS-6-8 Band/Choir Concert
END:VEVENT
BEGIN:VEVENT
DTSTAMP:20260425T140214Z
UID:074081d2-8fa0-4935-bd2e-72ec6d39a1ac
DTSTART:20260518T094500
DTEND:20260518T104500
DESCRIPTION:
LOCATION:
SUMMARY:ATS-Kinder Promtion
END:VEVENT
BEGIN:VEVENT
DTSTAMP:20260425T140214Z
UID:5a13bc1a-d1f8-46cc-aa4c-c2b1377d82c1
DTSTART:20260518T120000
DTEND:20260518T130000
DESCRIPTION:
LOCATION:
SUMMARY:ATS-Kinder Promtion
END:VEVENT
BEGIN:VEVENT
DTSTAMP:20260425T140214Z
UID:70b27d17-d3b5-4712-a1bb-3f6fec501a08
DTSTART:20260519T173000
DTEND:20260519T183000
DESCRIPTION:
LOCATION:
SUMMARY:ATS-PTO Virtual Meeting
END:VEVENT
BEGIN:VEVENT
DTSTAMP:20260425T140214Z
UID:553267a8-1f0f-48d2-8980-c5d853d0e4e3
DTSTART:20260520T170000
DTEND:20260520T190000
DESCRIPTION:
LOCATION:
SUMMARY:ATS-8th Gr Promotion
END:VEVENT
END:VCALENDAR
