BEGIN:VCALENDAR
VERSION:2.0
PRODID:icalendar-ruby
CALSCALE:GREGORIAN
BEGIN:VTIMEZONE
TZID:America/Denver
BEGIN:DAYLIGHT
DTSTART:20260308T030000
TZOFFSETFROM:-0700
TZOFFSETTO:-0600
RRULE:FREQ=YEARLY;BYDAY=2SU;BYMONTH=3
TZNAME:MDT
END:DAYLIGHT
BEGIN:STANDARD
DTSTART:20261101T010000
TZOFFSETFROM:-0600
TZOFFSETTO:-0700
RRULE:FREQ=YEARLY;BYDAY=1SU;BYMONTH=11
TZNAME:MST
END:STANDARD
END:VTIMEZONE
BEGIN:VEVENT
DTSTAMP:20260422T140535Z
UID:37e447f1-4def-41d6-a57b-c70899cfe0ff
DTSTART:20260423T080000
DTEND:20260423T130000
DESCRIPTION:
LOCATION:
SUMMARY:OWTC - Haircuts
END:VEVENT
BEGIN:VEVENT
DTSTAMP:20260422T140535Z
UID:bb8365be-e40c-446d-9c59-8810b0ddbe9a
DTSTART:20260424T120000
DTEND:20260424T121500
DESCRIPTION:
LOCATION:
SUMMARY:Early Release
END:VEVENT
BEGIN:VEVENT
DTSTAMP:20260422T140535Z
UID:d4e0c6ab-ac4a-42e4-95fe-b5c3bd316149
DTSTART:20260428T160000
DTEND:20260428T180000
DESCRIPTION:
LOCATION:(Public Calendar for Web)-HEES-Heritage Public
SUMMARY:Pre/Kinder Round Up
END:VEVENT
BEGIN:VEVENT
DTSTAMP:20260422T140535Z
UID:33ddc6db-a15f-4baa-9abf-4f0260399b08
DTSTART:20260501T120000
DTEND:20260501T121500
DESCRIPTION:
LOCATION:
SUMMARY:Early Release
END:VEVENT
BEGIN:VEVENT
DTSTAMP:20260422T140535Z
UID:232a1d74-a603-452f-b571-d1e173dfa057
DTSTART:20260506T150000
DTEND:20260506T160000
DESCRIPTION:
LOCATION:
SUMMARY:PTA Meeting
END:VEVENT
BEGIN:VEVENT
DTSTAMP:20260422T140535Z
UID:df66b054-7291-4730-86b0-859151d0299a
DTSTART:20260508T120000
DTEND:20260508T121500
DESCRIPTION:
LOCATION:
SUMMARY:Early Release
END:VEVENT
BEGIN:VEVENT
DTSTAMP:20260422T140535Z
UID:f22ae7b9-0caa-4326-9b20-7e2e30b40133
DTSTART:20260515T120000
DTEND:20260515T121500
DESCRIPTION:
LOCATION:
SUMMARY:Early Release
END:VEVENT
BEGIN:VEVENT
DTSTAMP:20260422T140535Z
UID:3d7a0524-e9ff-4637-90ec-f2ec04b5d4e2
DTSTART:20260522T120000
DTEND:20260522T121500
DESCRIPTION:
LOCATION:
SUMMARY:Last Day of School - Early Release
END:VEVENT
BEGIN:VEVENT
DTSTAMP:20260422T140535Z
UID:647a0222-6768-4a02-a959-a356c4102def
DTSTART:20260814T120000
DTEND:20260814T121500
DESCRIPTION:
LOCATION:
SUMMARY:Early Release
END:VEVENT
BEGIN:VEVENT
DTSTAMP:20260422T140535Z
UID:b2991279-8ff3-4e7c-8142-ffec06c336a9
DTSTART:20260821T120000
DTEND:20260821T121500
DESCRIPTION:
LOCATION:
SUMMARY:Early Release
END:VEVENT
BEGIN:VEVENT
DTSTAMP:20260422T140535Z
UID:2f7edd6f-55b8-4297-9b1d-08427acbb5e7
DTSTART:20260828T120000
DTEND:20260828T121500
DESCRIPTION:
LOCATION:
SUMMARY:Early Release
END:VEVENT
BEGIN:VEVENT
DTSTAMP:20260422T140535Z
UID:3abd7873-884e-44d6-8b1e-4cf7fda57f48
DTSTART:20260904T120000
DTEND:20260904T121500
DESCRIPTION:
LOCATION:
SUMMARY:Early Release
END:VEVENT
BEGIN:VEVENT
DTSTAMP:20260422T140535Z
UID:6ef61c40-6e85-43d1-82eb-2d8ed1cfef92
DTSTART:20260911T120000
DTEND:20260911T121500
DESCRIPTION:
LOCATION:
SUMMARY:Early Release
END:VEVENT
BEGIN:VEVENT
DTSTAMP:20260422T140535Z
UID:4410a68e-e45e-45d9-a1a4-3bde007b713e
DTSTART:20260918T120000
DTEND:20260918T121500
DESCRIPTION:
LOCATION:
SUMMARY:Early Release
END:VEVENT
BEGIN:VEVENT
DTSTAMP:20260422T140535Z
UID:7647bc63-a59c-4db8-b563-54b5817334a9
DTSTART:20260925T120000
DTEND:20260925T121500
DESCRIPTION:
LOCATION:
SUMMARY:Early Release
END:VEVENT
BEGIN:VEVENT
DTSTAMP:20260422T140535Z
UID:d5d4e056-f425-4ea7-ab96-b65f6a097324
DTSTART:20261002T120000
DTEND:20261002T121500
DESCRIPTION:
LOCATION:
SUMMARY:Early Release
END:VEVENT
BEGIN:VEVENT
DTSTAMP:20260422T140535Z
UID:18d9a640-a0cc-4271-b59d-c285d00d5349
DTSTART:20261009T120000
DTEND:20261009T121500
DESCRIPTION:
LOCATION:
SUMMARY:Early Release
END:VEVENT
BEGIN:VEVENT
DTSTAMP:20260422T140535Z
UID:23b7d119-81bd-4de1-8ed5-f32cfae3106e
DTSTART:20261016T120000
DTEND:20261016T121500
DESCRIPTION:
LOCATION:
SUMMARY:Early Release
END:VEVENT
BEGIN:VEVENT
DTSTAMP:20260422T140535Z
UID:bb46a6b8-a477-4c78-a026-92c736507c0d
DTSTART:20261023T120000
DTEND:20261023T121500
DESCRIPTION:
LOCATION:
SUMMARY:Early Release
END:VEVENT
BEGIN:VEVENT
DTSTAMP:20260422T140535Z
UID:58da32da-f722-4e51-a855-dd73d1ef54d1
DTSTART:20261030T120000
DTEND:20261030T121500
DESCRIPTION:
LOCATION:
SUMMARY:Early Release
END:VEVENT
BEGIN:VEVENT
DTSTAMP:20260422T140535Z
UID:4a1f71d8-746f-4d3e-a871-1c7127c62608
DTSTART:20261106T120000
DTEND:20261106T121500
DESCRIPTION:
LOCATION:
SUMMARY:Early Release
END:VEVENT
BEGIN:VEVENT
DTSTAMP:20260422T140535Z
UID:db789a29-65b6-4ea1-b40c-b230e856f46d
DTSTART:20261113T120000
DTEND:20261113T121500
DESCRIPTION:
LOCATION:
SUMMARY:Early Release
END:VEVENT
BEGIN:VEVENT
DTSTAMP:20260422T140535Z
UID:99c407b9-03f3-4dcf-8a37-2e4eaca0cde8
DTSTART:20261120T120000
DTEND:20261120T121500
DESCRIPTION:
LOCATION:
SUMMARY:Early Release
END:VEVENT
BEGIN:VEVENT
DTSTAMP:20260422T140535Z
UID:e64ef167-238c-407b-939e-c913be381b6a
DTSTART:20261127T120000
DTEND:20261127T121500
DESCRIPTION:
LOCATION:
SUMMARY:Early Release
END:VEVENT
BEGIN:VEVENT
DTSTAMP:20260422T140535Z
UID:94906170-2bed-4d75-9f54-144e898c35d4
DTSTART:20261204T120000
DTEND:20261204T121500
DESCRIPTION:
LOCATION:
SUMMARY:Early Release
END:VEVENT
BEGIN:VEVENT
DTSTAMP:20260422T140535Z
UID:92e51247-04f9-45ce-bd2a-ce62ac96dc37
DTSTART:20261211T120000
DTEND:20261211T121500
DESCRIPTION:
LOCATION:
SUMMARY:Early Release
END:VEVENT
BEGIN:VEVENT
DTSTAMP:20260422T140535Z
UID:dd05ec68-c2b6-4176-860a-8709d3faeae0
DTSTART:20261218T120000
DTEND:20261218T121500
DESCRIPTION:
LOCATION:
SUMMARY:Early Release
END:VEVENT
BEGIN:VEVENT
DTSTAMP:20260422T140535Z
UID:15337489-b65a-4010-8c46-fbf45c7787b4
DTSTART:20261225T120000
DTEND:20261225T121500
DESCRIPTION:
LOCATION:
SUMMARY:Early Release
END:VEVENT
BEGIN:VEVENT
DTSTAMP:20260422T140535Z
UID:9873bfa7-52fa-495c-ae75-0a142296cbf7
DTSTART:20270101T120000
DTEND:20270101T121500
DESCRIPTION:
LOCATION:
SUMMARY:Early Release
END:VEVENT
BEGIN:VEVENT
DTSTAMP:20260422T140535Z
UID:2f6bab08-42a6-4842-aacb-0f2f8f0646ea
DTSTART:20270108T120000
DTEND:20270108T121500
DESCRIPTION:
LOCATION:
SUMMARY:Early Release
END:VEVENT
BEGIN:VEVENT
DTSTAMP:20260422T140535Z
UID:aca59454-d24a-4221-b1de-1f4f8efae37f
DTSTART:20270115T120000
DTEND:20270115T121500
DESCRIPTION:
LOCATION:
SUMMARY:Early Release
END:VEVENT
BEGIN:VEVENT
DTSTAMP:20260422T140535Z
UID:649460e5-f469-4bb2-8351-ada5e0fafdd2
DTSTART:20270122T120000
DTEND:20270122T121500
DESCRIPTION:
LOCATION:
SUMMARY:Early Release
END:VEVENT
BEGIN:VEVENT
DTSTAMP:20260422T140535Z
UID:842b6112-1120-41aa-8c0c-e858a41bb785
DTSTART:20270129T120000
DTEND:20270129T121500
DESCRIPTION:
LOCATION:
SUMMARY:Early Release
END:VEVENT
BEGIN:VEVENT
DTSTAMP:20260422T140535Z
UID:206cc727-e4f9-4181-b9c4-41006e4a864e
DTSTART:20270205T120000
DTEND:20270205T121500
DESCRIPTION:
LOCATION:
SUMMARY:Early Release
END:VEVENT
BEGIN:VEVENT
DTSTAMP:20260422T140535Z
UID:68c52623-25b5-4b97-acf9-fac5274eea14
DTSTART:20270212T120000
DTEND:20270212T121500
DESCRIPTION:
LOCATION:
SUMMARY:Early Release
END:VEVENT
BEGIN:VEVENT
DTSTAMP:20260422T140535Z
UID:2da800a5-1e0f-47d2-91fa-43e0bf7dd115
DTSTART:20270219T120000
DTEND:20270219T121500
DESCRIPTION:
LOCATION:
SUMMARY:Early Release
END:VEVENT
BEGIN:VEVENT
DTSTAMP:20260422T140535Z
UID:8ba903aa-6129-42df-bb78-2bdfb6ab8d57
DTSTART:20270226T120000
DTEND:20270226T121500
DESCRIPTION:
LOCATION:
SUMMARY:Early Release
END:VEVENT
BEGIN:VEVENT
DTSTAMP:20260422T140535Z
UID:7dc33886-e1f3-4394-a4ba-0003b2231a08
DTSTART:20270305T120000
DTEND:20270305T121500
DESCRIPTION:
LOCATION:
SUMMARY:Early Release
END:VEVENT
BEGIN:VEVENT
DTSTAMP:20260422T140535Z
UID:c9b3b793-6987-4473-bc73-d9a71dccbf7f
DTSTART:20270312T120000
DTEND:20270312T121500
DESCRIPTION:
LOCATION:
SUMMARY:Early Release
END:VEVENT
END:VCALENDAR
