BEGIN:VCALENDAR
VERSION:2.0
PRODID:icalendar-ruby
CALSCALE:GREGORIAN
BEGIN:VTIMEZONE
TZID:America/New_York
BEGIN:DAYLIGHT
DTSTART:20260308T030000
TZOFFSETFROM:-0500
TZOFFSETTO:-0400
RRULE:FREQ=YEARLY;BYDAY=2SU;BYMONTH=3
TZNAME:EDT
END:DAYLIGHT
BEGIN:STANDARD
DTSTART:20261101T010000
TZOFFSETFROM:-0400
TZOFFSETTO:-0500
RRULE:FREQ=YEARLY;BYDAY=1SU;BYMONTH=11
TZNAME:EST
END:STANDARD
END:VTIMEZONE
BEGIN:VEVENT
DTSTAMP:20260423T131102Z
UID:84cc3e29-f2f2-4f4a-97b4-8d657fdd01e9
DTSTART;VALUE=DATE:20260423
DTEND;VALUE=DATE:20260424
DESCRIPTION:
LOCATION:
SUMMARY:F-Day
END:VEVENT
BEGIN:VEVENT
DTSTAMP:20260423T131102Z
UID:167dd7c1-31f5-40df-9428-88a9aa13ead7
DTSTART;VALUE=DATE:20260424
DTEND;VALUE=DATE:20260425
DESCRIPTION:
LOCATION:
SUMMARY:A-Day
END:VEVENT
BEGIN:VEVENT
DTSTAMP:20260423T131102Z
UID:b5459ea7-dbf5-4248-afe5-359dd0489317
DTSTART;VALUE=DATE:20260427
DTEND;VALUE=DATE:20260428
DESCRIPTION:
LOCATION:
SUMMARY:B-Day
END:VEVENT
BEGIN:VEVENT
DTSTAMP:20260423T131102Z
UID:2fe5c9bd-d316-492f-b30f-4fe0a3043c58
DTSTART;VALUE=DATE:20260428
DTEND;VALUE=DATE:20260429
DESCRIPTION:
LOCATION:
SUMMARY:C-Day
END:VEVENT
BEGIN:VEVENT
DTSTAMP:20260423T131102Z
UID:62b90861-4911-49a4-8c46-b41e810a55c3
DTSTART;VALUE=DATE:20260429
DTEND;VALUE=DATE:20260430
DESCRIPTION:
LOCATION:
SUMMARY:D-Day
END:VEVENT
BEGIN:VEVENT
DTSTAMP:20260423T131102Z
UID:c59ae2bd-8e0e-49f9-ad7c-3795091aab46
DTSTART;VALUE=DATE:20260430
DTEND;VALUE=DATE:20260501
DESCRIPTION:<strong>Event:</strong> <a href="https://aptg.co/_KyKr1">Yonker
 s Council of PTA/PTSAs Annual Fundraising Gala</a><br><strong>Date:</stron
 g> Thursday\, April 30\, 2026<br><strong>Time:</strong> 5:30 PM<br><strong
 >Venue:</strong> Westchester Manor<br><strong>Address:</strong> 140 Saw Mi
 ll River Road\, Hastings-on-Hudson\, NY 10706<br><strong>Honorees:</strong
 > Brenda Cardoza\; RoseAnne Collins-Judon
LOCATION:Westchester Manor\, 140 Saw Mill River Rd\, Hastings-On-Hudson\, N
 Y 10706\, USA
SUMMARY:5:30 PM YCPTA Annual Fundraising Gala
END:VEVENT
BEGIN:VEVENT
DTSTAMP:20260423T131102Z
UID:02e54cb3-202f-4a96-b0c7-c744d3a422d2
DTSTART;VALUE=DATE:20260430
DTEND;VALUE=DATE:20260501
DESCRIPTION:
LOCATION:
SUMMARY:E-Day
END:VEVENT
BEGIN:VEVENT
DTSTAMP:20260423T131102Z
UID:9107bb30-456d-4544-b697-935f2db19620
DTSTART;VALUE=DATE:20260501
DTEND;VALUE=DATE:20260502
DESCRIPTION:
LOCATION:
SUMMARY:F-Day
END:VEVENT
BEGIN:VEVENT
DTSTAMP:20260423T131102Z
UID:3ec03918-88a9-41af-ad95-3122ca9437b0
DTSTART;VALUE=DATE:20260504
DTEND;VALUE=DATE:20260505
DESCRIPTION:
LOCATION:
SUMMARY:A-Day
END:VEVENT
BEGIN:VEVENT
DTSTAMP:20260423T131102Z
UID:477556a6-0ac3-490f-bf93-da58fc508fe6
DTSTART;VALUE=DATE:20260505
DTEND;VALUE=DATE:20260506
DESCRIPTION:
LOCATION:
SUMMARY:B-Day
END:VEVENT
BEGIN:VEVENT
DTSTAMP:20260423T131102Z
UID:45c7da7e-305f-4c63-99cd-c11068259379
DTSTART;VALUE=DATE:20260506
DTEND;VALUE=DATE:20260507
DESCRIPTION:
LOCATION:
SUMMARY:C-Day
END:VEVENT
BEGIN:VEVENT
DTSTAMP:20260423T131102Z
UID:5b343ac2-02f4-4b21-abc2-9deaa2d61517
DTSTART;VALUE=DATE:20260507
DTEND;VALUE=DATE:20260508
DESCRIPTION:
LOCATION:
SUMMARY:D-Day
END:VEVENT
BEGIN:VEVENT
DTSTAMP:20260423T131102Z
UID:568f68d0-1e67-4332-9c1f-402bb5c69d01
DTSTART;VALUE=DATE:20260508
DTEND;VALUE=DATE:20260509
DESCRIPTION:
LOCATION:
SUMMARY:E-Day
END:VEVENT
BEGIN:VEVENT
DTSTAMP:20260423T131102Z
UID:0ac2750e-d251-4f88-8d2d-fe044e54002d
DTSTART;VALUE=DATE:20260509
DTEND;VALUE=DATE:20260510
DESCRIPTION:
LOCATION:Lincoln High School\, 375 Kneeland Ave\, Yonkers\, NY 10704\, USA
SUMMARY:Annual Districtwide Science Fair
END:VEVENT
BEGIN:VEVENT
DTSTAMP:20260423T131102Z
UID:62a45487-c2f8-4223-8313-f4232c94e6df
DTSTART;VALUE=DATE:20260511
DTEND;VALUE=DATE:20260512
DESCRIPTION:
LOCATION:
SUMMARY:F-Day
END:VEVENT
BEGIN:VEVENT
DTSTAMP:20260423T131102Z
UID:b9c26de4-2c5b-4048-8c61-7a4ffb4bdf38
DTSTART;VALUE=DATE:20260512
DTEND;VALUE=DATE:20260513
DESCRIPTION:
LOCATION:
SUMMARY:A-Day
END:VEVENT
BEGIN:VEVENT
DTSTAMP:20260423T131102Z
UID:b4314bd3-f89c-46be-959f-2e54a0098b05
DTSTART;VALUE=DATE:20260513
DTEND;VALUE=DATE:20260514
DESCRIPTION:
LOCATION:
SUMMARY:B-Day
END:VEVENT
BEGIN:VEVENT
DTSTAMP:20260423T131102Z
UID:8b12e87e-f213-4701-9da9-7cf83985642f
DTSTART;VALUE=DATE:20260514
DTEND;VALUE=DATE:20260515
DESCRIPTION:
LOCATION:
SUMMARY:C-Day
END:VEVENT
BEGIN:VEVENT
DTSTAMP:20260423T131102Z
UID:e3507608-4ebe-4786-8fde-e1e54f8c0afc
DTSTART;VALUE=DATE:20260515
DTEND;VALUE=DATE:20260516
DESCRIPTION:
LOCATION:
SUMMARY:D-Day
END:VEVENT
BEGIN:VEVENT
DTSTAMP:20260423T131102Z
UID:089adf12-4535-4cf3-8100-9c44eccf9078
DTSTART;VALUE=DATE:20260518
DTEND;VALUE=DATE:20260519
DESCRIPTION:
LOCATION:
SUMMARY:E-Day
END:VEVENT
BEGIN:VEVENT
DTSTAMP:20260423T131102Z
UID:cc4459e5-9ec5-4f3c-b069-70e49bb0e5c1
DTSTART;VALUE=DATE:20260519
DTEND;VALUE=DATE:20260520
DESCRIPTION:
LOCATION:
SUMMARY:F-Day
END:VEVENT
BEGIN:VEVENT
DTSTAMP:20260423T131102Z
UID:837022aa-9384-4842-b898-d864bc150c7d
DTSTART;VALUE=DATE:20260520
DTEND;VALUE=DATE:20260521
DESCRIPTION:
LOCATION:
SUMMARY:A-Day
END:VEVENT
BEGIN:VEVENT
DTSTAMP:20260423T131102Z
UID:66d0ecdf-031f-4814-9840-2d2b19adc1db
DTSTART;VALUE=DATE:20260521
DTEND;VALUE=DATE:20260522
DESCRIPTION:
LOCATION:
SUMMARY:B-Day
END:VEVENT
BEGIN:VEVENT
DTSTAMP:20260423T131102Z
UID:f18fe202-4fd1-43af-8dc6-7bd21540b5da
DTSTART;VALUE=DATE:20260522
DTEND;VALUE=DATE:20260523
DESCRIPTION:
LOCATION:
SUMMARY:C-Day
END:VEVENT
BEGIN:VEVENT
DTSTAMP:20260423T131102Z
UID:cdaaddfa-6230-43a2-a881-9b4b27384fb3
DTSTART;VALUE=DATE:20260525
DTEND;VALUE=DATE:20260526
DESCRIPTION:
LOCATION:
SUMMARY:Memorial Day: Schools & Central Office Closed
END:VEVENT
BEGIN:VEVENT
DTSTAMP:20260423T131102Z
UID:ffb50857-64a1-47ed-9574-3bd40b52798e
DTSTART;VALUE=DATE:20260525
DTEND;VALUE=DATE:20260526
DESCRIPTION:
LOCATION:
SUMMARY:No School: Holiday
END:VEVENT
BEGIN:VEVENT
DTSTAMP:20260423T131102Z
UID:5f1b8c69-3bfa-48bd-a65d-5a9358669b82
DTSTART;VALUE=DATE:20260526
DTEND;VALUE=DATE:20260527
DESCRIPTION:
LOCATION:
SUMMARY:D-Day
END:VEVENT
BEGIN:VEVENT
DTSTAMP:20260423T131102Z
UID:adb709e2-bcbc-4b11-b875-cd36822b5148
DTSTART;VALUE=DATE:20260527
DTEND;VALUE=DATE:20260528
DESCRIPTION:
LOCATION:
SUMMARY:E-Day
END:VEVENT
BEGIN:VEVENT
DTSTAMP:20260423T131102Z
UID:78e5b8dc-a2fc-493d-b3aa-22350670b886
DTSTART;VALUE=DATE:20260528
DTEND;VALUE=DATE:20260529
DESCRIPTION:
LOCATION:
SUMMARY:F-Day
END:VEVENT
BEGIN:VEVENT
DTSTAMP:20260423T131102Z
UID:899e1c79-200a-4533-a1be-f3f887378d25
DTSTART;VALUE=DATE:20260529
DTEND;VALUE=DATE:20260530
DESCRIPTION:
LOCATION:
SUMMARY:A-Day
END:VEVENT
BEGIN:VEVENT
DTSTAMP:20260423T131102Z
UID:9ffc426c-a2e8-43a1-bc99-4f29a119d01d
DTSTART:20260529T150000
DTEND:20260529T230000
DESCRIPTION:
LOCATION:Charles E. Gorton High School\, 100 Shonnard Pl\, Yonkers\, NY 107
 03\, USA
SUMMARY:Relay for Life Yonkers
END:VEVENT
BEGIN:VEVENT
DTSTAMP:20260423T131102Z
UID:054c46a5-ff4f-44e7-98fd-d72d921473c5
DTSTART;VALUE=DATE:20260601
DTEND;VALUE=DATE:20260602
DESCRIPTION:
LOCATION:
SUMMARY:B-Day
END:VEVENT
BEGIN:VEVENT
DTSTAMP:20260423T131102Z
UID:cf9ea666-8d86-4061-a77d-7fed0d331a72
DTSTART;VALUE=DATE:20260602
DTEND;VALUE=DATE:20260603
DESCRIPTION:
LOCATION:
SUMMARY:C-Day
END:VEVENT
BEGIN:VEVENT
DTSTAMP:20260423T131102Z
UID:911af666-0cd8-434b-9796-2ab82dbda194
DTSTART;VALUE=DATE:20260603
DTEND;VALUE=DATE:20260604
DESCRIPTION:
LOCATION:
SUMMARY:D-Day
END:VEVENT
BEGIN:VEVENT
DTSTAMP:20260423T131102Z
UID:e64b89ff-adfe-4970-bb9f-fa69614bda11
DTSTART;VALUE=DATE:20260604
DTEND;VALUE=DATE:20260605
DESCRIPTION:
LOCATION:
SUMMARY:E-Day
END:VEVENT
BEGIN:VEVENT
DTSTAMP:20260423T131102Z
UID:4066f30a-9e1f-49a8-a547-25bb0c1f115f
DTSTART;VALUE=DATE:20260605
DTEND;VALUE=DATE:20260606
DESCRIPTION:
LOCATION:
SUMMARY:F-Day
END:VEVENT
BEGIN:VEVENT
DTSTAMP:20260423T131102Z
UID:8518d50f-e577-43ad-a5a3-5ddc745ea093
DTSTART;VALUE=DATE:20260608
DTEND;VALUE=DATE:20260609
DESCRIPTION:
LOCATION:
SUMMARY:A-Day
END:VEVENT
BEGIN:VEVENT
DTSTAMP:20260423T131102Z
UID:8cd4fac4-9f9b-44a7-8520-f6511c8712dd
DTSTART;VALUE=DATE:20260609
DTEND;VALUE=DATE:20260610
DESCRIPTION:
LOCATION:
SUMMARY:B-Day
END:VEVENT
BEGIN:VEVENT
DTSTAMP:20260423T131102Z
UID:a13de487-9a68-43d9-816b-f16fd203c2e5
DTSTART;VALUE=DATE:20260609
DTEND;VALUE=DATE:20260611
DESCRIPTION:
LOCATION:
SUMMARY:Regents Exams: High Schools Only
END:VEVENT
BEGIN:VEVENT
DTSTAMP:20260423T131102Z
UID:30ad0968-4ac0-4c6f-af10-b7cd63d2b8be
DTSTART;VALUE=DATE:20260610
DTEND;VALUE=DATE:20260611
DESCRIPTION:
LOCATION:
SUMMARY:C-Day
END:VEVENT
BEGIN:VEVENT
DTSTAMP:20260423T131102Z
UID:c8b7a495-1e16-41cb-9675-d6589cbc8556
DTSTART;VALUE=DATE:20260611
DTEND;VALUE=DATE:20260612
DESCRIPTION:
LOCATION:Saunders Trades and Technical High School\, 183 Palmer Rd\, Yonker
 s\, NY 10701\, USA
SUMMARY:5:30 PM 5th Grade Spelling Bee
END:VEVENT
BEGIN:VEVENT
DTSTAMP:20260423T131102Z
UID:9567b988-5fb9-472a-815b-9f8f18367e8c
DTSTART;VALUE=DATE:20260611
DTEND;VALUE=DATE:20260612
DESCRIPTION:
LOCATION:
SUMMARY:D-Day
END:VEVENT
BEGIN:VEVENT
DTSTAMP:20260423T131102Z
UID:8e8f4ed9-34f7-4f0e-9d1c-ee10f695d807
DTSTART;VALUE=DATE:20260612
DTEND;VALUE=DATE:20260613
DESCRIPTION:
LOCATION:
SUMMARY:E-Day
END:VEVENT
BEGIN:VEVENT
DTSTAMP:20260423T131102Z
UID:63ce47d5-3795-4aa6-92a1-67bd3a4b1e4a
DTSTART;VALUE=DATE:20260614
DTEND;VALUE=DATE:20260615
DESCRIPTION:
LOCATION:
SUMMARY:Flag Day
END:VEVENT
BEGIN:VEVENT
DTSTAMP:20260423T131102Z
UID:6a548376-8fe1-442f-88e4-81c078531c70
DTSTART;VALUE=DATE:20260615
DTEND;VALUE=DATE:20260616
DESCRIPTION:
LOCATION:
SUMMARY:F-Day
END:VEVENT
BEGIN:VEVENT
DTSTAMP:20260423T131102Z
UID:24ab0864-8943-4520-a75b-51aa887154b0
DTSTART;VALUE=DATE:20260616
DTEND;VALUE=DATE:20260617
DESCRIPTION:
LOCATION:
SUMMARY:A-Day
END:VEVENT
BEGIN:VEVENT
DTSTAMP:20260423T131102Z
UID:38732050-9e38-4b94-ba30-f393a3a9bb17
DTSTART;VALUE=DATE:20260617
DTEND;VALUE=DATE:20260618
DESCRIPTION:
LOCATION:
SUMMARY:B-Day
END:VEVENT
BEGIN:VEVENT
DTSTAMP:20260423T131102Z
UID:d2238e74-045e-46ab-85e0-28b6a6b12984
DTSTART;VALUE=DATE:20260617
DTEND;VALUE=DATE:20260619
DESCRIPTION:
LOCATION:
SUMMARY:Regents Exams
END:VEVENT
BEGIN:VEVENT
DTSTAMP:20260423T131102Z
UID:c61d8928-fcf4-444f-8755-c8f759a77aaa
DTSTART;VALUE=DATE:20260618
DTEND;VALUE=DATE:20260619
DESCRIPTION:
LOCATION:
SUMMARY:C-Day
END:VEVENT
BEGIN:VEVENT
DTSTAMP:20260423T131102Z
UID:76326173-2597-4b4f-a55e-3adf4bae258c
DTSTART;VALUE=DATE:20260619
DTEND;VALUE=DATE:20260620
DESCRIPTION:
LOCATION:
SUMMARY:Juneteenth: Schools & Central Office Closed
END:VEVENT
BEGIN:VEVENT
DTSTAMP:20260423T131102Z
UID:0e1566f3-1f86-4f08-b387-09908af54e7b
DTSTART;VALUE=DATE:20260619
DTEND;VALUE=DATE:20260620
DESCRIPTION:
LOCATION:
SUMMARY:No School: Holiday
END:VEVENT
BEGIN:VEVENT
DTSTAMP:20260423T131102Z
UID:879fad85-862b-408a-b11c-2c19441e5c86
DTSTART;VALUE=DATE:20260622
DTEND;VALUE=DATE:20260623
DESCRIPTION:
LOCATION:
SUMMARY:D-Day
END:VEVENT
BEGIN:VEVENT
DTSTAMP:20260423T131102Z
UID:946f2982-3e5b-4c26-9aad-ef2806c0695b
DTSTART;VALUE=DATE:20260622
DTEND;VALUE=DATE:20260626
DESCRIPTION:
LOCATION:
SUMMARY:Regents Exams
END:VEVENT
BEGIN:VEVENT
DTSTAMP:20260423T131102Z
UID:efec255e-b9f7-4500-875e-a5769e4d7821
DTSTART;VALUE=DATE:20260623
DTEND;VALUE=DATE:20260624
DESCRIPTION:
LOCATION:
SUMMARY:E-Day
END:VEVENT
BEGIN:VEVENT
DTSTAMP:20260423T131102Z
UID:d4d6498b-c02b-450f-906a-b4b1bb0fd408
DTSTART;VALUE=DATE:20260624
DTEND;VALUE=DATE:20260625
DESCRIPTION:
LOCATION:
SUMMARY:F-Day
END:VEVENT
BEGIN:VEVENT
DTSTAMP:20260423T131102Z
UID:40fd9c4a-8f4b-46e7-b306-b97cd3164473
DTSTART;VALUE=DATE:20260625
DTEND;VALUE=DATE:20260626
DESCRIPTION:
LOCATION:
SUMMARY:A-Day
END:VEVENT
BEGIN:VEVENT
DTSTAMP:20260423T131102Z
UID:2904c1d9-9589-4988-983f-0fa8ee4b7732
DTSTART;VALUE=DATE:20260625
DTEND;VALUE=DATE:20260626
DESCRIPTION:
LOCATION:
SUMMARY:Half-Day for Elementary Students
END:VEVENT
BEGIN:VEVENT
DTSTAMP:20260423T131102Z
UID:98ba3463-54f1-4608-8632-7ffefe3b57c8
DTSTART;VALUE=DATE:20260626
DTEND;VALUE=DATE:20260627
DESCRIPTION:
LOCATION:
SUMMARY:B-Day
END:VEVENT
BEGIN:VEVENT
DTSTAMP:20260423T131102Z
UID:05cef097-a82e-4919-ae70-34e57a841632
DTSTART;VALUE=DATE:20260626
DTEND;VALUE=DATE:20260627
DESCRIPTION:Half Day for Students and Hourly Staff\nFull Day for Staff (Exc
 ept Hourly Staff)
LOCATION:
SUMMARY:Last Day of School! Half Day for Students & Hourly Staff
END:VEVENT
BEGIN:VEVENT
DTSTAMP:20260423T131102Z
UID:a2a14398-fb8a-46ba-89cf-750bcd0450cd
DTSTART;VALUE=DATE:20260626
DTEND;VALUE=DATE:20260627
DESCRIPTION:
LOCATION:
SUMMARY:Regents Rating Day
END:VEVENT
BEGIN:VEVENT
DTSTAMP:20260423T131102Z
UID:009d7c2c-2321-4007-bcda-08a0abf80011
DTSTART;VALUE=DATE:20260704
DTEND;VALUE=DATE:20260705
DESCRIPTION:
LOCATION:
SUMMARY:Independence Day: School Buildings & Central Office Closed
END:VEVENT
BEGIN:VEVENT
DTSTAMP:20260423T131102Z
UID:4ab17a49-07d4-4c76-aabe-dacd5804ce1a
DTSTART;VALUE=DATE:20260911
DTEND;VALUE=DATE:20260912
DESCRIPTION:
LOCATION:
SUMMARY:September 11 Day of Service and Remembrance
END:VEVENT
END:VCALENDAR
