BEGIN:VCALENDAR
VERSION:2.0
PRODID:icalendar-ruby
CALSCALE:GREGORIAN
BEGIN:VTIMEZONE
TZID:America/Chicago
BEGIN:DAYLIGHT
DTSTART:20260308T030000
TZOFFSETFROM:-0600
TZOFFSETTO:-0500
RRULE:FREQ=YEARLY;BYDAY=2SU;BYMONTH=3
TZNAME:CDT
END:DAYLIGHT
BEGIN:STANDARD
DTSTART:20261101T010000
TZOFFSETFROM:-0500
TZOFFSETTO:-0600
RRULE:FREQ=YEARLY;BYDAY=1SU;BYMONTH=11
TZNAME:CST
END:STANDARD
END:VTIMEZONE
BEGIN:VEVENT
DTSTAMP:20260421T165623Z
UID:af312c9b-da21-4f64-ae1c-e8be9f648780
DTSTART:20260428T180000
DTEND:20260428T220000
DESCRIPTION:
LOCATION:2503 9th St\, Rock Island\, IL 61201\, USA
SUMMARY:Board of Education Regular Meeting
END:VEVENT
BEGIN:VEVENT
DTSTAMP:20260421T165623Z
UID:1f734615-33ec-457e-a309-57d573f20578
DTSTART;VALUE=DATE:20260507
DTEND;VALUE=DATE:20260508
DESCRIPTION:
LOCATION:
SUMMARY:Half-Day Early Dismissal
END:VEVENT
BEGIN:VEVENT
DTSTAMP:20260421T165623Z
UID:3f2c1651-e8d1-428f-ac90-7fe785591865
DTSTART:20260512T180000
DTEND:20260512T220000
DESCRIPTION:
LOCATION:RIMSD 41 Administration Center
SUMMARY:Board of Education Regular Meeting
END:VEVENT
BEGIN:VEVENT
DTSTAMP:20260421T165623Z
UID:ad6e58d1-dfe0-4e67-8e8b-548d26f9f0e0
DTSTART;VALUE=DATE:20260525
DTEND;VALUE=DATE:20260526
DESCRIPTION:
LOCATION:
SUMMARY:Memorial Day - No School
END:VEVENT
BEGIN:VEVENT
DTSTAMP:20260421T165623Z
UID:3718ae25-11dc-4299-9e51-c98866cc7a59
DTSTART:20260526T180000
DTEND:20260526T220000
DESCRIPTION:
LOCATION:2101 16th Ave\, Rock Island\, IL 61201\, USA
SUMMARY:Board of Education Regular Meeting
END:VEVENT
BEGIN:VEVENT
DTSTAMP:20260421T165623Z
UID:5e2e44c2-eb2d-4113-a937-93a2f7cc018c
DTSTART:20260530T100000
DTEND:20260530T120000
DESCRIPTION:
LOCATION:1201 River Dr\, Moline\, IL 61265\, USA
SUMMARY:Commencement Ceremony
END:VEVENT
BEGIN:VEVENT
DTSTAMP:20260421T165623Z
UID:11780dc4-e871-4fa1-a3d4-ef6aed4eba1e
DTSTART:20260601T170000
DTEND:20260601T190000
DESCRIPTION:<p>You’re invited!</p><p>Join our quarterly Facility Manageme
 nt Plan meetings to stay informed\, share your input\, and be part of the 
 conversation about current projects\, future plans\, and funding solutions
 . <a target="_blank" rel="noopener noreferrer nofollow" href="https://aptg
 .co/B7mL_-">Click here for more!</a></p><p><a target="_blank" rel="noopene
 r noreferrer nofollow" href="https://meet.google.com/hid-mksd-xpp">Click h
 ere</a> to join the Facility Management Plan meeting virtually.</p>
LOCATION:1400 25th Ave\, Rock Island\, IL 61201\, USA
SUMMARY:FMP Quarterly Meeting
END:VEVENT
BEGIN:VEVENT
DTSTAMP:20260421T165623Z
UID:54ad64e3-93d4-4b45-9a5c-451a97a077c5
DTSTART;VALUE=DATE:20260602
DTEND;VALUE=DATE:20260605
DESCRIPTION:
LOCATION:
SUMMARY:Jr. High and High School 1:45 p.m. Early Dismissal
END:VEVENT
BEGIN:VEVENT
DTSTAMP:20260421T165623Z
UID:1b535d7a-32e1-4e57-a263-44f0eec20137
DTSTART;VALUE=DATE:20260604
DTEND;VALUE=DATE:20260605
DESCRIPTION:
LOCATION:
SUMMARY:Last Day of School
END:VEVENT
BEGIN:VEVENT
DTSTAMP:20260421T165623Z
UID:e3decee8-df2b-4ada-a181-9a06e70356fd
DTSTART:20260609T180000
DTEND:20260609T220000
DESCRIPTION:
LOCATION:RIMSD 41 Administration Center
SUMMARY:Board of Education Regular Meeting
END:VEVENT
END:VCALENDAR
