BEGIN:VCALENDAR
VERSION:2.0
PRODID:icalendar-ruby
CALSCALE:GREGORIAN
BEGIN:VTIMEZONE
TZID:America/New_York
BEGIN:DAYLIGHT
DTSTART:20260308T030000
TZOFFSETFROM:-0500
TZOFFSETTO:-0400
RRULE:FREQ=YEARLY;BYDAY=2SU;BYMONTH=3
TZNAME:EDT
END:DAYLIGHT
BEGIN:STANDARD
DTSTART:20261101T010000
TZOFFSETFROM:-0400
TZOFFSETTO:-0500
RRULE:FREQ=YEARLY;BYDAY=1SU;BYMONTH=11
TZNAME:EST
END:STANDARD
END:VTIMEZONE
BEGIN:VEVENT
DTSTAMP:20260423T135303Z
UID:f236d853-48e3-4c55-a814-f80fbf235a73
DTSTART:20260501T130000
DTEND:20260501T150000
DESCRIPTION:<p>Berks Career &amp\; Technology Center and Reading Muhlenberg
  Career &amp\; Technology Center are thankful for the opportunity to serve
  the students of Berks County and support them in achieving their career g
 oals. After a busy year\, we are excited to announce our annual Decision D
 ay celebration!&nbsp\;</p><p>Mirrored after National Signing Day\, this ev
 ent will recognize and applaud students deciding to attend post-secondary 
 education\, join the military\, or enter the workforce. Representatives fr
 om local colleges\, businesses\, and the armed forces\, will be present to
  witness and support students as they take charge of their futures.&nbsp\;
 </p><p>Join us for a true celebration! Decision Day will demonstrate to ou
 r students that we are proud of their achievements\, invested in their fut
 ures\, and excited to see what they do next.</p><p>*This event is by invit
 ation only.&nbsp\;</p><p></p><p>Unable to attend? This event will be live-
 streamed and available to view at: <a target="_blank" rel="noopener norefe
 rrer nofollow" href="https://www.youtube.com/watch?v=N0nTjw_ZPuo">https://
 www.youtube.com/watch?v=N0nTjw_ZPuo</a></p>
LOCATION:4 N 2nd St\, Reading\, PA 19601\, USA
SUMMARY:Decision Day 
END:VEVENT
BEGIN:VEVENT
DTSTAMP:20260423T135303Z
UID:c1bb0abb-8715-4f95-942c-070d94f86bf8
DTSTART;VALUE=DATE:20260504
DTEND;VALUE=DATE:20260509
DESCRIPTION:<p>It’s Career &amp\; Technical Education (CTE) Week at BCTC!
  Join us as we celebrate the hands-on learning\, career readiness\, and st
 udent success that make CTE a powerful pathway to the future. From classro
 om to career\, CTE opens doors to endless possibilities!</p>
LOCATION:
SUMMARY:Career & Technical Education Week
END:VEVENT
BEGIN:VEVENT
DTSTAMP:20260423T135303Z
UID:17ed555a-ed94-4a1f-bceb-9289c504b0ab
DTSTART;VALUE=DATE:20260504
DTEND;VALUE=DATE:20260509
DESCRIPTION:<p>It’s National Teacher &amp\; Staff Appreciation Week! BCTC
  is proud to recognize the incredible dedication\, talent\, and heart our 
 educators and staff bring to campus every day. Thank you for inspiring\, s
 upporting\, and preparing our students for bright futures in every career 
 path!</p>
LOCATION:
SUMMARY:National Teacher/Staff Appreciation Week
END:VEVENT
BEGIN:VEVENT
DTSTAMP:20260423T135303Z
UID:8d92c2aa-2864-44eb-b668-b4b5846f3501
DTSTART;VALUE=DATE:20260508
DTEND;VALUE=DATE:20260509
DESCRIPTION:
LOCATION:
SUMMARY:Mid-Quarter 
END:VEVENT
BEGIN:VEVENT
DTSTAMP:20260423T135303Z
UID:3625811c-e3b3-4a92-8028-b13eb1de35a9
DTSTART:20260513T180000
DTEND:20260513T200000
DESCRIPTION:<p>First-year students and their parents/guardians are encourag
 ed to attend BCTC’s new student orientation. Orientation will be held in
  your student’s program area and provides an opportunity for our incomin
 g students to become familiar with the program and lab they will be workin
 g in.</p><p>What will you gain from attending?</p><ul><li><p>An opportunit
 y to meet with your instructor and learn about life at BCTC</p></li><li><p
 >Receive information for a smooth transition into Career &amp\; Technical 
 Education</p></li><li><p>An opportunity to speak with counselors and our S
 tudent Services department to get questions answered</p></li><li><p>Get or
 ganized before school starts by purchasing textbooks\, tools\, and uniform
 s</p></li></ul><h3><strong>Programs Scheduled for Night 1</strong></h3><p>
 <strong>East Campus:</strong></p><ul><li><p>Auto Collision Repair</p></li>
 <li><p>Auto Technology</p></li><li><p>Diesel Technology</p></li><li><p>Hea
 vy Equipment Technology</p></li><li><p>Building Construction Occupations</
 p></li><li><p>Cabinetry &amp\; Wood Technology</p></li><li><p>Carpentry</p
 ></li><li><p>Heavy Equipment Operations</p></li><li><p>HVAC/Refrigeration<
 /p></li><li><p>Masonry</p></li><li><p>Plumbing &amp\; Heating</p></li><li>
 <p>Residential Painting &amp\; Interior Design</p></li></ul><h4>West Campu
 s:</h4><ul><li><p>Auto Collision Repair</p></li><li><p>Auto Technology</p>
 </li><li><p>Recreational &amp\; Power Equipment Technology</p></li><li><p>
 IT Programming</p></li><li><p>Electrical Occupations</p></li><li><p>Drafti
 ng Design Technology</p></li><li><p>Mechatronics Engineering Technology</p
 ></li><li><p>Precision/Computerized Machining Technology</p></li><li><p>We
 lding Technology</p></li></ul>
LOCATION:BCTC East & West Campuses
SUMMARY:New Student Orientation - Night 1
END:VEVENT
BEGIN:VEVENT
DTSTAMP:20260423T135303Z
UID:661ea959-59ee-480c-9b07-6c6b5b2e3c9a
DTSTART:20260514T180000
DTEND:20260514T200000
DESCRIPTION:<p>First-year students and their parents/guardians are encourag
 ed to attend BCTC’s new student orientation. Orientation will be held in
  your student’s program area and provides an opportunity for our incomin
 g students to become familiar with the program and lab they will be workin
 g in.</p><p>What will you gain from attending?</p><ul><li><p>An opportunit
 y to meet with your instructor and learn about life at BCTC</p></li><li><p
 >Receive information for a smooth transition into Career &amp\; Technical 
 Education</p></li><li><p>An opportunity to speak with counselors and our S
 tudent Services department to get questions answered</p></li><li><p>Get or
 ganized before school starts by purchasing textbooks\, tools\, and uniform
 s</p></li></ul><h3><strong>Programs Scheduled for Night 2:</strong></h3><h
 4><strong>East Campus:</strong></h4><ul><li><p>Dental Occupations</p></li>
 <li><p>Sports Medicine &amp\; Rehabilitative Therapy</p></li><li><p>Comput
 er Systems Networking and Security</p></li><li><p>Cosmetology</p></li><li>
 <p>Culinary Arts</p></li><li><p>Early Childhood Education</p></li><li><p>P
 rotective Services – HomelandCosmetology</p></li><li><p>Protective Servi
 ces – Law Enforcement</p></li><li><p>Service Occupations</p></li></ul><p
 ><strong>West Campus:</strong></p><ul><li><p>Advertising Art &amp\; Design
  Technology</p></li><li><p>Video &amp\; Media Content Production</p></li><
 li><p>Health Occupations</p><p></p></li><li><p>Medical Health Professions 
 (Held at Reading Hospital School of Health Sciences)</p><p></p></li><li><p
 >Business Management &amp\; Entrepreneurship</p></li><li><p>Cosmetology</p
 ></li><li><p>Culinary Arts</p></li><li><p>Early Childhood Education</p></l
 i></ul>
LOCATION:BCTC East & West Campuses
SUMMARY:New Student Orientation – Night 2
END:VEVENT
BEGIN:VEVENT
DTSTAMP:20260423T135303Z
UID:45c8dcaa-fd6d-46f5-831c-1dcd4a37dbb1
DTSTART;VALUE=DATE:20260522
DTEND;VALUE=DATE:20260523
DESCRIPTION:<p>An Act 80 Day is set aside for the professional development 
 of BCTC staff. While students have the day off\, instructors and staff eng
 age in training and planning to support high-quality instruction and stude
 nt achievement.</p>
LOCATION:
SUMMARY:Act 80 Day - BCTC Closed To All Students 
END:VEVENT
BEGIN:VEVENT
DTSTAMP:20260423T135303Z
UID:c755bd12-53dc-4b0a-967c-99f20e84d7a5
DTSTART;VALUE=DATE:20260525
DTEND;VALUE=DATE:20260526
DESCRIPTION:<p><span>in observance of Memorial Day\, BCTC is closed to all 
 students and staff.</span></p>
LOCATION:
SUMMARY:Memorial Day
END:VEVENT
BEGIN:VEVENT
DTSTAMP:20260423T135303Z
UID:cedddb0d-7656-4976-8917-55332b2617aa
DTSTART:20260526T183000
DTEND:20260526T203000
DESCRIPTION:<h3>Please join us for Berks Career &amp\; Technology Center’
 s Senior Recognition Ceremony!</h3><p><strong>This event will require tick
 ets to enter. Each senior has received an event invitation including 6 tic
 kets. Additional tickets are available on a first come\, first serve basis
  and can be retrieved from each campus’ Student Services Office. Senior 
 graduating from BCTC/participating in the event\, do not need a ticket to 
 enter.</strong><br><strong><br>Students attending the ceremony are expecte
 d to stay for the entire ceremony.</strong></p><p>Students: Please refer t
 o the following to ensure compliance with the dress code.<br>• Suit<br>
 • Dress Pants/Khaki Slacks<br>• Shirt and Tie<br>• Button-Down Dress
  Shirt<br>• Dress-Reasonable Length<br>• Dress Slacks and Blouse<br>
 • Dress shoes<br>• Polo-Style Shirt<br>Examples of inappropriate dress
  would include: shorts\, t-shirts\, sneakers\, and any attire that is not 
 business appropriate.</p><p><strong>Parking: Several of the parking garage
 s near the Santander Arena are transitioning to gateless entry.</strong></
 p><p>To Enter:</p><ol><li><p>No gate. No ticket. No need to stop.</p></li>
 <li><p>License plate recorded.</p></li><li><p>Park as usual. Find your fav
 orite spot and pull right in.</p></li><li><p>Payment is required within 15
  minutes of entering the garage.*<br>You have choices…ParkMobile. Text2P
 ark. Walkup pay station. It’s up to you!<br>You’re on your way! Pay vi
 a app or text and you’ll get reminders when your time is about to expire
 .</p></li></ol><p>Ready to leave? No gate\, no payment\, and nothing to sl
 ow you down. You’re on the road!<br>*As awesome as gateless parking is\,
  garage parking is still a paid service. Failure to pay within 15 minutes 
 of entering will result in a violation being mailed to the registered owne
 r of the vehicle.</p><p>List of all Santander Parking Locations: For direc
 tions to these lots please refer to the following list if you are using a 
 GPS to find your garage.</p><ul><li><p>2nd and Washington : 25 North 2nd S
 treet</p></li><li><p>Fourth and Cherry : 29 South 4th Street</p></li><li><
 p>Chiarelli Plaza : 25 North 3rd Street</p></li><li><p>Front and Washingto
 n : 27 Front Street</p></li><li><p>Seventh and Washington Lot : 700 Washin
 gton Street</p></li><li><p>South Penn : 635 Franklin Street</p></li><li><p
 >State Lot : 644 South 7th Street</p></li><li><p>6th and Cherry Lot : 6th 
 and Cherry</p></li><li><p>DoubleTree Garage : 600 Court Street</p></li><li
 ><p>Reed and Court : 666 Court Street</p></li><li><p>Poplar and Walnut : 1
 30 Poplar Street</p></li><li><p></p></li></ul><p>The live-stream of the ev
 ent will begin at 5:00.</p>
LOCATION:700 Penn St\, Reading\, PA 19602\, USA
SUMMARY:Senior Recognition Ceremony
END:VEVENT
BEGIN:VEVENT
DTSTAMP:20260423T135303Z
UID:1b0f3352-3320-4ca1-87ce-ec609111d391
DTSTART:20260527T180000
DTEND:20260527T200000
DESCRIPTION:<p>The Joint Operating Committee (JOC) Meeting is the governing
  body session for Berks Career &amp\; Technology Center\, where representa
 tives from participating school districts come together to discuss and mak
 e decisions on policies\, budgets\, and operations that support the succes
 s of BCTC students and programs. Meetings are open to the public.</p>
LOCATION:3307 Friedensburg Rd\, Oley\, PA 19547\, USA
SUMMARY:Joint Operating Committee Meeting
END:VEVENT
BEGIN:VEVENT
DTSTAMP:20260423T135303Z
UID:5d5671dd-b7cb-416b-a538-587a177cd8cc
DTSTART;VALUE=DATE:20260601
DTEND;VALUE=DATE:20260606
DESCRIPTION:<p><span>More than 6\,500 outstanding career and technical educ
 ation students –– all state contest winners –– will compete hands-
 on in 107 different trade\, technical and leadership fields. Students work
  against the clock and each other\, proving their expertise in occupations
  such as electronics\, computer-aided drafting\, precision machining\, med
 ical assisting and culinary arts. Contests are run with the help of indust
 ry\, trade associations and labor organizations\, and test competencies ar
 e set by industry. Leadership contestants will demonstrate skills includin
 g extemporaneous speaking and conducting meetings by parliamentary procedu
 re.</span></p>
LOCATION:Atlanta\, GA\, USA
SUMMARY:SkillsUSA National Leadership and Skills Conference
END:VEVENT
BEGIN:VEVENT
DTSTAMP:20260423T135303Z
UID:e20a4ccc-fe2c-40a3-818e-bfcc73f27b1a
DTSTART;VALUE=DATE:20260604
DTEND;VALUE=DATE:20260605
DESCRIPTION:
LOCATION:
SUMMARY:Last Day of School
END:VEVENT
BEGIN:VEVENT
DTSTAMP:20260423T135303Z
UID:eb49b628-c574-4dae-adff-968bae4c5c93
DTSTART;VALUE=DATE:20260608
DTEND;VALUE=DATE:20260613
DESCRIPTION:<p>Students residing in 1 of BCTC’s 16 sending districts\, wh
 o are currently in 6th through 8th grades are invited to a unique learning
  experience\, focused on fun\, creativity\, and hands-on activities.</p>
LOCATION:1057 County Rd\, Leesport\, PA 19533\, USA
SUMMARY:Career Camp!
END:VEVENT
BEGIN:VEVENT
DTSTAMP:20260423T135303Z
UID:d3b465fe-895b-49ac-83bf-0c507ca9e6c4
DTSTART;VALUE=DATE:20260617
DTEND;VALUE=DATE:20260621
DESCRIPTION:<p><span>The HOSA State National Leadership Conference is an op
 portunity for members to learn from and share with fellow HOSA members fro
 m across our state. It’s a time when secondary and post- secondary/colle
 giate members gather to network\, learn\, compete\, and have fun.</span></
 p>
LOCATION:Dallas\, TX\, USA
SUMMARY:HOSA National Leadership Conference (NLC)
END:VEVENT
BEGIN:VEVENT
DTSTAMP:20260423T135303Z
UID:45c45136-acc1-4adc-8571-dd3706b8bdef
DTSTART:20260624T180000
DTEND:20260624T200000
DESCRIPTION:<p>The Joint Operating Committee (JOC) Meeting is the governing
  body session for Berks Career &amp\; Technology Center\, where representa
 tives from participating school districts come together to discuss and mak
 e decisions on policies\, budgets\, and operations that support the succes
 s of BCTC students and programs. Meetings are open to the public.</p>
LOCATION:1057 County Welfare Rd\, Leesport\, PA 19533\, USA
SUMMARY:Joint Operating Committee Meeting
END:VEVENT
END:VCALENDAR
