BEGIN:VCALENDAR
VERSION:2.0
PRODID:icalendar-ruby
CALSCALE:GREGORIAN
BEGIN:VTIMEZONE
TZID:America/Phoenix
BEGIN:STANDARD
DTSTART:19671029T010000
TZOFFSETFROM:-0600
TZOFFSETTO:-0700
TZNAME:MST
END:STANDARD
END:VTIMEZONE
BEGIN:VEVENT
DTSTAMP:20260420T143051Z
UID:7a3d875c-cee4-4dde-a314-6640bcaf1cdb
DTSTART;VALUE=DATE:20260422
DTEND;VALUE=DATE:20260423
DESCRIPTION:
LOCATION:
SUMMARY:Modified Wednesday
END:VEVENT
BEGIN:VEVENT
DTSTAMP:20260420T143051Z
UID:aa7bfc95-3c2a-4127-b5f1-4c6078793582
DTSTART;VALUE=DATE:20260424
DTEND;VALUE=DATE:20260425
DESCRIPTION:
LOCATION:
SUMMARY:April Break
END:VEVENT
BEGIN:VEVENT
DTSTAMP:20260420T143051Z
UID:5256c4b7-d42a-4349-857d-4bd0febad738
DTSTART;VALUE=DATE:20260429
DTEND;VALUE=DATE:20260430
DESCRIPTION:
LOCATION:
SUMMARY:Modified Wednesday
END:VEVENT
BEGIN:VEVENT
DTSTAMP:20260420T143051Z
UID:17eb0f45-bd50-4b10-a643-3826e76eecbe
DTSTART;VALUE=DATE:20260506
DTEND;VALUE=DATE:20260507
DESCRIPTION:
LOCATION:
SUMMARY:Modified Wednesday
END:VEVENT
BEGIN:VEVENT
DTSTAMP:20260420T143051Z
UID:f9eb46bb-366d-4a37-9805-865292cb5880
DTSTART;VALUE=DATE:20260513
DTEND;VALUE=DATE:20260514
DESCRIPTION:
LOCATION:
SUMMARY:Modified Wednesday
END:VEVENT
BEGIN:VEVENT
DTSTAMP:20260420T143051Z
UID:7efe46d6-36d2-44b5-af72-5d40a4b9d2fb
DTSTART;VALUE=DATE:20260518
DTEND;VALUE=DATE:20260520
DESCRIPTION:
LOCATION:
SUMMARY:Elementary School Promotions
END:VEVENT
BEGIN:VEVENT
DTSTAMP:20260420T143051Z
UID:20c2a6b0-2900-44f6-b660-02b9374468e6
DTSTART;VALUE=DATE:20260520
DTEND;VALUE=DATE:20260522
DESCRIPTION:
LOCATION:
SUMMARY:High School Graduations
END:VEVENT
BEGIN:VEVENT
DTSTAMP:20260420T143051Z
UID:dd8c4c56-589d-41b3-b335-a28ced8eec7c
DTSTART;VALUE=DATE:20260521
DTEND;VALUE=DATE:20260522
DESCRIPTION:
LOCATION:
SUMMARY:Last Day of School
END:VEVENT
BEGIN:VEVENT
DTSTAMP:20260420T143051Z
UID:9973b53f-75b2-40a3-8c66-366b6c2d553b
DTSTART;VALUE=DATE:20260525
DTEND;VALUE=DATE:20260526
DESCRIPTION:
LOCATION:
SUMMARY:Memorial Day
END:VEVENT
END:VCALENDAR
