BEGIN:VCALENDAR
VERSION:2.0
PRODID:icalendar-ruby
CALSCALE:GREGORIAN
BEGIN:VTIMEZONE
TZID:America/Phoenix
BEGIN:STANDARD
DTSTART:19671029T010000
TZOFFSETFROM:-0600
TZOFFSETTO:-0700
TZNAME:MST
END:STANDARD
END:VTIMEZONE
BEGIN:VEVENT
DTSTAMP:20260424T162925Z
UID:a7f3699b-1619-4e92-9fbb-6ec69cc565af
DTSTART;VALUE=DATE:20260424
DTEND;VALUE=DATE:20260425
DESCRIPTION:
LOCATION:
SUMMARY:April Break
END:VEVENT
BEGIN:VEVENT
DTSTAMP:20260424T162925Z
UID:d0bb1b55-edbc-4020-aa61-783814eacc68
DTSTART;VALUE=DATE:20260428
DTEND;VALUE=DATE:20260429
DESCRIPTION:
LOCATION:
SUMMARY:Vampire Penguin Ice
END:VEVENT
BEGIN:VEVENT
DTSTAMP:20260424T162925Z
UID:c497d7af-d16c-4cb7-88fc-02c31320168e
DTSTART;VALUE=DATE:20260429
DTEND;VALUE=DATE:20260430
DESCRIPTION:
LOCATION:
SUMMARY:Modified Wednesday
END:VEVENT
BEGIN:VEVENT
DTSTAMP:20260424T162925Z
UID:f37de876-5a68-4f4a-ad18-6c7caaca2175
DTSTART:20260501T170000
DTEND:20260501T200000
DESCRIPTION:<p><span>It's almost that time of year for the annnual Oasis Ca
 rnival. We are so excited for the carnival this year because we are going 
 to be adding to the fun with more bounce houses with a special area for th
 ose littles under 7. This year we are going to have more vendors with all 
 kinds of goodies for sale as well as food trucks who will have food and de
 sserts for purchase. As always we will have our teacher booths with games.
 </span><br><span>Presale tickets available at link</span><br><span>my.ched
 darup.com/c/oasis-carnival-2026</span></p>
LOCATION:
SUMMARY:Spring Carnival
END:VEVENT
BEGIN:VEVENT
DTSTAMP:20260424T162925Z
UID:bedd8198-8145-4463-b758-2838367309ea
DTSTART;VALUE=DATE:20260504
DTEND;VALUE=DATE:20260505
DESCRIPTION:
LOCATION:
SUMMARY:Spirit Week- Star Wars Day
END:VEVENT
BEGIN:VEVENT
DTSTAMP:20260424T162925Z
UID:c94e1e56-ac9b-4585-a7ad-18e179aa336a
DTSTART;VALUE=DATE:20260505
DTEND;VALUE=DATE:20260506
DESCRIPTION:
LOCATION:
SUMMARY:Spirit Week-Hawaiian Day
END:VEVENT
BEGIN:VEVENT
DTSTAMP:20260424T162925Z
UID:9f312cc2-c175-4fdf-b7f0-83d4edfd1f2a
DTSTART;VALUE=DATE:20260505
DTEND;VALUE=DATE:20260506
DESCRIPTION:
LOCATION:
SUMMARY:Vampire Penguin Ice
END:VEVENT
BEGIN:VEVENT
DTSTAMP:20260424T162925Z
UID:6550b19b-bc30-4af1-a131-25709403d136
DTSTART;VALUE=DATE:20260506
DTEND;VALUE=DATE:20260507
DESCRIPTION:
LOCATION:
SUMMARY:Spirit Week- 90's Day
END:VEVENT
BEGIN:VEVENT
DTSTAMP:20260424T162925Z
UID:1de9569f-b342-42f2-ab3b-64d7363a8e2f
DTSTART;VALUE=DATE:20260506
DTEND;VALUE=DATE:20260507
DESCRIPTION:
LOCATION:
SUMMARY:Modified Wednesday
END:VEVENT
BEGIN:VEVENT
DTSTAMP:20260424T162925Z
UID:172c1d0d-e3de-411d-87d0-e957b180281b
DTSTART;VALUE=DATE:20260507
DTEND;VALUE=DATE:20260508
DESCRIPTION:
LOCATION:
SUMMARY:Spirit Week- Sports Jersey Day
END:VEVENT
BEGIN:VEVENT
DTSTAMP:20260424T162925Z
UID:be7d51be-0fb8-4ec2-88aa-221d6f19a27e
DTSTART;VALUE=DATE:20260508
DTEND;VALUE=DATE:20260509
DESCRIPTION:
LOCATION:
SUMMARY:Spirit Week- Anything but a backpack
END:VEVENT
BEGIN:VEVENT
DTSTAMP:20260424T162925Z
UID:e36dd176-d271-4431-beee-3f38f0130dfb
DTSTART:20260511T173000
DTEND:20260511T180000
DESCRIPTION:
LOCATION:
SUMMARY:4th Grade Recorder Concert
END:VEVENT
BEGIN:VEVENT
DTSTAMP:20260424T162925Z
UID:36f5b8c7-deb1-4272-9941-3c5051c321b1
DTSTART;VALUE=DATE:20260512
DTEND;VALUE=DATE:20260513
DESCRIPTION:
LOCATION:
SUMMARY:Vampire Penguin Ice
END:VEVENT
BEGIN:VEVENT
DTSTAMP:20260424T162925Z
UID:d6d886f1-5ea5-45ee-9d03-bc40eb3f94fe
DTSTART:20260512T170000
DTEND:20260512T180000
DESCRIPTION:
LOCATION:
SUMMARY:Pre-K through 1st grade award night
END:VEVENT
BEGIN:VEVENT
DTSTAMP:20260424T162925Z
UID:67e61222-7407-4540-ad79-145ddc180343
DTSTART:20260512T181500
DTEND:20260512T190000
DESCRIPTION:
LOCATION:
SUMMARY:2nd and 3rd grade awards night
END:VEVENT
BEGIN:VEVENT
DTSTAMP:20260424T162925Z
UID:375471ff-b0e7-420b-bd51-421e66286f73
DTSTART;VALUE=DATE:20260513
DTEND;VALUE=DATE:20260514
DESCRIPTION:
LOCATION:
SUMMARY:Modified Wednesday
END:VEVENT
BEGIN:VEVENT
DTSTAMP:20260424T162925Z
UID:4377b592-1d08-44ce-a64b-03a144352b2d
DTSTART:20260514T170000
DTEND:20260514T180000
DESCRIPTION:
LOCATION:
SUMMARY:4th\, 5th\, and 6th grade end of year awards night
END:VEVENT
BEGIN:VEVENT
DTSTAMP:20260424T162925Z
UID:f2149588-52fe-439f-a612-41a3beb90835
DTSTART:20260515T170000
DTEND:20260515T200000
DESCRIPTION:
LOCATION:
SUMMARY:8th Grade Dinner Dance
END:VEVENT
BEGIN:VEVENT
DTSTAMP:20260424T162925Z
UID:f0fa196c-37b5-4dec-83d6-b6d42c413241
DTSTART;VALUE=DATE:20260518
DTEND;VALUE=DATE:20260520
DESCRIPTION:
LOCATION:
SUMMARY:Elementary School Promotions
END:VEVENT
BEGIN:VEVENT
DTSTAMP:20260424T162925Z
UID:9491700e-02fb-4f8d-a220-25ae89dd2c08
DTSTART:20260518T190000
DTEND:20260518T200000
DESCRIPTION:
LOCATION:14388 N 79th Ave\, Peoria\, AZ 85381\, USA
SUMMARY:8th grade promotion
END:VEVENT
BEGIN:VEVENT
DTSTAMP:20260424T162925Z
UID:ac5ca209-627e-4a0d-9af4-8ade0abb7773
DTSTART;VALUE=DATE:20260519
DTEND;VALUE=DATE:20260520
DESCRIPTION:
LOCATION:
SUMMARY:Vampire Penguin Ice
END:VEVENT
BEGIN:VEVENT
DTSTAMP:20260424T162925Z
UID:1d64f505-1f5f-4678-b586-57f38071d82e
DTSTART;VALUE=DATE:20260520
DTEND;VALUE=DATE:20260522
DESCRIPTION:
LOCATION:
SUMMARY:High School Graduations
END:VEVENT
BEGIN:VEVENT
DTSTAMP:20260424T162925Z
UID:1307cb18-b57f-4ae3-b55e-ea3e2383c014
DTSTART:20260520T080000
DTEND:20260520T090000
DESCRIPTION:
LOCATION:
SUMMARY:Kindergarten Promotion
END:VEVENT
BEGIN:VEVENT
DTSTAMP:20260424T162925Z
UID:052cd87c-ddf7-4244-8a77-e3a51b90fbb7
DTSTART;VALUE=DATE:20260521
DTEND;VALUE=DATE:20260522
DESCRIPTION:
LOCATION:
SUMMARY:Last Day of School
END:VEVENT
BEGIN:VEVENT
DTSTAMP:20260424T162925Z
UID:655eedd6-137e-4cad-a21c-a96d9a2f4bb8
DTSTART;VALUE=DATE:20260525
DTEND;VALUE=DATE:20260526
DESCRIPTION:
LOCATION:
SUMMARY:Memorial Day
END:VEVENT
END:VCALENDAR
