BEGIN:VCALENDAR
VERSION:2.0
PRODID:icalendar-ruby
CALSCALE:GREGORIAN
BEGIN:VTIMEZONE
TZID:America/New_York
BEGIN:DAYLIGHT
DTSTART:20260308T030000
TZOFFSETFROM:-0500
TZOFFSETTO:-0400
RRULE:FREQ=YEARLY;BYDAY=2SU;BYMONTH=3
TZNAME:EDT
END:DAYLIGHT
BEGIN:STANDARD
DTSTART:20261101T010000
TZOFFSETFROM:-0400
TZOFFSETTO:-0500
RRULE:FREQ=YEARLY;BYDAY=1SU;BYMONTH=11
TZNAME:EST
END:STANDARD
END:VTIMEZONE
BEGIN:VEVENT
DTSTAMP:20260419T205848Z
UID:c3ce7afc-4fdb-412e-a928-8da2bd1c562b
DTSTART;VALUE=DATE:20260529
DTEND;VALUE=DATE:20260530
DESCRIPTION:
LOCATION:
SUMMARY:Last Day for Students 
END:VEVENT
BEGIN:VEVENT
DTSTAMP:20260419T205848Z
UID:41ebe8f9-8d96-4b05-940e-44424c349228
DTSTART:20261014T080000
DTEND:20261014T120000
DESCRIPTION:<p><span>An annual address from Superintendent Dr. Elie Bracy I
 II highlighting the achievements\, challenges\, and future vision of Ports
 mouth Public Schools. The event brings together civic leaders\, educators\
 , and community partners to celebrate progress and strengthen collaboratio
 n in support of student success.</span></p>
LOCATION:3630 Victory Blvd\, Portsmouth\, VA 23701\, USA
SUMMARY:State of the School
END:VEVENT
END:VCALENDAR
