BEGIN:VCALENDAR
VERSION:2.0
PRODID:icalendar-ruby
CALSCALE:GREGORIAN
BEGIN:VTIMEZONE
TZID:America/Chicago
BEGIN:DAYLIGHT
DTSTART:20260308T030000
TZOFFSETFROM:-0600
TZOFFSETTO:-0500
RRULE:FREQ=YEARLY;BYDAY=2SU;BYMONTH=3
TZNAME:CDT
END:DAYLIGHT
BEGIN:STANDARD
DTSTART:20261101T010000
TZOFFSETFROM:-0500
TZOFFSETTO:-0600
RRULE:FREQ=YEARLY;BYDAY=1SU;BYMONTH=11
TZNAME:CST
END:STANDARD
END:VTIMEZONE
BEGIN:VEVENT
DTSTAMP:20260426T043037Z
UID:2f2cb1d3-da1d-430b-9233-246b1708c775
DTSTART:20260425T180000
DTEND:20260425T200000
DESCRIPTION:
LOCATION:
SUMMARY:HHS Baseball Playoffs @ Hattiesburg
END:VEVENT
BEGIN:VEVENT
DTSTAMP:20260426T043037Z
UID:597bd1d5-562b-4a97-9613-7a04bb744ab0
DTSTART:20260427T183000
DTEND:20260427T200000
DESCRIPTION:
LOCATION:
SUMMARY:HHS Softball Playoff v West Jones (Round 1)
END:VEVENT
BEGIN:VEVENT
DTSTAMP:20260426T043037Z
UID:a8da7d6f-34d8-4365-9d08-87c1979334b8
DTSTART:20260427T190000
DTEND:20260427T200000
DESCRIPTION:
LOCATION:
SUMMARY:HHS Baseball Playoffs vs. Hattiesburg Round 1
END:VEVENT
BEGIN:VEVENT
DTSTAMP:20260426T043037Z
UID:83f448ea-6d63-4e26-842c-3d6eebde0dbb
DTSTART;VALUE=DATE:20260502
DTEND;VALUE=DATE:20260503
DESCRIPTION:
LOCATION:
SUMMARY:HHS Track - State Meet (TBD)
END:VEVENT
BEGIN:VEVENT
DTSTAMP:20260426T043037Z
UID:3014aee0-5dc3-47d9-bd90-8297b9f640e0
DTSTART;VALUE=DATE:20260609
DTEND;VALUE=DATE:20260610
DESCRIPTION:
LOCATION:
SUMMARY:Volleyball Gulfport Summer League (9th\,JV\,V)
END:VEVENT
BEGIN:VEVENT
DTSTAMP:20260426T043037Z
UID:48422d7f-f4b4-4abc-8aa1-0f9a0c9d918b
DTSTART;VALUE=DATE:20260611
DTEND;VALUE=DATE:20260612
DESCRIPTION:
LOCATION:
SUMMARY:Varsity Volleyball PRCC Summer League
END:VEVENT
BEGIN:VEVENT
DTSTAMP:20260426T043037Z
UID:7afc0538-c11a-4143-975e-29f864adb15a
DTSTART;VALUE=DATE:20260616
DTEND;VALUE=DATE:20260617
DESCRIPTION:
LOCATION:
SUMMARY:Volleyball Gulfport Summer League (9th\,JV\,V)
END:VEVENT
BEGIN:VEVENT
DTSTAMP:20260426T043037Z
UID:54b3d3bf-12bc-437d-a628-bc399b4b0fb4
DTSTART;VALUE=DATE:20260618
DTEND;VALUE=DATE:20260619
DESCRIPTION:
LOCATION:
SUMMARY:Varsity Volleyball PRCC Summer League
END:VEVENT
BEGIN:VEVENT
DTSTAMP:20260426T043037Z
UID:8bd8e9c0-24b3-457a-8224-9855fabf0417
DTSTART;VALUE=DATE:20260623
DTEND;VALUE=DATE:20260624
DESCRIPTION:
LOCATION:
SUMMARY:Volleyball Gulfport Summer League (9th\,JV\,V)
END:VEVENT
END:VCALENDAR
