BEGIN:VCALENDAR
VERSION:2.0
PRODID:icalendar-ruby
CALSCALE:GREGORIAN
BEGIN:VTIMEZONE
TZID:America/New_York
BEGIN:DAYLIGHT
DTSTART:20260308T030000
TZOFFSETFROM:-0500
TZOFFSETTO:-0400
RRULE:FREQ=YEARLY;BYDAY=2SU;BYMONTH=3
TZNAME:EDT
END:DAYLIGHT
BEGIN:STANDARD
DTSTART:20261101T010000
TZOFFSETFROM:-0400
TZOFFSETTO:-0500
RRULE:FREQ=YEARLY;BYDAY=1SU;BYMONTH=11
TZNAME:EST
END:STANDARD
END:VTIMEZONE
BEGIN:VEVENT
DTSTAMP:20260425T143105Z
UID:4c717b0d-f283-4531-9db7-2464d9433751
DTSTART:20260511T190000
DTEND:20260511T200000
DESCRIPTION:<p>The Terrell County Board of Education meets on the second Mo
 nday of each month at 7:00 PM. The location of the meeting is 761 1st Aven
 ue\, Dawson\, GA 39842.</p>
LOCATION:761 1st Ave SE\, Dawson\, GA 39842\, USA
SUMMARY:Terrell County Board of Education - Regular Meeting
END:VEVENT
BEGIN:VEVENT
DTSTAMP:20260425T143105Z
UID:dff48119-4b26-4229-b393-7e8522ad7e22
DTSTART:20260521T080000
DTEND:20260521T120000
DESCRIPTION:
LOCATION:
SUMMARY:Last Day of School (Early Release)
END:VEVENT
BEGIN:VEVENT
DTSTAMP:20260425T143105Z
UID:c8ec2f54-6b49-4d2d-9f9f-cf8725f09fc8
DTSTART;VALUE=DATE:20260522
DTEND;VALUE=DATE:20260523
DESCRIPTION:
LOCATION:
SUMMARY:Post-planning 
END:VEVENT
BEGIN:VEVENT
DTSTAMP:20260425T143105Z
UID:a4779bf5-17e7-4dc6-9ac5-9ae1ad46dee8
DTSTART:20260523T090000
DTEND:20260523T100000
DESCRIPTION:
LOCATION:
SUMMARY:Terrell County High School Class of 2026 Graduation
END:VEVENT
BEGIN:VEVENT
DTSTAMP:20260425T143105Z
UID:f9532f09-7b00-4fc7-88d7-bdf27310afa5
DTSTART;VALUE=DATE:20260525
DTEND;VALUE=DATE:20260526
DESCRIPTION:
LOCATION:
SUMMARY:Memorial Day
END:VEVENT
BEGIN:VEVENT
DTSTAMP:20260425T143105Z
UID:c3efda4d-8a93-4b9d-a6dc-e5f2aeab2f0b
DTSTART:20260608T190000
DTEND:20260608T200000
DESCRIPTION:<p>The Terrell County Board of Education meets on the second Mo
 nday of each month at 7:00 PM. The location of the meeting is 761 1st Aven
 ue\, Dawson\, GA 39842.</p>
LOCATION:761 1st Ave SE\, Dawson\, GA 39842\, USA
SUMMARY:Terrell County Board of Education - Regular Meeting
END:VEVENT
END:VCALENDAR
