BEGIN:VCALENDAR
VERSION:2.0
PRODID:icalendar-ruby
CALSCALE:GREGORIAN
BEGIN:VTIMEZONE
TZID:America/Los_Angeles
BEGIN:DAYLIGHT
DTSTART:20260308T030000
TZOFFSETFROM:-0800
TZOFFSETTO:-0700
RRULE:FREQ=YEARLY;BYDAY=2SU;BYMONTH=3
TZNAME:PDT
END:DAYLIGHT
BEGIN:STANDARD
DTSTART:20261101T010000
TZOFFSETFROM:-0700
TZOFFSETTO:-0800
RRULE:FREQ=YEARLY;BYDAY=1SU;BYMONTH=11
TZNAME:PST
END:STANDARD
END:VTIMEZONE
BEGIN:VEVENT
DTSTAMP:20260424T060436Z
UID:affa6416-d170-48b4-acf1-af75262b6e8a
DTSTART:20260428T180000
DTEND:20260428T193000
DESCRIPTION:<p><a href="https://us06web.zoom.us/j/82478556998?pwd=anpmTUNXR
 mtibkhIZ1JUdStGSXVTdz09" target="_blank" rel="noopener noreferrer nofollow
 " path-prefix="">https://us06web.zoom.us/j/82478556998?pwd=anpmTUNXRmtibkh
 IZ1JUdStGSXVTdz09</a></p>
LOCATION:31 SE Ash Ave\, College Place\, WA 99324\, USA
SUMMARY:CPPS Regular Board Meeting
END:VEVENT
BEGIN:VEVENT
DTSTAMP:20260424T060436Z
UID:cfdaabad-13a9-4faa-a3bb-cea543349425
DTSTART:20260511T190000
DTEND:20260511T210000
DESCRIPTION:
LOCATION:1755 S College Ave\, College Place\, WA 99324\, USA
SUMMARY:Band Concert
END:VEVENT
BEGIN:VEVENT
DTSTAMP:20260424T060436Z
UID:1ab15264-9d06-413f-9241-1bf57e36a3f6
DTSTART:20260512T190000
DTEND:20260512T210000
DESCRIPTION:
LOCATION:1755 S College Ave\, College Place\, WA 99324\, USA
SUMMARY:Final Concert for CPHS
END:VEVENT
BEGIN:VEVENT
DTSTAMP:20260424T060436Z
UID:57e414c0-b07f-47b9-9ccc-0302dff6ab95
DTSTART;VALUE=DATE:20260525
DTEND;VALUE=DATE:20260526
DESCRIPTION:<p>No School</p>
LOCATION:
SUMMARY:Memorial Day
END:VEVENT
BEGIN:VEVENT
DTSTAMP:20260424T060436Z
UID:fda38fa5-fdea-4111-afff-7e19739fd376
DTSTART:20260526T180000
DTEND:20260526T193000
DESCRIPTION:<p><a href="https://us06web.zoom.us/j/82478556998?pwd=anpmTUNXR
 mtibkhIZ1JUdStGSXVTdz09" target="_blank" rel="noopener noreferrer nofollow
 " path-prefix="">https://us06web.zoom.us/j/82478556998?pwd=anpmTUNXRmtibkh
 IZ1JUdStGSXVTdz09</a></p>
LOCATION:31 SE Ash Ave\, College Place\, WA 99324\, USA
SUMMARY:CPPS Regular Board Meeting
END:VEVENT
BEGIN:VEVENT
DTSTAMP:20260424T060436Z
UID:64268e3c-b757-4b23-a4a1-ef3ba8585632
DTSTART;VALUE=DATE:20260601
DTEND;VALUE=DATE:20260602
DESCRIPTION:<p>Davis is out @ 11:45am</p><p>Sager is out @ 12:30pm</p><p>CP
 HS is out @ 12:30pm</p>
LOCATION:
SUMMARY:Early Dismissal
END:VEVENT
BEGIN:VEVENT
DTSTAMP:20260424T060436Z
UID:f91cae66-2ed1-4e35-ae46-d7919ed19043
DTSTART;VALUE=DATE:20260612
DTEND;VALUE=DATE:20260613
DESCRIPTION:<p>Davis is out @ 11:45am</p><p>Sager is out @ 12:30pm</p><p>CP
 HS is out @ 12:30pm</p>
LOCATION:
SUMMARY:Last day of School\, early dismissal 
END:VEVENT
BEGIN:VEVENT
DTSTAMP:20260424T060436Z
UID:c5e26185-074b-40d1-b30e-d08f22add27b
DTSTART;VALUE=DATE:20260619
DTEND;VALUE=DATE:20260620
DESCRIPTION:
LOCATION:
SUMMARY:Juneteenth 
END:VEVENT
BEGIN:VEVENT
DTSTAMP:20260424T060436Z
UID:53efd938-e53d-48cd-a54e-bd602e5b3a78
DTSTART:20260623T180000
DTEND:20260623T193000
DESCRIPTION:<p><a href="https://us06web.zoom.us/j/82478556998?pwd=anpmTUNXR
 mtibkhIZ1JUdStGSXVTdz09" target="_blank" rel="noopener noreferrer nofollow
 " path-prefix="">https://us06web.zoom.us/j/82478556998?pwd=anpmTUNXRmtibkh
 IZ1JUdStGSXVTdz09</a></p>
LOCATION:31 SE Ash Ave\, College Place\, WA 99324\, USA
SUMMARY:CPPS Regular Board Meeting
END:VEVENT
BEGIN:VEVENT
DTSTAMP:20260424T060436Z
UID:c8a45289-323f-49a8-be72-54e294750f00
DTSTART:20260728T180000
DTEND:20260728T193000
DESCRIPTION:<p><a href="https://us06web.zoom.us/j/82478556998?pwd=anpmTUNXR
 mtibkhIZ1JUdStGSXVTdz09" target="_blank" rel="noopener noreferrer nofollow
 " path-prefix="">https://us06web.zoom.us/j/82478556998?pwd=anpmTUNXRmtibkh
 IZ1JUdStGSXVTdz09</a></p>
LOCATION:31 SE Ash Ave\, College Place\, WA 99324\, USA
SUMMARY:CPPS Regular Board Meeting
END:VEVENT
BEGIN:VEVENT
DTSTAMP:20260424T060436Z
UID:ed476307-f266-4402-997c-5f63f31e007c
DTSTART:20260825T180000
DTEND:20260825T193000
DESCRIPTION:<p><a href="https://us06web.zoom.us/j/82478556998?pwd=anpmTUNXR
 mtibkhIZ1JUdStGSXVTdz09" target="_blank" rel="noopener noreferrer nofollow
 " path-prefix="">https://us06web.zoom.us/j/82478556998?pwd=anpmTUNXRmtibkh
 IZ1JUdStGSXVTdz09</a></p>
LOCATION:31 SE Ash Ave\, College Place\, WA 99324\, USA
SUMMARY:CPPS Regular Board Meeting
END:VEVENT
END:VCALENDAR
