BEGIN:VCALENDAR
VERSION:2.0
PRODID:icalendar-ruby
CALSCALE:GREGORIAN
BEGIN:VTIMEZONE
TZID:America/New_York
BEGIN:DAYLIGHT
DTSTART:20260308T030000
TZOFFSETFROM:-0500
TZOFFSETTO:-0400
RRULE:FREQ=YEARLY;BYDAY=2SU;BYMONTH=3
TZNAME:EDT
END:DAYLIGHT
BEGIN:STANDARD
DTSTART:20261101T010000
TZOFFSETFROM:-0400
TZOFFSETTO:-0500
RRULE:FREQ=YEARLY;BYDAY=1SU;BYMONTH=11
TZNAME:EST
END:STANDARD
END:VTIMEZONE
BEGIN:VEVENT
DTSTAMP:20260425T145548Z
UID:2ead2685-61b4-4c22-b37f-ab95b853948e
DTSTART:20260427T173000
DTEND:20260427T183000
DESCRIPTION:
LOCATION:Hasbrouck Heights Board-Education\, 379 Boulevard\, Hasbrouck Heig
 hts\, NJ 07604\, USA
SUMMARY:Board of Education Committee Meeting
END:VEVENT
BEGIN:VEVENT
DTSTAMP:20260425T145548Z
UID:99f56657-fa13-4190-9c00-a6e571b50d36
DTSTART:20260430T180000
DTEND:20260430T190000
DESCRIPTION:
LOCATION:Hasbrouck Heights Board-Education\, 379 Boulevard\, Hasbrouck Heig
 hts\, NJ 07604\, USA
SUMMARY:Board of Education Work Session Meeting
END:VEVENT
BEGIN:VEVENT
DTSTAMP:20260425T145548Z
UID:3f1d4e8a-5499-44fa-af08-09afba060791
DTSTART:20260430T193000
DTEND:20260430T203000
DESCRIPTION:
LOCATION:Hasbrouck Heights Middle / High School\, 365 Boulevard\, Hasbrouck
  Heights\, NJ 07604\, USA
SUMMARY:Board of Education Public Meeting
END:VEVENT
BEGIN:VEVENT
DTSTAMP:20260425T145548Z
UID:5de79952-fb1d-44f5-8936-21520fcf5076
DTSTART;VALUE=DATE:20260506
DTEND;VALUE=DATE:20260507
DESCRIPTION:
LOCATION:
SUMMARY:Midpoint of Trimester 3
END:VEVENT
BEGIN:VEVENT
DTSTAMP:20260425T145548Z
UID:75f6ca34-d52e-4ab9-807c-9d8fc6f92226
DTSTART;VALUE=DATE:20260506
DTEND;VALUE=DATE:20260507
DESCRIPTION:
LOCATION:
SUMMARY:MS Cycle 5 Ends
END:VEVENT
BEGIN:VEVENT
DTSTAMP:20260425T145548Z
UID:fd8974c2-2c14-4456-a884-452d7044aab5
DTSTART;VALUE=DATE:20260507
DTEND;VALUE=DATE:20260508
DESCRIPTION:
LOCATION:
SUMMARY:MS Cycle 6 Begins
END:VEVENT
BEGIN:VEVENT
DTSTAMP:20260425T145548Z
UID:221f81c5-d514-453e-93d7-bd036d075384
DTSTART;VALUE=DATE:20260515
DTEND;VALUE=DATE:20260516
DESCRIPTION:
LOCATION:
SUMMARY:Field Day (Single Session Day)
END:VEVENT
BEGIN:VEVENT
DTSTAMP:20260425T145548Z
UID:c1fc29bf-2fd5-48d5-bd7c-c7c6a89539ef
DTSTART:20260518T173000
DTEND:20260518T183000
DESCRIPTION:
LOCATION:Hasbrouck Heights Board-Education\, 379 Boulevard\, Hasbrouck Heig
 hts\, NJ 07604\, USA
SUMMARY:Board of Education Committee Meeting
END:VEVENT
BEGIN:VEVENT
DTSTAMP:20260425T145548Z
UID:eb2d2c20-6480-4fa6-b29c-3139e8a7db06
DTSTART;VALUE=DATE:20260519
DTEND;VALUE=DATE:20260520
DESCRIPTION:
LOCATION:
SUMMARY:Junior Aviator Night
END:VEVENT
BEGIN:VEVENT
DTSTAMP:20260425T145548Z
UID:9d9651b3-7a97-41f1-8221-b71a6cfa03c3
DTSTART;VALUE=DATE:20260520
DTEND;VALUE=DATE:20260521
DESCRIPTION:
LOCATION:
SUMMARY:HS Spring Concert and HS Art Show
END:VEVENT
BEGIN:VEVENT
DTSTAMP:20260425T145548Z
UID:ebf8e881-b037-4c74-8fd5-b7055c31bb02
DTSTART:20260520T190000
DTEND:20260520T200000
DESCRIPTION:
LOCATION:
SUMMARY:MS/HS Spring Concert 
END:VEVENT
BEGIN:VEVENT
DTSTAMP:20260425T145548Z
UID:0f0776ff-350b-4a45-89f0-c81e71e72642
DTSTART:20260521T180000
DTEND:20260521T190000
DESCRIPTION:
LOCATION:Hasbrouck Heights Board-Education\, 379 Boulevard\, Hasbrouck Heig
 hts\, NJ 07604\, USA
SUMMARY:Board of Education Work Session Meeting
END:VEVENT
BEGIN:VEVENT
DTSTAMP:20260425T145548Z
UID:ffc65633-916c-477e-82ad-013550728ab2
DTSTART:20260521T193000
DTEND:20260521T203000
DESCRIPTION:
LOCATION:Hasbrouck Heights Middle / High School\, 365 Boulevard\, Hasbrouck
  Heights\, NJ 07604\, USA
SUMMARY:Board of Education Public Meeting
END:VEVENT
BEGIN:VEVENT
DTSTAMP:20260425T145548Z
UID:d29aca1a-9fde-43d8-9bda-9b6973744bdf
DTSTART;VALUE=DATE:20260525
DTEND;VALUE=DATE:20260526
DESCRIPTION:
LOCATION:
SUMMARY:District Closed-Memorial Day
END:VEVENT
BEGIN:VEVENT
DTSTAMP:20260425T145548Z
UID:a1260d70-1781-4a27-b2c2-59792de74a17
DTSTART;VALUE=DATE:20260528
DTEND;VALUE=DATE:20260529
DESCRIPTION:
LOCATION:
SUMMARY:MS 8th Grade Formal
END:VEVENT
BEGIN:VEVENT
DTSTAMP:20260425T145548Z
UID:4d5ad12a-b955-4fd5-9f9a-d2875bbef3a5
DTSTART;VALUE=DATE:20260528
DTEND;VALUE=DATE:20260529
DESCRIPTION:
LOCATION:
SUMMARY:MS Field Day
END:VEVENT
BEGIN:VEVENT
DTSTAMP:20260425T145548Z
UID:4c9c4770-989e-49de-9aa9-9665040f2089
DTSTART:20260601T093000
DTEND:20260601T110000
DESCRIPTION:
LOCATION:
SUMMARY:Kindergarten Orientation
END:VEVENT
BEGIN:VEVENT
DTSTAMP:20260425T145548Z
UID:3b84fb3a-46eb-4586-9866-ab4b7a09ac12
DTSTART;VALUE=DATE:20260602
DTEND;VALUE=DATE:20260603
DESCRIPTION:
LOCATION:
SUMMARY:5th Grade Picnic
END:VEVENT
BEGIN:VEVENT
DTSTAMP:20260425T145548Z
UID:4f5f4932-30b2-4c47-988e-cb439b92fde2
DTSTART;VALUE=DATE:20260605
DTEND;VALUE=DATE:20260606
DESCRIPTION:
LOCATION:
SUMMARY:Torch Run
END:VEVENT
BEGIN:VEVENT
DTSTAMP:20260425T145548Z
UID:88867400-e13e-4eee-817d-a4407377cf7d
DTSTART;VALUE=DATE:20260606
DTEND;VALUE=DATE:20260607
DESCRIPTION:
LOCATION:
SUMMARY:SAT
END:VEVENT
BEGIN:VEVENT
DTSTAMP:20260425T145548Z
UID:6b38250a-3d6c-458e-bc41-8b1f0c97771d
DTSTART;VALUE=DATE:20260608
DTEND;VALUE=DATE:20260609
DESCRIPTION:
LOCATION:
SUMMARY:Junior Aviator Spring Book Fair
END:VEVENT
BEGIN:VEVENT
DTSTAMP:20260425T145548Z
UID:04ff9b3b-69dd-4cba-bfcd-2fa43f92a1f2
DTSTART:20260608T173000
DTEND:20260608T183000
DESCRIPTION:
LOCATION:Hasbrouck Heights Board-Education\, 379 Boulevard\, Hasbrouck Heig
 hts\, NJ 07604\, USA
SUMMARY:Board of Education Committee Meeting
END:VEVENT
BEGIN:VEVENT
DTSTAMP:20260425T145548Z
UID:f7eab0bb-2b68-419f-954f-cc69d20d2cc2
DTSTART:20260610T103000
DTEND:20260610T114500
DESCRIPTION:
LOCATION:
SUMMARY:5th Grade Promotion
END:VEVENT
BEGIN:VEVENT
DTSTAMP:20260425T145548Z
UID:ce9603ad-3c5b-4324-9688-02844389432b
DTSTART;VALUE=DATE:20260611
DTEND;VALUE=DATE:20260615
DESCRIPTION:
LOCATION:
SUMMARY:Final Exams
END:VEVENT
BEGIN:VEVENT
DTSTAMP:20260425T145548Z
UID:dd7414f4-a18f-4800-8f73-3ebac190110a
DTSTART;VALUE=DATE:20260611
DTEND;VALUE=DATE:20260612
DESCRIPTION:
LOCATION:
SUMMARY:HS Only - Single Session - Finals
END:VEVENT
BEGIN:VEVENT
DTSTAMP:20260425T145548Z
UID:886a367a-35a3-41eb-b4bc-40392e55dc54
DTSTART;VALUE=DATE:20260611
DTEND;VALUE=DATE:20260612
DESCRIPTION:
LOCATION:
SUMMARY:Senior Prom
END:VEVENT
BEGIN:VEVENT
DTSTAMP:20260425T145548Z
UID:c0d2bdea-f531-434e-b69d-df8b95863b7a
DTSTART:20260611T180000
DTEND:20260611T190000
DESCRIPTION:
LOCATION:Hasbrouck Heights Board-Education\, 379 Boulevard\, Hasbrouck Heig
 hts\, NJ 07604\, USA
SUMMARY:Board of Education Work Session Meeting
END:VEVENT
BEGIN:VEVENT
DTSTAMP:20260425T145548Z
UID:1ce378ab-77b3-41e0-a33c-d28291847ac4
DTSTART:20260611T193000
DTEND:20260611T203000
DESCRIPTION:
LOCATION:Hasbrouck Heights Middle / High School\, 365 Boulevard\, Hasbrouck
  Heights\, NJ 07604\, USA
SUMMARY:Board of Education Public Meeting
END:VEVENT
BEGIN:VEVENT
DTSTAMP:20260425T145548Z
UID:226863de-ef0d-432f-b278-f43ce6867c64
DTSTART;VALUE=DATE:20260612
DTEND;VALUE=DATE:20260613
DESCRIPTION:
LOCATION:
SUMMARY:HS Only - Single Session - Finals
END:VEVENT
BEGIN:VEVENT
DTSTAMP:20260425T145548Z
UID:3338ed5c-d545-4ae8-b555-8bf6f04f94d8
DTSTART;VALUE=DATE:20260615
DTEND;VALUE=DATE:20260619
DESCRIPTION:
LOCATION:
SUMMARY:Final Exams
END:VEVENT
BEGIN:VEVENT
DTSTAMP:20260425T145548Z
UID:109b0b4a-ccc9-4db0-a862-2252d177dcd5
DTSTART;VALUE=DATE:20260615
DTEND;VALUE=DATE:20260616
DESCRIPTION:
LOCATION:
SUMMARY:HS Only - Single Session - Finals
END:VEVENT
BEGIN:VEVENT
DTSTAMP:20260425T145548Z
UID:10d7ea57-fbbf-4825-a7b5-784a12361339
DTSTART;VALUE=DATE:20260615
DTEND;VALUE=DATE:20260616
DESCRIPTION:
LOCATION:
SUMMARY:Senior Yearbook Breakfast
END:VEVENT
BEGIN:VEVENT
DTSTAMP:20260425T145548Z
UID:fd0be982-c6dc-40e5-9d1d-6bd76b1f3889
DTSTART;VALUE=DATE:20260616
DTEND;VALUE=DATE:20260617
DESCRIPTION:
LOCATION:
SUMMARY:HS Only - Single Session - Finals
END:VEVENT
BEGIN:VEVENT
DTSTAMP:20260425T145548Z
UID:9b800d8f-0c3d-421a-901a-ce7b706d3e86
DTSTART;VALUE=DATE:20260617
DTEND;VALUE=DATE:20260618
DESCRIPTION:
LOCATION:
SUMMARY:MS 8th Grade Memory Book Signing
END:VEVENT
BEGIN:VEVENT
DTSTAMP:20260425T145548Z
UID:3495a87f-a2ec-4ab3-bf5d-eb3536c6b552
DTSTART;VALUE=DATE:20260618
DTEND;VALUE=DATE:20260619
DESCRIPTION:
LOCATION:
SUMMARY:MS Graduation
END:VEVENT
BEGIN:VEVENT
DTSTAMP:20260425T145548Z
UID:803a6ab0-ed2c-4166-9e80-f3f7a7afb05d
DTSTART;VALUE=DATE:20260619
DTEND;VALUE=DATE:20260620
DESCRIPTION:
LOCATION:
SUMMARY:High School Graduation
END:VEVENT
BEGIN:VEVENT
DTSTAMP:20260425T145548Z
UID:6aadeb5a-14a1-48b5-80f7-c3b58d02f4fb
DTSTART;VALUE=DATE:20260619
DTEND;VALUE=DATE:20260620
DESCRIPTION:
LOCATION:
SUMMARY:HS Graduation 6pm Depken Field(Rain Date 6/20)
END:VEVENT
BEGIN:VEVENT
DTSTAMP:20260425T145548Z
UID:31633cf7-035d-4567-8e8e-373b7288f322
DTSTART;VALUE=DATE:20260619
DTEND;VALUE=DATE:20260620
DESCRIPTION:
LOCATION:
SUMMARY:Last Day of School
END:VEVENT
BEGIN:VEVENT
DTSTAMP:20260425T145548Z
UID:ed486673-a6b5-40ad-b4fc-2b31f437b140
DTSTART;VALUE=DATE:20260619
DTEND;VALUE=DATE:20260620
DESCRIPTION:
LOCATION:
SUMMARY:Single Session Day
END:VEVENT
BEGIN:VEVENT
DTSTAMP:20260425T145548Z
UID:e32c7aa4-3880-405d-a78b-5d070e48b639
DTSTART;VALUE=DATE:20260622
DTEND;VALUE=DATE:20260623
DESCRIPTION:
LOCATION:
SUMMARY:Single Session Day
END:VEVENT
BEGIN:VEVENT
DTSTAMP:20260425T145548Z
UID:d86e301a-41f2-4438-b4c2-827433b285fc
DTSTART;VALUE=DATE:20260623
DTEND;VALUE=DATE:20260624
DESCRIPTION:
LOCATION:
SUMMARY:Last Day of School
END:VEVENT
BEGIN:VEVENT
DTSTAMP:20260425T145548Z
UID:c1e211c7-8f8c-42cd-a33f-785066c3dff3
DTSTART;VALUE=DATE:20260623
DTEND;VALUE=DATE:20260624
DESCRIPTION:
LOCATION:
SUMMARY:MS Cycle 6 Ends
END:VEVENT
BEGIN:VEVENT
DTSTAMP:20260425T145548Z
UID:3a37ad29-e619-4615-975f-dba599dad50d
DTSTART;VALUE=DATE:20260623
DTEND;VALUE=DATE:20260624
DESCRIPTION:
LOCATION:
SUMMARY:MS Report Cards Issued
END:VEVENT
BEGIN:VEVENT
DTSTAMP:20260425T145548Z
UID:851c7553-a531-4a72-961f-db3feabf12e5
DTSTART;VALUE=DATE:20260623
DTEND;VALUE=DATE:20260624
DESCRIPTION:
LOCATION:
SUMMARY:Single Session Day
END:VEVENT
BEGIN:VEVENT
DTSTAMP:20260425T145548Z
UID:6529234f-5107-4313-a491-5ee129917eb5
DTSTART;VALUE=DATE:20260624
DTEND;VALUE=DATE:20260625
DESCRIPTION:
LOCATION:
SUMMARY:Staff Only
END:VEVENT
BEGIN:VEVENT
DTSTAMP:20260425T145548Z
UID:51c799ae-9b5a-419c-8031-e7650de4960c
DTSTART:20260720T173000
DTEND:20260720T183000
DESCRIPTION:
LOCATION:Hasbrouck Heights Board-Education\, 379 Boulevard\, Hasbrouck Heig
 hts\, NJ 07604\, USA
SUMMARY:Board of Education Committee Meeting
END:VEVENT
BEGIN:VEVENT
DTSTAMP:20260425T145548Z
UID:40c2b2ed-1a2f-42b9-a2a8-270ef2c000be
DTSTART:20260723T180000
DTEND:20260723T190000
DESCRIPTION:
LOCATION:Hasbrouck Heights Board-Education\, 379 Boulevard\, Hasbrouck Heig
 hts\, NJ 07604\, USA
SUMMARY:Board of Education Work Session Meeting
END:VEVENT
BEGIN:VEVENT
DTSTAMP:20260425T145548Z
UID:5d83b3a1-d2cf-4b67-9d56-549b05420b1d
DTSTART:20260723T193000
DTEND:20260723T203000
DESCRIPTION:
LOCATION:Hasbrouck Heights Middle / High School\, 365 Boulevard\, Hasbrouck
  Heights\, NJ 07604\, USA
SUMMARY:Board of Education Public Meeting
END:VEVENT
BEGIN:VEVENT
DTSTAMP:20260425T145548Z
UID:fe713bfd-e43b-4317-bddd-b7b9c2b5bea1
DTSTART:20260817T173000
DTEND:20260817T183000
DESCRIPTION:
LOCATION:Hasbrouck Heights Board-Education\, 379 Boulevard\, Hasbrouck Heig
 hts\, NJ 07604\, USA
SUMMARY:Board of Education Committee Meeting
END:VEVENT
BEGIN:VEVENT
DTSTAMP:20260425T145548Z
UID:62abb06b-f0b7-4f3e-9879-86ab9e0aefa2
DTSTART:20260820T180000
DTEND:20260820T190000
DESCRIPTION:
LOCATION:Hasbrouck Heights Board-Education\, 379 Boulevard\, Hasbrouck Heig
 hts\, NJ 07604\, USA
SUMMARY:Board of Education Work Session Meeting
END:VEVENT
BEGIN:VEVENT
DTSTAMP:20260425T145548Z
UID:40634539-4951-43dd-ab71-3c98054e35ee
DTSTART:20260820T193000
DTEND:20260820T203000
DESCRIPTION:
LOCATION:Hasbrouck Heights Middle / High School\, 365 Boulevard\, Hasbrouck
  Heights\, NJ 07604\, USA
SUMMARY:Board of Education Public Meeting
END:VEVENT
BEGIN:VEVENT
DTSTAMP:20260425T145548Z
UID:02b948a3-90c8-47ca-a3c0-d48978f36859
DTSTART:20260922T173000
DTEND:20260922T183000
DESCRIPTION:
LOCATION:Hasbrouck Heights Board-Education\, 379 Boulevard\, Hasbrouck Heig
 hts\, NJ 07604\, USA
SUMMARY:Board of Education Committee Meeting
END:VEVENT
BEGIN:VEVENT
DTSTAMP:20260425T145548Z
UID:b6ee4919-2c53-41e2-9743-fcaf37f8abb3
DTSTART:20260924T180000
DTEND:20260924T190000
DESCRIPTION:
LOCATION:Hasbrouck Heights Board-Education\, 379 Boulevard\, Hasbrouck Heig
 hts\, NJ 07604\, USA
SUMMARY:Board of Education Work Session Meeting
END:VEVENT
BEGIN:VEVENT
DTSTAMP:20260425T145548Z
UID:7837d60a-0929-45ba-9e0b-1875241594a9
DTSTART:20260924T193000
DTEND:20260924T203000
DESCRIPTION:
LOCATION:Hasbrouck Heights Middle / High School\, 365 Boulevard\, Hasbrouck
  Heights\, NJ 07604\, USA
SUMMARY:Board of Education Public Meeting
END:VEVENT
BEGIN:VEVENT
DTSTAMP:20260425T145548Z
UID:bbbec33b-ef32-4015-8558-dada2cf2b58f
DTSTART:20261026T173000
DTEND:20261026T183000
DESCRIPTION:
LOCATION:Hasbrouck Heights Board-Education\, 379 Boulevard\, Hasbrouck Heig
 hts\, NJ 07604\, USA
SUMMARY:Board of Education Committee Meeting
END:VEVENT
BEGIN:VEVENT
DTSTAMP:20260425T145548Z
UID:3fade613-a6ef-46b3-a6f3-4b2a15a5cbc8
DTSTART:20261029T180000
DTEND:20261029T190000
DESCRIPTION:
LOCATION:Hasbrouck Heights Board-Education\, 379 Boulevard\, Hasbrouck Heig
 hts\, NJ 07604\, USA
SUMMARY:Board of Education Work Session Meeting
END:VEVENT
BEGIN:VEVENT
DTSTAMP:20260425T145548Z
UID:0f8f9914-ac1f-47e3-8574-dbeca03ba667
DTSTART:20261029T193000
DTEND:20261029T203000
DESCRIPTION:
LOCATION:Hasbrouck Heights Middle / High School\, 365 Boulevard\, Hasbrouck
  Heights\, NJ 07604\, USA
SUMMARY:Board of Education Public Meeting
END:VEVENT
BEGIN:VEVENT
DTSTAMP:20260425T145548Z
UID:7ea1c2e8-ce45-4ae7-b407-658fe8d85c5e
DTSTART:20261116T173000
DTEND:20261116T183000
DESCRIPTION:
LOCATION:Hasbrouck Heights Board-Education\, 379 Boulevard\, Hasbrouck Heig
 hts\, NJ 07604\, USA
SUMMARY:Board of Education Committee Meeting
END:VEVENT
BEGIN:VEVENT
DTSTAMP:20260425T145548Z
UID:bcf97b52-2d7a-43df-a32e-c94cc23804db
DTSTART:20261119T180000
DTEND:20261119T190000
DESCRIPTION:
LOCATION:Hasbrouck Heights Board-Education\, 379 Boulevard\, Hasbrouck Heig
 hts\, NJ 07604\, USA
SUMMARY:Board of Education Work Session Meeting
END:VEVENT
BEGIN:VEVENT
DTSTAMP:20260425T145548Z
UID:6d73fd05-c16a-4d66-8077-5876ffd6442c
DTSTART:20261119T193000
DTEND:20261119T203000
DESCRIPTION:
LOCATION:Hasbrouck Heights Middle / High School\, 365 Boulevard\, Hasbrouck
  Heights\, NJ 07604\, USA
SUMMARY:Board of Education Public Meeting
END:VEVENT
BEGIN:VEVENT
DTSTAMP:20260425T145548Z
UID:5ac3255b-8e05-40fb-8007-efaaa87f7ebb
DTSTART:20261214T173000
DTEND:20261214T183000
DESCRIPTION:
LOCATION:Hasbrouck Heights Board-Education\, 379 Boulevard\, Hasbrouck Heig
 hts\, NJ 07604\, USA
SUMMARY:Board of Education Committee Meeting
END:VEVENT
BEGIN:VEVENT
DTSTAMP:20260425T145548Z
UID:887d54b6-2eea-44df-9dad-acbc5885793c
DTSTART:20261217T180000
DTEND:20261217T190000
DESCRIPTION:
LOCATION:Hasbrouck Heights Board-Education\, 379 Boulevard\, Hasbrouck Heig
 hts\, NJ 07604\, USA
SUMMARY:Board of Education Work Session Meeting
END:VEVENT
BEGIN:VEVENT
DTSTAMP:20260425T145548Z
UID:45b72687-fb16-43c6-93f4-36a49110ae39
DTSTART:20261217T193000
DTEND:20261217T203000
DESCRIPTION:
LOCATION:Hasbrouck Heights Middle / High School\, 365 Boulevard\, Hasbrouck
  Heights\, NJ 07604\, USA
SUMMARY:Board of Education Public Meeting
END:VEVENT
END:VCALENDAR
