BEGIN:VCALENDAR
VERSION:2.0
PRODID:icalendar-ruby
CALSCALE:GREGORIAN
BEGIN:VTIMEZONE
TZID:America/Phoenix
BEGIN:STANDARD
DTSTART:19671029T010000
TZOFFSETFROM:-0600
TZOFFSETTO:-0700
TZNAME:MST
END:STANDARD
END:VTIMEZONE
BEGIN:VEVENT
DTSTAMP:20260425T175227Z
UID:4c7efd94-5c08-43a5-a120-b6aaa0b78a12
DTSTART:20260427T160000
DTEND:20260427T170000
DESCRIPTION:
LOCATION:Home
SUMMARY:Boys Volleyball vs St. John Paul II
END:VEVENT
BEGIN:VEVENT
DTSTAMP:20260425T175227Z
UID:5d7f98a3-2d1d-4a6f-a6e8-dea750b774bd
DTSTART:20260430T133000
DTEND:20260430T143000
DESCRIPTION:
LOCATION:2730 N Trekell Rd\, Casa Grande\, AZ 85122\, USA
SUMMARY:Underclassmen Academic Awards
END:VEVENT
BEGIN:VEVENT
DTSTAMP:20260425T175227Z
UID:94a165de-4381-486a-a5ff-3adaa9cab7f2
DTSTART:20260501T133000
DTEND:20260501T143000
DESCRIPTION:
LOCATION:2730 N Trekell Rd\, Casa Grande\, AZ 85122\, USA
SUMMARY:Senior Academic Awards
END:VEVENT
BEGIN:VEVENT
DTSTAMP:20260425T175227Z
UID:e18be93d-7f73-4e91-8ffc-73bb067c3b2f
DTSTART:20260502T070000
DTEND:20260502T120000
DESCRIPTION:<p><span>Calling all Cougar Fans and Golfers!! The Cougar Baseb
 all Club will be hosting it's 3rd Annual Golf Tournament Fundraiser May 2n
 d\, 2026 at Dave White Golf Course in Casa Grande.  Shot gun start at 8am 
 with lunch included.  To sign up please email Victoria Ochoa at </span><a 
 target="_blank" rel="noopener noreferrer nofollow" href="mailto:victoria.p
 erales24@gmail.com"><span>victoria.perales24@gmail.com</span></a><span>. S
 pace is limited.  All registrations need to be entered by April 24th. All 
 proceeds will help to support our Cougars.  Hope to see you there!!!</span
 ></p>
LOCATION:2121 N Thornton Rd\, Casa Grande\, AZ 85122\, USA
SUMMARY:CGU Baseball Golf Tournament
END:VEVENT
BEGIN:VEVENT
DTSTAMP:20260425T175227Z
UID:d04e15be-9119-4af9-8e8f-ab709d337a85
DTSTART:20260511T080000
DTEND:20260512T151500
DESCRIPTION:
LOCATION:2730 N Trekell Rd\, Casa Grande\, AZ 85122\, USA
SUMMARY:Senior Finals
END:VEVENT
BEGIN:VEVENT
DTSTAMP:20260425T175227Z
UID:cd5708eb-8fdb-4493-b42c-57ccd056173d
DTSTART:20260513T160000
DTEND:20260513T190000
DESCRIPTION:<p><br>Registration for the 2026–2027 School Year is Now Open
 !</p><p>Parents and guardians\, registration is now open for the 2026–20
 27 school year at Casa Grande Union High School\, PACE High School\, and V
 ista Grande High School. We encourage families to complete registration as
  soon as possible to ensure a smooth start to the upcoming school year.&nb
 sp\;</p><p>To help support families\, we are hosting a Parent Support Nigh
 t for incoming 9th grade students:</p><p> Wednesday\, May 13</p><p>4:00 PM
  – 7:00 PM</p><p>Casa Grande Union High School District Office</p><p>136
 2 N Casa Grande Ave\, Casa Grande</p><p>Staff will be available after hour
 s to assist parents and guardians with completing the online registration 
 process.</p><p>Required documents for new students:</p><p>• Child’s bi
 rth certificate</p><p>• Child’s immunization record</p><p>• Parent/G
 uardian photo ID</p><p>• Parent/Guardian current proof of residence</p><
 p>Completing registration early helps us plan staffing\, course availabili
 ty\, and student schedules more accurately. We strongly encourage all fami
 lies to register as soon as possible so students are ready for next school
  year.&nbsp\;</p><p>We look forward to assisting you tonight!</p><p>For qu
 estions\, contact Charmaine Martinez at 520-316-3360 ext. 1141.</p>
LOCATION:1362 N Casa Grande Ave\, Casa Grande\, AZ 85122\, USA
SUMMARY:Parent Support Night
END:VEVENT
BEGIN:VEVENT
DTSTAMP:20260425T175227Z
UID:8224de37-b738-4b64-a824-04eeed0ba3d6
DTSTART:20260513T180000
DTEND:20260513T200000
DESCRIPTION:
LOCATION:2730 N Trekell Rd\, Casa Grande\, AZ 85122\, USA
SUMMARY:Scholarship Night
END:VEVENT
BEGIN:VEVENT
DTSTAMP:20260425T175227Z
UID:da010151-38c0-4021-9745-57e67203cdd2
DTSTART:20260516T110000
DTEND:20260516T190000
DESCRIPTION:
LOCATION:2730 N Trekell Rd\, Casa Grande\, AZ 85122\, USA
SUMMARY:Graduation Powwow
END:VEVENT
BEGIN:VEVENT
DTSTAMP:20260425T175227Z
UID:1b0cf505-210c-4f9c-aac8-cc16ffc44031
DTSTART:20260519T200000
DTEND:20260519T220000
DESCRIPTION:<p>Congratulations\, Class of 2026! For more information about 
 graduation\, please visit: <a target="_blank" rel="noopener noreferrer nof
 ollow" href="https://cghs.cguhsd.org/o/cguhs/page/graduation-2026">https:/
 /cghs.cguhsd.org/o/cguhs/page/graduation-2026</a></p>
LOCATION:2730 N Trekell Rd\, Casa Grande\, AZ 85122\, USA
SUMMARY:CGUHS Graduation
END:VEVENT
BEGIN:VEVENT
DTSTAMP:20260425T175227Z
UID:52e73335-1988-4341-a64f-5240d27e1e7f
DTSTART;VALUE=DATE:20260521
DTEND;VALUE=DATE:20260522
DESCRIPTION:
LOCATION:
SUMMARY:Last Day of School
END:VEVENT
BEGIN:VEVENT
DTSTAMP:20260425T175227Z
UID:1168b64e-cf7c-4b1a-aab8-0712a270a717
DTSTART;VALUE=DATE:20260521
DTEND;VALUE=DATE:20260522
DESCRIPTION:
LOCATION:
SUMMARY:Quarter 4 Ends
END:VEVENT
BEGIN:VEVENT
DTSTAMP:20260425T175227Z
UID:f5dbffe3-ba08-4d80-881c-f8cab9c17eac
DTSTART;VALUE=DATE:20260522
DTEND;VALUE=DATE:20260523
DESCRIPTION:
LOCATION:
SUMMARY:Teacher Checkout
END:VEVENT
BEGIN:VEVENT
DTSTAMP:20260425T175227Z
UID:f443d060-857b-4ece-a7e0-081963e04f9f
DTSTART:20260806T080000
DTEND:20260806T090000
DESCRIPTION:
LOCATION:
SUMMARY:Open Houses
END:VEVENT
BEGIN:VEVENT
DTSTAMP:20260425T175227Z
UID:22f94c81-c8e0-421e-ac43-fab5b39c0e6e
DTSTART:20270211T080000
DTEND:20270211T090000
DESCRIPTION:
LOCATION:
SUMMARY:Open Houses
END:VEVENT
END:VCALENDAR
