BEGIN:VCALENDAR
VERSION:2.0
PRODID:icalendar-ruby
CALSCALE:GREGORIAN
BEGIN:VTIMEZONE
TZID:America/New_York
BEGIN:DAYLIGHT
DTSTART:20260308T030000
TZOFFSETFROM:-0500
TZOFFSETTO:-0400
RRULE:FREQ=YEARLY;BYDAY=2SU;BYMONTH=3
TZNAME:EDT
END:DAYLIGHT
BEGIN:STANDARD
DTSTART:20261101T010000
TZOFFSETFROM:-0400
TZOFFSETTO:-0500
RRULE:FREQ=YEARLY;BYDAY=1SU;BYMONTH=11
TZNAME:EST
END:STANDARD
END:VTIMEZONE
BEGIN:VEVENT
DTSTAMP:20260421T222825Z
UID:64d81b9d-557d-47de-8f08-9653ca45d873
DTSTART:20260422T160000
DTEND:20260422T200000
DESCRIPTION:
LOCATION:
SUMMARY:EMT-VEMSES Course - Room 503
END:VEVENT
BEGIN:VEVENT
DTSTAMP:20260421T222825Z
UID:6a4c34eb-27b5-4c2e-bae3-8ee13f737846
DTSTART:20260425T080000
DTEND:20260425T170000
DESCRIPTION:
LOCATION:
SUMMARY:EMT-VEMSES Course - Room 503
END:VEVENT
BEGIN:VEVENT
DTSTAMP:20260421T222825Z
UID:de8f5e0e-c729-496a-8d05-a5709425d953
DTSTART:20260427T160000
DTEND:20260427T200000
DESCRIPTION:
LOCATION:
SUMMARY:EMT-VEMSES Course - Room 503
END:VEVENT
BEGIN:VEVENT
DTSTAMP:20260421T222825Z
UID:643f1fd6-dd16-4dfa-9626-eeb321a0985a
DTSTART;VALUE=DATE:20260429
DTEND;VALUE=DATE:20260430
DESCRIPTION:
LOCATION:
SUMMARY:Q4 Interim
END:VEVENT
BEGIN:VEVENT
DTSTAMP:20260421T222825Z
UID:99d80987-752b-40da-a4f6-669880f32f51
DTSTART:20260429T160000
DTEND:20260429T200000
DESCRIPTION:
LOCATION:
SUMMARY:EMT-VEMSES Course - Room 503
END:VEVENT
BEGIN:VEVENT
DTSTAMP:20260421T222825Z
UID:685cdf28-2098-4bdf-ad8f-ff58d23fd2b0
DTSTART:20260430T183000
DTEND:20260430T193000
DESCRIPTION:
LOCATION:
SUMMARY:Spring Choir Concert
END:VEVENT
BEGIN:VEVENT
DTSTAMP:20260421T222825Z
UID:17876ca8-e932-49be-aa3d-54cfb7193265
DTSTART;VALUE=DATE:20260501
DTEND;VALUE=DATE:20260503
DESCRIPTION:
LOCATION:
SUMMARY:Musical Set-up in Auditorium
END:VEVENT
BEGIN:VEVENT
DTSTAMP:20260421T222825Z
UID:6f14a557-b003-4154-87d1-7cc487c3f73f
DTSTART:20260504T123000
DTEND:20260504T140000
DESCRIPTION:
LOCATION:
SUMMARY:CTE Signing Day
END:VEVENT
BEGIN:VEVENT
DTSTAMP:20260421T222825Z
UID:1fc461e4-269f-4b81-891a-586c5a2ef55e
DTSTART:20260504T160000
DTEND:20260504T200000
DESCRIPTION:
LOCATION:
SUMMARY:EMT-VEMSES Course - Room 503
END:VEVENT
BEGIN:VEVENT
DTSTAMP:20260421T222825Z
UID:a1e433cb-0267-42b8-8756-e497e9941897
DTSTART;VALUE=DATE:20260505
DTEND;VALUE=DATE:20260506
DESCRIPTION:
LOCATION:
SUMMARY:Reading SOL
END:VEVENT
BEGIN:VEVENT
DTSTAMP:20260421T222825Z
UID:a49e4029-da30-47ee-8377-83943e6eb3e9
DTSTART:20260505T080000
DTEND:20260505T150000
DESCRIPTION:
LOCATION:
SUMMARY:Nurse Aide Testing
END:VEVENT
BEGIN:VEVENT
DTSTAMP:20260421T222825Z
UID:604823fd-df0d-4fc8-bb5a-a459b2afa794
DTSTART;VALUE=DATE:20260506
DTEND;VALUE=DATE:20260507
DESCRIPTION:
LOCATION:
SUMMARY:Reading SOL Make-up
END:VEVENT
BEGIN:VEVENT
DTSTAMP:20260421T222825Z
UID:5ceb9c27-bd82-43b9-827a-cce1cc447f7c
DTSTART:20260506T080000
DTEND:20260506T150000
DESCRIPTION:
LOCATION:
SUMMARY:Nurse Aide Testing
END:VEVENT
BEGIN:VEVENT
DTSTAMP:20260421T222825Z
UID:3eaae6c2-7126-4c51-aeea-eef264924a36
DTSTART:20260506T160000
DTEND:20260506T200000
DESCRIPTION:
LOCATION:
SUMMARY:EMT-VEMSES Course - Room 503
END:VEVENT
BEGIN:VEVENT
DTSTAMP:20260421T222825Z
UID:7fd80e01-e2e3-4c18-9a45-2753f007f4f2
DTSTART:20260506T170000
DTEND:20260506T200000
DESCRIPTION:
LOCATION:
SUMMARY:CHS FFA Banquet
END:VEVENT
BEGIN:VEVENT
DTSTAMP:20260421T222825Z
UID:9ffd238f-6fa7-4708-afdf-51ee1f2255e1
DTSTART:20260507T183000
DTEND:20260507T193000
DESCRIPTION:
LOCATION:
SUMMARY:Spring Band Concert
END:VEVENT
BEGIN:VEVENT
DTSTAMP:20260421T222825Z
UID:46792c31-3f7b-4990-a35e-faf93ce3897c
DTSTART:20260513T123000
DTEND:20260513T133000
DESCRIPTION:
LOCATION:
SUMMARY:Learners Permit Testing
END:VEVENT
BEGIN:VEVENT
DTSTAMP:20260421T222825Z
UID:03e3edc4-5608-4ffc-ba28-6566bcabf400
DTSTART:20260522T090000
DTEND:20260522T103000
DESCRIPTION:
LOCATION:
SUMMARY:Senior Awards
END:VEVENT
BEGIN:VEVENT
DTSTAMP:20260421T222825Z
UID:db6a45c4-b917-4dc2-bd6e-7c61a49e94da
DTSTART:20260522T124500
DTEND:20260522T143000
DESCRIPTION:
LOCATION:
SUMMARY:Senior Fun Day
END:VEVENT
BEGIN:VEVENT
DTSTAMP:20260421T222825Z
UID:6c044d7b-8b3d-4bb1-bf99-23e88618f846
DTSTART:20260526T100000
DTEND:20260526T113000
DESCRIPTION:
LOCATION:
SUMMARY:Senior Graduation Group/Individual Photos
END:VEVENT
BEGIN:VEVENT
DTSTAMP:20260421T222825Z
UID:0f1be830-4730-41e7-9a25-baf3c45ca62c
DTSTART:20260528T090000
DTEND:20260528T100000
DESCRIPTION:
LOCATION:
SUMMARY:Senior Breakfast
END:VEVENT
BEGIN:VEVENT
DTSTAMP:20260421T222825Z
UID:cda5658e-2295-4afb-926c-a4281061e970
DTSTART:20260528T110000
DTEND:20260528T120000
DESCRIPTION:
LOCATION:Cassell Coliseum\, 675 Washington St SW\, Blacksburg\, VA 24061\, 
 USA
SUMMARY:Graduation Practice 
END:VEVENT
BEGIN:VEVENT
DTSTAMP:20260421T222825Z
UID:bbdd2cb9-0567-4362-bff8-361081a91792
DTSTART;VALUE=DATE:20260529
DTEND;VALUE=DATE:20260530
DESCRIPTION:
LOCATION:
SUMMARY:End of Grading Period - Q4
END:VEVENT
BEGIN:VEVENT
DTSTAMP:20260421T222825Z
UID:f56cbdb5-f1ab-4871-9f40-08e605846754
DTSTART:20260530T114500
DTEND:20260530T131500
DESCRIPTION:
LOCATION:Cassell Coliseum\, 675 Washington St SW\, Blacksburg\, VA 24061\, 
 USA
SUMMARY:CHS Graduation 
END:VEVENT
END:VCALENDAR
