BEGIN:VCALENDAR
VERSION:2.0
PRODID:icalendar-ruby
CALSCALE:GREGORIAN
BEGIN:VTIMEZONE
TZID:America/New_York
BEGIN:DAYLIGHT
DTSTART:20260308T030000
TZOFFSETFROM:-0500
TZOFFSETTO:-0400
RRULE:FREQ=YEARLY;BYDAY=2SU;BYMONTH=3
TZNAME:EDT
END:DAYLIGHT
BEGIN:STANDARD
DTSTART:20261101T010000
TZOFFSETFROM:-0400
TZOFFSETTO:-0500
RRULE:FREQ=YEARLY;BYDAY=1SU;BYMONTH=11
TZNAME:EST
END:STANDARD
END:VTIMEZONE
BEGIN:VEVENT
DTSTAMP:20260419T135451Z
UID:0c614e3c-2f9b-4bc8-9214-4728eeb56617
DTSTART:20260420T170000
DTEND:20260420T180000
DESCRIPTION:
LOCATION:
SUMMARY:PTO Meeting
END:VEVENT
BEGIN:VEVENT
DTSTAMP:20260419T135451Z
UID:6bfce171-fe56-4a21-bb57-7b898bdfb4ad
DTSTART;VALUE=DATE:20260421
DTEND;VALUE=DATE:20260422
DESCRIPTION:
LOCATION:
SUMMARY:School Closed: Teacher Workday
END:VEVENT
BEGIN:VEVENT
DTSTAMP:20260419T135451Z
UID:aae0496f-9ecf-4cb7-abbd-790645ae4887
DTSTART;VALUE=DATE:20260422
DTEND;VALUE=DATE:20260423
DESCRIPTION:
LOCATION:
SUMMARY:Wacky Wednesday - SPRING (flowers and spring colors)
END:VEVENT
BEGIN:VEVENT
DTSTAMP:20260419T135451Z
UID:a14b9077-df66-4be1-b7ce-e10893ea041f
DTSTART:20260423T170000
DTEND:20260423T183000
DESCRIPTION:We invite the 26-27 kindergarteners and families to a Kinder Ki
 ckoff Night
LOCATION:
SUMMARY:26-27 Kinder Kickoff Night
END:VEVENT
BEGIN:VEVENT
DTSTAMP:20260419T135451Z
UID:89796534-7785-4975-b0ec-a9b3fab88182
DTSTART:20260519T170000
DTEND:20260519T180000
DESCRIPTION:
LOCATION:
SUMMARY:PTO Meeting 
END:VEVENT
BEGIN:VEVENT
DTSTAMP:20260419T135451Z
UID:81e4d89d-ea03-4692-bcfb-6875280039fd
DTSTART;VALUE=DATE:20260525
DTEND;VALUE=DATE:20260526
DESCRIPTION:
LOCATION:
SUMMARY:School Closed - Holiday
END:VEVENT
BEGIN:VEVENT
DTSTAMP:20260419T135451Z
UID:b191d8c7-1615-4321-afb1-b11bb017168b
DTSTART;VALUE=DATE:20260529
DTEND;VALUE=DATE:20260530
DESCRIPTION:
LOCATION:
SUMMARY:Last Day of School - Early Release
END:VEVENT
END:VCALENDAR
