BEGIN:VCALENDAR
VERSION:2.0
PRODID:icalendar-ruby
CALSCALE:GREGORIAN
BEGIN:VTIMEZONE
TZID:America/Phoenix
BEGIN:STANDARD
DTSTART:19671029T010000
TZOFFSETFROM:-0600
TZOFFSETTO:-0700
TZNAME:MST
END:STANDARD
END:VTIMEZONE
BEGIN:VEVENT
DTSTAMP:20260425T175136Z
UID:21a340d5-f3fe-4dfd-a37f-468ec664b19f
DTSTART:20260506T072000
DTEND:20260506T112000
DESCRIPTION:<p>The Buckeye Union High School District will be following our
  early release bell schedule for our Staff In-Service. <a target="_blank" 
 rel="noopener noreferrer nofollow" href="https://www.buhsd.org/documents/f
 amilies/buhsd-bell-schedules/755957">Please click here for school site sta
 rt/release times.</a></p><p>*There will be no lunches served on early rele
 ase days.</p>
LOCATION:
SUMMARY:Early Release-Staff In Service
END:VEVENT
BEGIN:VEVENT
DTSTAMP:20260425T175136Z
UID:809a5357-8fb3-4d7b-8e9f-d6adc7f3aa20
DTSTART:20260520T072000
DTEND:20260521T112000
DESCRIPTION:<p>The Buckeye Union High School District will be following our
  early release bell schedule for our 2nd Semester Finals. <a target="_blan
 k" rel="noopener noreferrer nofollow" href="https://www.buhsd.org/document
 s/families/buhsd-bell-schedules/755957">Please click here for school site 
 start/release times.</a></p><p>*There will be no lunches served on early r
 elease days.</p>
LOCATION:
SUMMARY:2nd Semester Finals-Early Release
END:VEVENT
BEGIN:VEVENT
DTSTAMP:20260425T175136Z
UID:193dca54-ccd9-489c-aed1-c864b28d6480
DTSTART;VALUE=DATE:20260521
DTEND;VALUE=DATE:20260522
DESCRIPTION:<p>Have a great summer Break and we will see you back for the s
 tart of the 2026-2027 school year!</p>
LOCATION:
SUMMARY:Last Day Of School
END:VEVENT
BEGIN:VEVENT
DTSTAMP:20260425T175136Z
UID:255a8665-ad57-4483-b191-e1781db91e68
DTSTART:20260521T193000
DTEND:20260521T213000
DESCRIPTION:<p>No tickets required to attend graduation. </p><p>Goodyear Ba
 llpark-1933 S Ballpark Way\, Goodyear\, AZ 85338\, USA</p>
LOCATION:1933 S Ballpark Way\, Goodyear\, AZ 85338\, USA
SUMMARY:Youngker Graduation 🎓 
END:VEVENT
END:VCALENDAR
