BEGIN:VCALENDAR
VERSION:2.0
PRODID:icalendar-ruby
CALSCALE:GREGORIAN
BEGIN:VTIMEZONE
TZID:America/Phoenix
BEGIN:STANDARD
DTSTART:19671029T010000
TZOFFSETFROM:-0600
TZOFFSETTO:-0700
TZNAME:MST
END:STANDARD
END:VTIMEZONE
BEGIN:VEVENT
DTSTAMP:20260426T002703Z
UID:41081d03-8085-4ab4-9652-dde2d13b582b
DTSTART;VALUE=DATE:20260501
DTEND;VALUE=DATE:20260502
DESCRIPTION:<p>Seniors\, get ready for National Senior Decision Day on May 
 1st!  We are joining high schools all over the country to show our seniors
  are committed to their plans after graduation.  Join us in the courtyard 
 for your regular lunch to sign our banner and celebrate with pizza and fun
 .</p><p>Make sure to fill out the Senior Exit Survey (emailed out by Ms. R
 amey)\, so we can read off what you've decided!</p><p>Also\, if you get yo
 ur FAFSA done\, you will get a celebratory t-shirt just for the Class of 2
 026!</p><p>Reach out to your Gear-Up Coaches for more information:</p><p>M
 s. McIlvaine<br><a target="_blank" rel="noopener noreferrer nofollow" href
 ="mailto:rebecca.mcilvaine@buhsd.org">rebecca.mcilvaine@buhsd.org</a><br>6
 23-269-1138</p><p>Ms. Seymour<br><a target="_blank" rel="noopener noreferr
 er nofollow" href="mailto:melinda.seymour@buhsd.org">melinda.seymour@buhsd
 .org</a><br><span>623-269-1139</span></p>
LOCATION:1000 E Narramore Ave\, Buckeye\, AZ 85326\, USA
SUMMARY:Senior Decision Day
END:VEVENT
BEGIN:VEVENT
DTSTAMP:20260426T002703Z
UID:23b3005e-2fb6-49dd-b8d4-bfa2e0f8cf76
DTSTART:20260506T083000
DTEND:20260506T123000
DESCRIPTION:<p>The Buckeye Union High School District will be following our
  early release bell schedule for our Staff In-Service. <a target="_blank" 
 rel="noopener noreferrer nofollow" href="https://www.buhsd.org/documents/f
 amilies/buhsd-bell-schedules/755957">Please click here for school site sta
 rt/release times.</a></p><p>*There will be no lunches served on early rele
 ase days.</p>
LOCATION:
SUMMARY:Early Release-Staff In Service
END:VEVENT
BEGIN:VEVENT
DTSTAMP:20260426T002703Z
UID:0a262722-b04e-432c-8968-da9b69aa4595
DTSTART:20260511T190000
DTEND:20260511T210000
DESCRIPTION:<p>Come support the Hawk Band and Choir in their last show of t
 he school year!</p><p>BUHS PAC<br>$2 per person at the door (cash and card
  accepted)</p>
LOCATION:1000 E Narramore Ave\, Buckeye\, AZ 85326\, USA
SUMMARY:Band and Choir Concert
END:VEVENT
BEGIN:VEVENT
DTSTAMP:20260426T002703Z
UID:af412eba-23a5-4bbd-ab25-424c29d6c949
DTSTART:20260515T180000
DTEND:20260515T200000
DESCRIPTION:<p>Come celebrate the achievements of our Fine Arts students du
 ring the 2025-2026 school year!</p><p>BUHS PAC<br>6 pm</p><p>For questions
 \, reach out to your Fine Arts teacher.</p><p></p>
LOCATION:1000 E Narramore Ave\, Buckeye\, AZ 85326\, USA
SUMMARY:Fine Arts Awards Night
END:VEVENT
BEGIN:VEVENT
DTSTAMP:20260426T002703Z
UID:72553539-6fd3-48b9-b3da-0d50e00007f0
DTSTART:20260520T083000
DTEND:20260521T123000
DESCRIPTION:<p>The Buckeye Union High School District will be following our
  early release bell schedule for our 2nd Semester Finals. <a target="_blan
 k" rel="noopener noreferrer nofollow" href="https://www.buhsd.org/document
 s/families/buhsd-bell-schedules/755957">Please click here for school site 
 start/release times.</a></p><p>*There will be no lunches served on early r
 elease days.</p>
LOCATION:
SUMMARY:2nd Semester Finals-Early Release
END:VEVENT
BEGIN:VEVENT
DTSTAMP:20260426T002703Z
UID:593f8203-590f-459f-88de-e1be08c8c20e
DTSTART:20260520T193000
DTEND:20260520T213000
DESCRIPTION:<p><span>No tickets required to attend graduation</span></p><p>
 Goodyear Ballpark-1933 S Ballpark Way\, Goodyear\, AZ 85338\, USA</p>
LOCATION:1933 S Ballpark Way\, Goodyear\, AZ 85338\, USA
SUMMARY:Buckeye Union Graduation 🎓
END:VEVENT
BEGIN:VEVENT
DTSTAMP:20260426T002703Z
UID:fc90a6d6-dc6f-4248-a349-d9ebf2fd460f
DTSTART;VALUE=DATE:20260521
DTEND;VALUE=DATE:20260522
DESCRIPTION:<p>Have a great summer Break and we will see you back for the s
 tart of the 2026-2027 school year!</p>
LOCATION:
SUMMARY:Last Day Of School
END:VEVENT
BEGIN:VEVENT
DTSTAMP:20260426T002703Z
UID:3666232a-6aa2-44bf-ba5e-8bac753a7605
DTSTART;VALUE=DATE:20260525
DTEND;VALUE=DATE:20260805
DESCRIPTION:
LOCATION:
SUMMARY:Summer Break
END:VEVENT
END:VCALENDAR
