BEGIN:VCALENDAR
VERSION:2.0
PRODID:icalendar-ruby
CALSCALE:GREGORIAN
BEGIN:VTIMEZONE
TZID:America/New_York
BEGIN:DAYLIGHT
DTSTART:20260308T030000
TZOFFSETFROM:-0500
TZOFFSETTO:-0400
RRULE:FREQ=YEARLY;BYDAY=2SU;BYMONTH=3
TZNAME:EDT
END:DAYLIGHT
BEGIN:STANDARD
DTSTART:20261101T010000
TZOFFSETFROM:-0400
TZOFFSETTO:-0500
RRULE:FREQ=YEARLY;BYDAY=1SU;BYMONTH=11
TZNAME:EST
END:STANDARD
END:VTIMEZONE
BEGIN:VEVENT
DTSTAMP:20260420T012608Z
UID:ffdc6367-3c57-47d8-b978-a30921e9b6c3
DTSTART;VALUE=DATE:20260316
DTEND;VALUE=DATE:20260502
DESCRIPTION:
LOCATION:
SUMMARY:Rada Fundraiser (Cheering)
END:VEVENT
BEGIN:VEVENT
DTSTAMP:20260420T012608Z
UID:233b54c8-0ced-4c7f-8758-c1bd29dcd753
DTSTART;VALUE=DATE:20260320
DTEND;VALUE=DATE:20260421
DESCRIPTION:
LOCATION:
SUMMARY:EHS You've Been Egged (Class of 2026)
END:VEVENT
BEGIN:VEVENT
DTSTAMP:20260420T012608Z
UID:a6548043-7a1f-49c7-bcc3-0613b831f0e7
DTSTART;VALUE=DATE:20260420
DTEND;VALUE=DATE:20260421
DESCRIPTION:
LOCATION:
SUMMARY:Patriots Day (Observed - No School)
END:VEVENT
BEGIN:VEVENT
DTSTAMP:20260420T012608Z
UID:b8729f26-49e1-460e-898d-2d13225d72f1
DTSTART;VALUE=DATE:20260420
DTEND;VALUE=DATE:20260506
DESCRIPTION:
LOCATION:
SUMMARY:Meat Stick Fundraiser (Spanish Club)
END:VEVENT
BEGIN:VEVENT
DTSTAMP:20260420T012608Z
UID:f580fed9-b1ea-4720-aa77-f824f3d9de65
DTSTART;VALUE=DATE:20260420
DTEND;VALUE=DATE:20260421
DESCRIPTION:
LOCATION:
SUMMARY:Patriots' Day (Observed)
END:VEVENT
BEGIN:VEVENT
DTSTAMP:20260420T012608Z
UID:1b5e537e-8d35-4356-acc9-4c76639abf74
DTSTART;VALUE=DATE:20260420
DTEND;VALUE=DATE:20260421
DESCRIPTION:
LOCATION:
SUMMARY:Patriots Day (Observed - No School)
END:VEVENT
BEGIN:VEVENT
DTSTAMP:20260420T012608Z
UID:910dff04-4bc2-437b-b2bc-c9b796651a21
DTSTART;VALUE=DATE:20260420
DTEND;VALUE=DATE:20260421
DESCRIPTION:
LOCATION:
SUMMARY:Patriots Day (Observed - No School)
END:VEVENT
BEGIN:VEVENT
DTSTAMP:20260420T012608Z
UID:2d88a060-b373-4a3c-9f8a-f431bd1257c6
DTSTART;VALUE=DATE:20260421
DTEND;VALUE=DATE:20260425
DESCRIPTION:
LOCATION:
SUMMARY:Spring Break 
END:VEVENT
BEGIN:VEVENT
DTSTAMP:20260420T012608Z
UID:4ac7178c-5bfe-4352-8165-27e17e38f83e
DTSTART;VALUE=DATE:20260421
DTEND;VALUE=DATE:20260425
DESCRIPTION:
LOCATION:
SUMMARY:Spring Break 
END:VEVENT
BEGIN:VEVENT
DTSTAMP:20260420T012608Z
UID:d55d9acf-deb1-4f9c-a141-fe42ecca62f4
DTSTART;VALUE=DATE:20260421
DTEND;VALUE=DATE:20260425
DESCRIPTION:
LOCATION:
SUMMARY:Spring Break 
END:VEVENT
BEGIN:VEVENT
DTSTAMP:20260420T012608Z
UID:1216dabf-5989-473c-ba26-acec902a7e61
DTSTART;VALUE=DATE:20260421
DTEND;VALUE=DATE:20260425
DESCRIPTION:
LOCATION:
SUMMARY:Spring Vacation
END:VEVENT
BEGIN:VEVENT
DTSTAMP:20260420T012608Z
UID:43169cc4-3cc7-4347-b4d7-48fbe434f498
DTSTART:20260427T150000
DTEND:20260427T160000
DESCRIPTION:
LOCATION:
SUMMARY:Jr Ex practice
END:VEVENT
BEGIN:VEVENT
DTSTAMP:20260420T012608Z
UID:9a585963-faf2-44fd-8d6a-383f52c7a821
DTSTART:20260428T183000
DTEND:20260428T193000
DESCRIPTION:
LOCATION:
SUMMARY:EHS Winter Sports Awards
END:VEVENT
BEGIN:VEVENT
DTSTAMP:20260420T012608Z
UID:03aed6eb-962c-491b-a5dc-92a0aa7d4899
DTSTART;VALUE=DATE:20260429
DTEND;VALUE=DATE:20260430
DESCRIPTION:
LOCATION:
SUMMARY:Jr Ex Rehearsal 
END:VEVENT
BEGIN:VEVENT
DTSTAMP:20260420T012608Z
UID:6b9c7f71-c29a-4ea9-bf3e-47d6c50ecf08
DTSTART:20260429T090000
DTEND:20260429T133000
DESCRIPTION:
LOCATION:
SUMMARY:ARGT Visual Arts Day
END:VEVENT
BEGIN:VEVENT
DTSTAMP:20260420T012608Z
UID:74ea693e-18df-440d-bd44-4c6e2d65d2dd
DTSTART:20260429T180000
DTEND:20260429T190000
DESCRIPTION:
LOCATION:
SUMMARY:PreK Registration Informational Meeting
END:VEVENT
BEGIN:VEVENT
DTSTAMP:20260420T012608Z
UID:7ad69ccf-49c7-4dbb-89d9-6f598efe7d25
DTSTART:20260429T180000
DTEND:20260429T190000
DESCRIPTION:
LOCATION:
SUMMARY:PreK Registration Informational Meeting
END:VEVENT
BEGIN:VEVENT
DTSTAMP:20260420T012608Z
UID:03eaa030-41cc-46dd-bd56-404317c2cc7d
DTSTART:20260430T093000
DTEND:20260430T103000
DESCRIPTION:
LOCATION:
SUMMARY:Jr Ex Matinee (grades 4-6)
END:VEVENT
BEGIN:VEVENT
DTSTAMP:20260420T012608Z
UID:f554e299-eed7-440e-84b5-fec6a3afca20
DTSTART:20260430T120000
DTEND:20260430T123000
DESCRIPTION:
LOCATION:
SUMMARY:Anah Clowns Visit
END:VEVENT
BEGIN:VEVENT
DTSTAMP:20260420T012608Z
UID:3f0d8dd3-0603-4a97-aee2-f3142af8da19
DTSTART:20260430T180000
DTEND:20260430T193000
DESCRIPTION:
LOCATION:
SUMMARY:Jr Ex Performance 
END:VEVENT
BEGIN:VEVENT
DTSTAMP:20260420T012608Z
UID:cd099db9-461c-454d-bbb9-93013a112430
DTSTART;VALUE=DATE:20260501
DTEND;VALUE=DATE:20260502
DESCRIPTION:
LOCATION:
SUMMARY:PreK Screenings Begin
END:VEVENT
BEGIN:VEVENT
DTSTAMP:20260420T012608Z
UID:dc02829d-567d-4cd1-877b-e7b9af64478d
DTSTART:20260501T080500
DTEND:20260501T083000
DESCRIPTION:
LOCATION:
SUMMARY:Senior Class meeting
END:VEVENT
BEGIN:VEVENT
DTSTAMP:20260420T012608Z
UID:d3b357a9-be68-41f6-bd26-4a232ebcb103
DTSTART:20260505T180000
DTEND:20260505T193000
DESCRIPTION:
LOCATION:
SUMMARY:EHS Academic Awards
END:VEVENT
BEGIN:VEVENT
DTSTAMP:20260420T012608Z
UID:d818c235-5553-4b70-b4ff-892c068975c8
DTSTART:20260507T054500
DTEND:20260507T190000
DESCRIPTION:
LOCATION:
SUMMARY:EHS Forensics/Holocaust Trip
END:VEVENT
BEGIN:VEVENT
DTSTAMP:20260420T012608Z
UID:06627976-e678-448a-997c-883e0939d3ae
DTSTART;VALUE=DATE:20260508
DTEND;VALUE=DATE:20260509
DESCRIPTION:
LOCATION:
SUMMARY:Grade 1 Mother's Day Tea
END:VEVENT
BEGIN:VEVENT
DTSTAMP:20260420T012608Z
UID:5322286b-0982-4e71-9320-54bfae7d65fe
DTSTART;VALUE=DATE:20260508
DTEND;VALUE=DATE:20260509
DESCRIPTION:
LOCATION:PI MIddle School
SUMMARY:EHS Spring Special Olympics (NHS)
END:VEVENT
BEGIN:VEVENT
DTSTAMP:20260420T012608Z
UID:d9cf1d6d-fa2d-4e44-9be9-3bf223617bf1
DTSTART;VALUE=DATE:20260508
DTEND;VALUE=DATE:20260509
DESCRIPTION:
LOCATION:
SUMMARY:Grade 1 Mother's Day Tea
END:VEVENT
BEGIN:VEVENT
DTSTAMP:20260420T012608Z
UID:59aaa169-7fae-490b-9ae9-d5049d7c9114
DTSTART:20260508T080500
DTEND:20260508T083000
DESCRIPTION:
LOCATION:
SUMMARY:Senior Class meeting
END:VEVENT
BEGIN:VEVENT
DTSTAMP:20260420T012608Z
UID:2fc2ba23-f771-4a95-9452-194e38f56f6a
DTSTART;VALUE=DATE:20260512
DTEND;VALUE=DATE:20260513
DESCRIPTION:
LOCATION:
SUMMARY:EHS Progress Reports
END:VEVENT
BEGIN:VEVENT
DTSTAMP:20260420T012608Z
UID:a76186df-426c-4af1-a321-c7c2ca7d6f64
DTSTART;VALUE=DATE:20260512
DTEND;VALUE=DATE:20260515
DESCRIPTION:
LOCATION:
SUMMARY:EHS Science State Testing (grade 8)
END:VEVENT
BEGIN:VEVENT
DTSTAMP:20260420T012608Z
UID:a39a1422-9e5b-40cd-a111-e3d8902a2b07
DTSTART;VALUE=DATE:20260513
DTEND;VALUE=DATE:20260514
DESCRIPTION:
LOCATION:
SUMMARY:Early Release (11:45 - PD)
END:VEVENT
BEGIN:VEVENT
DTSTAMP:20260420T012608Z
UID:3572caef-a8b9-4534-94e2-2799cbaa6887
DTSTART;VALUE=DATE:20260513
DTEND;VALUE=DATE:20260514
DESCRIPTION:
LOCATION:
SUMMARY:Early Release (11:45 - PD)
END:VEVENT
BEGIN:VEVENT
DTSTAMP:20260420T012608Z
UID:05c9a2f4-7647-480c-bc94-7afd2a0f269a
DTSTART;VALUE=DATE:20260513
DTEND;VALUE=DATE:20260514
DESCRIPTION:
LOCATION:
SUMMARY:Early Release - PD
END:VEVENT
BEGIN:VEVENT
DTSTAMP:20260420T012608Z
UID:781b7c9d-c1ac-4ed8-a9ab-a0c4b6639db5
DTSTART;VALUE=DATE:20260513
DTEND;VALUE=DATE:20260516
DESCRIPTION:
LOCATION:
SUMMARY:FFA State Convention
END:VEVENT
BEGIN:VEVENT
DTSTAMP:20260420T012608Z
UID:386bf49b-e0a9-4f5e-ab11-da2a219d19be
DTSTART;VALUE=DATE:20260515
DTEND;VALUE=DATE:20260516
DESCRIPTION:
LOCATION:
SUMMARY:Eligibility Check
END:VEVENT
BEGIN:VEVENT
DTSTAMP:20260420T012608Z
UID:ae2118b4-467f-481a-8527-deb3c95816d7
DTSTART:20260515T080500
DTEND:20260515T083000
DESCRIPTION:
LOCATION:
SUMMARY:Senior Class meeting
END:VEVENT
BEGIN:VEVENT
DTSTAMP:20260420T012608Z
UID:53772f46-6ffe-4e26-8297-eddd99c7c2fd
DTSTART:20260515T081000
DTEND:20260515T084000
DESCRIPTION:
LOCATION:
SUMMARY:EHS Assembly
END:VEVENT
BEGIN:VEVENT
DTSTAMP:20260420T012608Z
UID:0a745816-c38a-422d-bf49-b9618d1af4a8
DTSTART:20260519T141500
DTEND:20260519T150000
DESCRIPTION:
LOCATION:
SUMMARY:EHS Senior Pictures
END:VEVENT
BEGIN:VEVENT
DTSTAMP:20260420T012608Z
UID:a0cbf7f7-2d2a-4fcb-978a-72b80eaf97fb
DTSTART:20260520T150000
DTEND:20260520T160000
DESCRIPTION:
LOCATION:
SUMMARY:EHS Senior Honor Speeches Due
END:VEVENT
BEGIN:VEVENT
DTSTAMP:20260420T012608Z
UID:d3897880-5479-46fd-aa83-346d9f5dd0b8
DTSTART;VALUE=DATE:20260521
DTEND;VALUE=DATE:20260522
DESCRIPTION:
LOCATION:
SUMMARY: EHS Jr. Transcript Review Day
END:VEVENT
BEGIN:VEVENT
DTSTAMP:20260420T012608Z
UID:0d04e64f-ee3c-4479-82df-012b5b9ceef2
DTSTART:20260521T153000
DTEND:20260521T170000
DESCRIPTION:
LOCATION:
SUMMARY:Bears on the Run 5K
END:VEVENT
BEGIN:VEVENT
DTSTAMP:20260420T012608Z
UID:f815bae5-3485-47fe-8c8f-3647b08216f2
DTSTART:20260521T153000
DTEND:20260521T170000
DESCRIPTION:
LOCATION:
SUMMARY:Bears on the Run 5K
END:VEVENT
BEGIN:VEVENT
DTSTAMP:20260420T012608Z
UID:db306e62-52cb-4916-84e0-09051fe9e088
DTSTART;VALUE=DATE:20260525
DTEND;VALUE=DATE:20260526
DESCRIPTION:
LOCATION:
SUMMARY:Memorial Day (Observed)
END:VEVENT
BEGIN:VEVENT
DTSTAMP:20260420T012608Z
UID:f3a66ac3-ae46-4378-8dcb-7ef181144633
DTSTART;VALUE=DATE:20260525
DTEND;VALUE=DATE:20260526
DESCRIPTION:
LOCATION:
SUMMARY:Memorial Day (Observed - No School)
END:VEVENT
BEGIN:VEVENT
DTSTAMP:20260420T012608Z
UID:8fa3ed59-f924-467a-9cda-b3b56fa02011
DTSTART;VALUE=DATE:20260525
DTEND;VALUE=DATE:20260526
DESCRIPTION:
LOCATION:
SUMMARY:Memorial Day (Observed - No School)
END:VEVENT
BEGIN:VEVENT
DTSTAMP:20260420T012608Z
UID:b876aa7c-1e94-434d-baf9-2d4d0f840f6e
DTSTART:20260527T081500
DTEND:20260527T133000
DESCRIPTION:
LOCATION:
SUMMARY:EHS Math Meet (PI grades 6-8)
END:VEVENT
BEGIN:VEVENT
DTSTAMP:20260420T012608Z
UID:e2cbf287-b091-4746-b49f-20f09dfc22a4
DTSTART:20260527T150000
DTEND:20260527T160000
DESCRIPTION:
LOCATION:
SUMMARY:EHS Senior Slide Shows Due
END:VEVENT
BEGIN:VEVENT
DTSTAMP:20260420T012608Z
UID:1c993ff8-6ee0-4420-89b2-c671a5552ae6
DTSTART:20260527T190000
DTEND:20260527T200000
DESCRIPTION:
LOCATION:
SUMMARY:EHS Pops Night (Band/Chorus Concert)
END:VEVENT
BEGIN:VEVENT
DTSTAMP:20260420T012608Z
UID:014a8535-386b-4009-9922-afbebd420476
DTSTART:20260528T130000
DTEND:20260528T143000
DESCRIPTION:
LOCATION:
SUMMARY:Elementary Concert
END:VEVENT
BEGIN:VEVENT
DTSTAMP:20260420T012608Z
UID:1b6b6402-6f39-4f26-8c43-30f3888b95a9
DTSTART:20260528T190000
DTEND:20260528T200000
DESCRIPTION:
LOCATION:
SUMMARY:EHS Alumni Social
END:VEVENT
BEGIN:VEVENT
DTSTAMP:20260420T012608Z
UID:c1e31afd-b284-415c-b8d4-5bd09684a5b7
DTSTART:20260529T143000
DTEND:20260529T153000
DESCRIPTION:
LOCATION:
SUMMARY:EHS Senior ONLY Marching Practice
END:VEVENT
BEGIN:VEVENT
DTSTAMP:20260420T012608Z
UID:fa2ecc2d-4bf5-4a46-961f-1664982e6c5f
DTSTART:20260530T180000
DTEND:20260530T210000
DESCRIPTION:
LOCATION:
SUMMARY:EHS Prom
END:VEVENT
BEGIN:VEVENT
DTSTAMP:20260420T012608Z
UID:3b523ae1-353e-4448-97e4-1542672db411
DTSTART:20260531T180000
DTEND:20260531T190000
DESCRIPTION:
LOCATION:
SUMMARY:EHS Baccalaureate (HS GYM)
END:VEVENT
BEGIN:VEVENT
DTSTAMP:20260420T012608Z
UID:39dcff83-1a14-44b4-8127-14eb9ca2137a
DTSTART;VALUE=DATE:20260602
DTEND;VALUE=DATE:20260603
DESCRIPTION:
LOCATION:
SUMMARY:EHS Senior's Last Day of Classes
END:VEVENT
BEGIN:VEVENT
DTSTAMP:20260420T012608Z
UID:1e912dae-9da5-43c3-87a2-542836228118
DTSTART:20260602T081500
DTEND:20260602T091500
DESCRIPTION:
LOCATION:
SUMMARY:EHS Marching Practice
END:VEVENT
BEGIN:VEVENT
DTSTAMP:20260420T012608Z
UID:a8029942-1f3f-4988-bdd9-ee1e090c766c
DTSTART:20260602T100000
DTEND:20260602T101500
DESCRIPTION:
LOCATION:
SUMMARY:EHS Senior EES Walk Through
END:VEVENT
BEGIN:VEVENT
DTSTAMP:20260420T012608Z
UID:5d158483-3023-49dd-aab5-3e2d038bdc98
DTSTART:20260602T103000
DTEND:20260602T110000
DESCRIPTION:
LOCATION:
SUMMARY:EHS Fun and Funky Parade
END:VEVENT
BEGIN:VEVENT
DTSTAMP:20260420T012608Z
UID:aaf936d3-bf40-43cf-bf49-4c7333ba6ae6
DTSTART:20260602T130000
DTEND:20260602T150000
DESCRIPTION:
LOCATION:
SUMMARY:EHS Senior's MANDATORY Decorating
END:VEVENT
BEGIN:VEVENT
DTSTAMP:20260420T012608Z
UID:212ec4d7-f2e6-4269-8a3f-e98b9a226dc1
DTSTART:20260603T090000
DTEND:20260603T150000
DESCRIPTION:
LOCATION:
SUMMARY:EHS Senior MANTATORY Decorating
END:VEVENT
BEGIN:VEVENT
DTSTAMP:20260420T012608Z
UID:50a81d3d-f463-4101-8a73-9e70e96387cd
DTSTART:20260603T183000
DTEND:20260603T203000
DESCRIPTION:
LOCATION:
SUMMARY:EHS Class Night 
END:VEVENT
BEGIN:VEVENT
DTSTAMP:20260420T012608Z
UID:a6ebf9c2-cbf6-4a42-bfae-12d3e65b4451
DTSTART:20260604T083000
DTEND:20260604T140000
DESCRIPTION:
LOCATION:
SUMMARY:EHS MANDATORY Graduation Practice
END:VEVENT
BEGIN:VEVENT
DTSTAMP:20260420T012608Z
UID:ee506de8-dfa9-43c9-ab8e-77e931866759
DTSTART:20260604T160000
DTEND:20260604T200000
DESCRIPTION:
LOCATION:
SUMMARY:EHS Senior Class Bowling Trip
END:VEVENT
BEGIN:VEVENT
DTSTAMP:20260420T012608Z
UID:0d7e85ad-283a-4b92-9899-ab1ff0e94721
DTSTART:20260605T183000
DTEND:20260605T200000
DESCRIPTION:
LOCATION:
SUMMARY:EHS Graduation
END:VEVENT
BEGIN:VEVENT
DTSTAMP:20260420T012608Z
UID:108e3eb9-666c-4e9c-9457-b39bd7b5c573
DTSTART;VALUE=DATE:20260609
DTEND;VALUE=DATE:20260613
DESCRIPTION:
LOCATION:
SUMMARY:Final Exams
END:VEVENT
BEGIN:VEVENT
DTSTAMP:20260420T012608Z
UID:002582e7-7ddf-4792-b346-e282083e501b
DTSTART;VALUE=DATE:20260612
DTEND;VALUE=DATE:20260613
DESCRIPTION:
LOCATION:
SUMMARY:EHS 4th Quarter Ends
END:VEVENT
BEGIN:VEVENT
DTSTAMP:20260420T012608Z
UID:a1bc2aaf-5090-4fa4-98f9-147dd791ccce
DTSTART;VALUE=DATE:20260612
DTEND;VALUE=DATE:20260613
DESCRIPTION:
LOCATION:
SUMMARY:Grade 6 Celebration
END:VEVENT
BEGIN:VEVENT
DTSTAMP:20260420T012608Z
UID:b799a74c-9838-462b-868d-32e995054f4a
DTSTART;VALUE=DATE:20260612
DTEND;VALUE=DATE:20260613
DESCRIPTION:
LOCATION:
SUMMARY:Pre K Last Day & Celebration
END:VEVENT
BEGIN:VEVENT
DTSTAMP:20260420T012608Z
UID:1cbbc1c0-f473-4780-aa9b-f964377cc6fc
DTSTART;VALUE=DATE:20260615
DTEND;VALUE=DATE:20260616
DESCRIPTION:
LOCATION:
SUMMARY:Last Day of School-Early Release 11:45
END:VEVENT
BEGIN:VEVENT
DTSTAMP:20260420T012608Z
UID:2a254891-8618-4a98-8f3e-2eae968e2513
DTSTART;VALUE=DATE:20260615
DTEND;VALUE=DATE:20260616
DESCRIPTION:
LOCATION:
SUMMARY:EES Field Day
END:VEVENT
BEGIN:VEVENT
DTSTAMP:20260420T012608Z
UID:5cd0a92e-7781-441c-86d3-bbbbfb8d9f32
DTSTART;VALUE=DATE:20260615
DTEND;VALUE=DATE:20260616
DESCRIPTION:
LOCATION:
SUMMARY:Last Day of School-Early Release 11:45
END:VEVENT
BEGIN:VEVENT
DTSTAMP:20260420T012608Z
UID:a61ff1c5-1b61-455a-8614-203aabfb287e
DTSTART;VALUE=DATE:20260615
DTEND;VALUE=DATE:20260616
DESCRIPTION:
LOCATION:
SUMMARY:Last Day of School-Early Release 11:45
END:VEVENT
BEGIN:VEVENT
DTSTAMP:20260420T012608Z
UID:ab9d7c50-f993-4e5f-a86d-ea45abc8b7f8
DTSTART;VALUE=DATE:20260615
DTEND;VALUE=DATE:20260616
DESCRIPTION:
LOCATION:
SUMMARY:Last Student Day - Early Release
END:VEVENT
BEGIN:VEVENT
DTSTAMP:20260420T012608Z
UID:1c70ff88-17f0-4f4c-8f34-223f0c383bde
DTSTART;VALUE=DATE:20260615
DTEND;VALUE=DATE:20260616
DESCRIPTION:
LOCATION:
SUMMARY:Teacher Inservice Day (No School for Students)
END:VEVENT
BEGIN:VEVENT
DTSTAMP:20260420T012608Z
UID:4b247f36-bdeb-423d-a23d-5449da50aaf0
DTSTART;VALUE=DATE:20260615
DTEND;VALUE=DATE:20260616
DESCRIPTION:
LOCATION:
SUMMARY:Teacher Inservice Day (No School for Students)
END:VEVENT
BEGIN:VEVENT
DTSTAMP:20260420T012608Z
UID:5cfb5bb2-007c-4e4d-b576-5e6dfa1fea64
DTSTART:20260615T100000
DTEND:20260615T110000
DESCRIPTION:
LOCATION:
SUMMARY:MS Awards Ceremony
END:VEVENT
BEGIN:VEVENT
DTSTAMP:20260420T012608Z
UID:61f8e563-4966-40c2-ab65-92d96e3f7aa5
DTSTART;VALUE=DATE:20260616
DTEND;VALUE=DATE:20260617
DESCRIPTION:
LOCATION:
SUMMARY:Teacher Inservice
END:VEVENT
BEGIN:VEVENT
DTSTAMP:20260420T012608Z
UID:43306b7a-6340-4bb5-9438-c7d576aabec9
DTSTART;VALUE=DATE:20260619
DTEND;VALUE=DATE:20260620
DESCRIPTION:
LOCATION:
SUMMARY:EHS Eligibility Check
END:VEVENT
BEGIN:VEVENT
DTSTAMP:20260420T012608Z
UID:e76f7c8f-0a82-4425-9c03-ee162fb69c9b
DTSTART;VALUE=DATE:20260619
DTEND;VALUE=DATE:20260620
DESCRIPTION:
LOCATION:
SUMMARY:EHS Report Cards Sent Home
END:VEVENT
BEGIN:VEVENT
DTSTAMP:20260420T012608Z
UID:31f594a3-43a0-4065-a215-6d7ac5c6fabc
DTSTART;VALUE=DATE:20260619
DTEND;VALUE=DATE:20260620
DESCRIPTION:
LOCATION:
SUMMARY:Juneteenth (Observed)
END:VEVENT
BEGIN:VEVENT
DTSTAMP:20260420T012608Z
UID:a5d70bca-f407-46e9-8b46-eebcb5ba9d8b
DTSTART:20260729T183000
DTEND:20260729T193000
DESCRIPTION:
LOCATION:
SUMMARY:Tentative Meet the Soccer Coaches Night
END:VEVENT
BEGIN:VEVENT
DTSTAMP:20260420T012608Z
UID:833276fa-4728-44c6-bc9e-8b2cef866227
DTSTART:20260730T150000
DTEND:20260730T200000
DESCRIPTION:
LOCATION:
SUMMARY:Tentative First Day Varsity Soccer Practices
END:VEVENT
BEGIN:VEVENT
DTSTAMP:20260420T012608Z
UID:f2dda7da-9137-40af-b147-f4da58f9f54b
DTSTART;VALUE=DATE:20260825
DTEND;VALUE=DATE:20260826
DESCRIPTION:
LOCATION:
SUMMARY:Picture Day 
END:VEVENT
BEGIN:VEVENT
DTSTAMP:20260420T012608Z
UID:b6223516-3082-41e4-89f9-47ade242365b
DTSTART;VALUE=DATE:20260825
DTEND;VALUE=DATE:20260826
DESCRIPTION:
LOCATION:
SUMMARY:School Picture Day
END:VEVENT
BEGIN:VEVENT
DTSTAMP:20260420T012608Z
UID:5b9074e8-e8b4-4ef3-abdf-a08788bd7891
DTSTART;VALUE=DATE:20261019
DTEND;VALUE=DATE:20261020
DESCRIPTION:
LOCATION:
SUMMARY:Picture Retake Day
END:VEVENT
BEGIN:VEVENT
DTSTAMP:20260420T012608Z
UID:1dea2010-591d-4c8e-8a60-56fec0846e54
DTSTART;VALUE=DATE:20261029
DTEND;VALUE=DATE:20261030
DESCRIPTION:
LOCATION:
SUMMARY:School Picture Retake Day
END:VEVENT
BEGIN:VEVENT
DTSTAMP:20260420T012608Z
UID:3bb4beca-da7b-4a43-b105-27e750bf24c8
DTSTART;VALUE=DATE:20261029
DTEND;VALUE=DATE:20261030
DESCRIPTION:
LOCATION:
SUMMARY:School Picture Retake Day
END:VEVENT
END:VCALENDAR
