BEGIN:VCALENDAR
VERSION:2.0
PRODID:icalendar-ruby
CALSCALE:GREGORIAN
BEGIN:VTIMEZONE
TZID:America/New_York
BEGIN:DAYLIGHT
DTSTART:20260308T030000
TZOFFSETFROM:-0500
TZOFFSETTO:-0400
RRULE:FREQ=YEARLY;BYDAY=2SU;BYMONTH=3
TZNAME:EDT
END:DAYLIGHT
BEGIN:STANDARD
DTSTART:20261101T010000
TZOFFSETFROM:-0400
TZOFFSETTO:-0500
RRULE:FREQ=YEARLY;BYDAY=1SU;BYMONTH=11
TZNAME:EST
END:STANDARD
END:VTIMEZONE
BEGIN:VEVENT
DTSTAMP:20260425T042616Z
UID:1125b4b2-666e-4f0d-8c2a-be27d84d6381
DTSTART:20260428T163000
DTEND:20260428T193000
DESCRIPTION:
LOCATION:
SUMMARY:Livingston County AI Leadership Network Meeting
END:VEVENT
BEGIN:VEVENT
DTSTAMP:20260425T042616Z
UID:f85c5b46-7c71-437e-9961-e2b269f378b6
DTSTART;VALUE=DATE:20260505
DTEND;VALUE=DATE:20260506
DESCRIPTION:
LOCATION:
SUMMARY:Cinco de Mayo
END:VEVENT
BEGIN:VEVENT
DTSTAMP:20260425T042616Z
UID:e8d9928e-5652-44a9-95fd-f223bd7f239d
DTSTART:20260506T083000
DTEND:20260506T103000
DESCRIPTION:
LOCATION:
SUMMARY:Suicide/Self Harm Awareness
END:VEVENT
BEGIN:VEVENT
DTSTAMP:20260425T042616Z
UID:9344da10-115e-4a63-bb0b-46f40dda4d20
DTSTART:20260506T123000
DTEND:20260506T153000
DESCRIPTION:
LOCATION:
SUMMARY:Curriculum Director Meeting
END:VEVENT
BEGIN:VEVENT
DTSTAMP:20260425T042616Z
UID:3e22b5ae-2c8a-4c91-82aa-e956f06233d5
DTSTART:20260507T083000
DTEND:20260507T120000
DESCRIPTION:
LOCATION:
SUMMARY:Early Childhood Leaders Network Meeting
END:VEVENT
BEGIN:VEVENT
DTSTAMP:20260425T042616Z
UID:5fe8cae0-9210-426f-8a22-b3f698600886
DTSTART;VALUE=DATE:20260508
DTEND;VALUE=DATE:20260509
DESCRIPTION:
LOCATION:
SUMMARY:Hartland - Senior's Last Day
END:VEVENT
BEGIN:VEVENT
DTSTAMP:20260425T042616Z
UID:920f46f0-85a3-4236-961a-dd8f5e2623b2
DTSTART;VALUE=DATE:20260510
DTEND;VALUE=DATE:20260511
DESCRIPTION:
LOCATION:
SUMMARY:Mother's Day
END:VEVENT
BEGIN:VEVENT
DTSTAMP:20260425T042616Z
UID:30d011ab-75ac-4cd7-b32e-86ae6ecd309b
DTSTART:20260511T090000
DTEND:20260511T150000
DESCRIPTION:
LOCATION:
SUMMARY:35a Coaches Meeting
END:VEVENT
BEGIN:VEVENT
DTSTAMP:20260425T042616Z
UID:6f39bbcf-fd22-4bf4-8e61-60e8ccf9ac05
DTSTART:20260512T083000
DTEND:20260512T120000
DESCRIPTION:
LOCATION:
SUMMARY:AP Network Meeting
END:VEVENT
BEGIN:VEVENT
DTSTAMP:20260425T042616Z
UID:4e2af9a9-46f4-4024-804b-c83c30e2c47e
DTSTART:20260513T090000
DTEND:20260513T123000
DESCRIPTION:
LOCATION:
SUMMARY:ML Support Network Meeting
END:VEVENT
BEGIN:VEVENT
DTSTAMP:20260425T042616Z
UID:cea346a2-023f-49f9-a656-db644c645196
DTSTART:20260513T180000
DTEND:20260513T190000
DESCRIPTION:
LOCATION:
SUMMARY:Board Meeting
END:VEVENT
BEGIN:VEVENT
DTSTAMP:20260425T042616Z
UID:dc80b4b6-9536-4ef6-a9ef-4ca82f35f541
DTSTART;VALUE=DATE:20260515
DTEND;VALUE=DATE:20260516
DESCRIPTION:
LOCATION:
SUMMARY:Pinckney - Senior's Last Day
END:VEVENT
BEGIN:VEVENT
DTSTAMP:20260425T042616Z
UID:2761a648-b042-4a13-942e-ad6e18dcc317
DTSTART;VALUE=DATE:20260519
DTEND;VALUE=DATE:20260520
DESCRIPTION:
LOCATION:
SUMMARY:Fowlerville - Senior's Last Day
END:VEVENT
BEGIN:VEVENT
DTSTAMP:20260425T042616Z
UID:568e2907-d2d0-444b-9c35-c9cdc7148261
DTSTART:20260519T163000
DTEND:20260519T190000
DESCRIPTION:
LOCATION:
SUMMARY:Cultivating Leadership Capacity 1.0 Learning Series 
END:VEVENT
BEGIN:VEVENT
DTSTAMP:20260425T042616Z
UID:3b388bab-8d9b-4cb3-bc32-5109336771a0
DTSTART;VALUE=DATE:20260525
DTEND;VALUE=DATE:20260526
DESCRIPTION:
LOCATION:
SUMMARY:Memorial Day
END:VEVENT
BEGIN:VEVENT
DTSTAMP:20260425T042616Z
UID:456a0716-8cce-49c4-be7d-33e91742ab2b
DTSTART;VALUE=DATE:20260525
DTEND;VALUE=DATE:20260526
DESCRIPTION:
LOCATION:
SUMMARY:Agency Closed
END:VEVENT
BEGIN:VEVENT
DTSTAMP:20260425T042616Z
UID:6f0da0d1-bfa2-4c28-9584-63b60381386c
DTSTART;VALUE=DATE:20260528
DTEND;VALUE=DATE:20260529
DESCRIPTION:
LOCATION:
SUMMARY:Hartland - Last Day of School (Half Day)
END:VEVENT
BEGIN:VEVENT
DTSTAMP:20260425T042616Z
UID:98dfb52c-492b-4f39-a8a9-0d53afd32c01
DTSTART;VALUE=DATE:20260529
DTEND;VALUE=DATE:20260530
DESCRIPTION:
LOCATION:
SUMMARY:Howell - Last Day of School 
END:VEVENT
BEGIN:VEVENT
DTSTAMP:20260425T042616Z
UID:0cbb5214-9bbf-4e5b-8216-bd5cf64ec6c4
DTSTART:20260603T113000
DTEND:20260603T133000
DESCRIPTION:
LOCATION:
SUMMARY:Curriculum and Instructional Council Meeting
END:VEVENT
BEGIN:VEVENT
DTSTAMP:20260425T042616Z
UID:0642672f-e4ae-4a5f-9cce-2531a998a16f
DTSTART:20260603T133000
DTEND:20260603T153000
DESCRIPTION:
LOCATION:
SUMMARY:Curriculum Director Meeting
END:VEVENT
BEGIN:VEVENT
DTSTAMP:20260425T042616Z
UID:82f0d43d-b470-4703-a573-d46736e12937
DTSTART;VALUE=DATE:20260605
DTEND;VALUE=DATE:20260606
DESCRIPTION:
LOCATION:
SUMMARY:Fowlerville - Last Day of School (Half Day)
END:VEVENT
BEGIN:VEVENT
DTSTAMP:20260425T042616Z
UID:3431c022-7633-4c26-a36b-fe3ca3b2f61d
DTSTART;VALUE=DATE:20260605
DTEND;VALUE=DATE:20260606
DESCRIPTION:
LOCATION:
SUMMARY:Pinckney - Last Day of School (Half Day)
END:VEVENT
BEGIN:VEVENT
DTSTAMP:20260425T042616Z
UID:87a66988-d48d-4bbe-ab5d-8271f84c83f1
DTSTART:20260610T180000
DTEND:20260610T190000
DESCRIPTION:
LOCATION:
SUMMARY:Board Meeting
END:VEVENT
BEGIN:VEVENT
DTSTAMP:20260425T042616Z
UID:2506d095-e929-42bc-af30-c69464d16b51
DTSTART;VALUE=DATE:20260611
DTEND;VALUE=DATE:20260612
DESCRIPTION:
LOCATION:
SUMMARY:Brighton - Last Day of School (Half Day)
END:VEVENT
BEGIN:VEVENT
DTSTAMP:20260425T042616Z
UID:c620f38b-4dad-4f82-90ef-1a8da4e3da29
DTSTART;VALUE=DATE:20260614
DTEND;VALUE=DATE:20260615
DESCRIPTION:
LOCATION:
SUMMARY:Flag Day
END:VEVENT
BEGIN:VEVENT
DTSTAMP:20260425T042616Z
UID:fc20a287-805e-4191-8b76-ed3fe88c7570
DTSTART;VALUE=DATE:20260619
DTEND;VALUE=DATE:20260620
DESCRIPTION:
LOCATION:
SUMMARY:Juneteenth
END:VEVENT
BEGIN:VEVENT
DTSTAMP:20260425T042616Z
UID:a222f4af-cbbb-442d-b50c-80411ff27afe
DTSTART;VALUE=DATE:20260621
DTEND;VALUE=DATE:20260622
DESCRIPTION:
LOCATION:
SUMMARY:Father's Day
END:VEVENT
BEGIN:VEVENT
DTSTAMP:20260425T042616Z
UID:3cee17d0-f0e4-4cf4-8a42-46f335e46b67
DTSTART;VALUE=DATE:20260626
DTEND;VALUE=DATE:20260627
DESCRIPTION:
LOCATION:
SUMMARY:Agency Closed
END:VEVENT
BEGIN:VEVENT
DTSTAMP:20260425T042616Z
UID:da77d68d-deac-428e-bcfd-b790904dfab3
DTSTART;VALUE=DATE:20260704
DTEND;VALUE=DATE:20260705
DESCRIPTION:
LOCATION:
SUMMARY:Independence Day
END:VEVENT
END:VCALENDAR
