BEGIN:VCALENDAR
VERSION:2.0
PRODID:icalendar-ruby
CALSCALE:GREGORIAN
BEGIN:VTIMEZONE
TZID:America/Phoenix
BEGIN:STANDARD
DTSTART:19671029T010000
TZOFFSETFROM:-0600
TZOFFSETTO:-0700
TZNAME:MST
END:STANDARD
END:VTIMEZONE
BEGIN:VEVENT
DTSTAMP:20260424T164739Z
UID:1ef6f420-4849-4dd6-906c-bce2fdd2dfe2
DTSTART:20260424T160000
DTEND:20260424T180000
DESCRIPTION:
LOCATION:Greenway High School\, 3930 W Greenway Rd\, Phoenix\, AZ\, 85053
SUMMARY:BUHS - JV Softball vs Canyon View
END:VEVENT
BEGIN:VEVENT
DTSTAMP:20260424T164739Z
UID:d74a0410-e2dc-4e37-8ed3-4134b74ecfb1
DTSTART:20260424T160000
DTEND:20260424T180000
DESCRIPTION:
LOCATION:Buckeye Union High School\, 1000 E Narramore Ave\, Buckeye\, AZ\, 
 85326-2632
SUMMARY:BUHS - Varsity Softball vs Greenway (Senior Night)
END:VEVENT
BEGIN:VEVENT
DTSTAMP:20260424T164739Z
UID:0c5781f9-b8bb-4529-ad84-144643009591
DTSTART:20260424T173000
DTEND:20260424T193000
DESCRIPTION:
LOCATION:Estrella Foothills High School\, 13033 S Estrella Pkwy\, Goodyear\
 , AZ\, 85338-5845
SUMMARY:EFHS - Boy's Varsity Volleyball vs Cactus
END:VEVENT
BEGIN:VEVENT
DTSTAMP:20260424T164739Z
UID:051d9113-906f-405b-b60f-4356a5662fd6
DTSTART:20260424T180000
DTEND:20260424T200000
DESCRIPTION:
LOCATION:Estrella Foothills High School\, 13033 S Estrella Pkwy\, Goodyear\
 , AZ\, 85338-5845
SUMMARY:EFHS - Fine Arts Festival
END:VEVENT
BEGIN:VEVENT
DTSTAMP:20260424T164739Z
UID:eb4bef20-7997-4831-95de-d8fbdd57d374
DTSTART:20260425T120000
DTEND:20260425T140000
DESCRIPTION:<html><head><meta http-equiv="Content-Type" content="text/html\
 ; charset=utf-8"></head><body><div></div></body></html>
LOCATION:Buckeye Union High School\, 1000 E Narramore Ave\, Buckeye\, AZ\, 
 85326-2632
SUMMARY:BUHS - Varsity Baseball vs Desert Edge
END:VEVENT
BEGIN:VEVENT
DTSTAMP:20260424T164739Z
UID:e179a5d2-29b8-467c-8d15-efbdf229d95b
DTSTART:20260501T160000
DTEND:20260501T200000
DESCRIPTION:
LOCATION:Estrella Foothills High School\, 13033 S Estrella Pkwy\, Goodyear\
 , AZ\, 85338-5845
SUMMARY:EFHS - Foothills Festival
END:VEVENT
BEGIN:VEVENT
DTSTAMP:20260424T164739Z
UID:1dd4119c-729a-4d8e-a77d-5a8aa08a7c06
DTSTART;VALUE=DATE:20260506
DTEND;VALUE=DATE:20260507
DESCRIPTION:<p>The Buckeye Union High School District will be following our
  early release bell schedule for our Staff In-Service. <a target="_blank" 
 rel="noopener noreferrer nofollow" href="https://www.buhsd.org/documents/f
 amilies/buhsd-bell-schedules/755957">Please click here for school site sta
 rt/release times.</a></p><p>*There will be no lunches served on early rele
 ase days.</p>
LOCATION:
SUMMARY:Early Release-Staff In Service
END:VEVENT
BEGIN:VEVENT
DTSTAMP:20260424T164739Z
UID:68452ffb-a896-45de-a5f4-08674bc22ae7
DTSTART:20260511T180000
DTEND:20260511T200000
DESCRIPTION:<p>The Governing Board of the Buckeye Union High School&nbsp\;D
 istrict No. 201 will convene Board Meetings\, typically held on the 2nd Mo
 nday of every month&nbsp\;at 6:00pm.</p><p>Location of meeting will be hel
 d at:<br>District Administrative Offices located at the Buckeye Union High
  School A Wing (parking across from the baseball fields)</p><p><br><strong
 >Buckeye Union HS District-A Wing<br>902 East Eason Avenue Buckeye\, AZ 85
 326&nbsp\;</strong></p><p>The board room is open by 5:30pm on the day of b
 oard meetings.</p><p><a target="_blank" rel="noopener noreferrer nofollow"
  href="https://live.myvrspot.com/player?udi=YnVoc2Q%3D&amp\;c=YnVoc2Qx">Pu
 blic Livestream</a></p>
LOCATION:902 E Eason Ave\, Buckeye\, AZ 85326\, USA
SUMMARY:Governing Board Meeting
END:VEVENT
BEGIN:VEVENT
DTSTAMP:20260424T164739Z
UID:41587b46-c123-4c4e-b4c8-604323ecb82c
DTSTART;VALUE=DATE:20260520
DTEND;VALUE=DATE:20260522
DESCRIPTION:<p>The Buckeye Union High School District will be following our
  early release bell schedule for our 2nd Semester Finals. <a target="_blan
 k" rel="noopener noreferrer nofollow" href="https://www.buhsd.org/document
 s/families/buhsd-bell-schedules/755957">Please click here for school site 
 start/release times.</a></p><p>*There will be no lunches served on early r
 elease days.</p>
LOCATION:
SUMMARY:2nd Semester Finals-Early Release
END:VEVENT
BEGIN:VEVENT
DTSTAMP:20260424T164739Z
UID:e8f954f7-923b-4297-920e-97e4d7242efe
DTSTART:20260520T170000
DTEND:20260520T190000
DESCRIPTION:
LOCATION:751 N 215th Ave\, Buckeye\, AZ 85326\, USA
SUMMARY:Learning Center Graduation
END:VEVENT
BEGIN:VEVENT
DTSTAMP:20260424T164739Z
UID:0e0010b5-d45b-4b08-ab47-729e0799348a
DTSTART:20260520T193000
DTEND:20260520T210000
DESCRIPTION:
LOCATION:1933 S Ballpark Way\, Goodyear\, AZ 85338\, USA
SUMMARY:Buckeye Union Graduation
END:VEVENT
BEGIN:VEVENT
DTSTAMP:20260424T164739Z
UID:b53ccb15-474f-4654-a158-aef7379a5678
DTSTART;VALUE=DATE:20260521
DTEND;VALUE=DATE:20260522
DESCRIPTION:<p><span>Have a great summer Break and we will see you back for
  the start of the 2026-2027 school year!</span></p>
LOCATION:
SUMMARY:Last Day Of School
END:VEVENT
BEGIN:VEVENT
DTSTAMP:20260424T164739Z
UID:b66e4c28-0b04-4915-ade4-8bb7aef3a8e7
DTSTART:20260521T193000
DTEND:20260521T210000
DESCRIPTION:
LOCATION:1933 S Ballpark Way\, Goodyear\, AZ 85338\, USA
SUMMARY:Youngker Graduation
END:VEVENT
BEGIN:VEVENT
DTSTAMP:20260424T164739Z
UID:586fc9d6-c3a0-4cb3-82e1-9a17275c2b5b
DTSTART:20260522T193000
DTEND:20260522T210000
DESCRIPTION:
LOCATION:1933 S Ballpark Way\, Goodyear\, AZ 85338\, USA
SUMMARY:Estrella Foothills Graduation
END:VEVENT
BEGIN:VEVENT
DTSTAMP:20260424T164739Z
UID:8b2441e7-4333-4e68-a9e2-c4b7ec39baf4
DTSTART:20260615T180000
DTEND:20260615T200000
DESCRIPTION:<p>The Governing Board of the Buckeye Union High School&nbsp\;D
 istrict No. 201 will convene Board Meetings\, typically held on the 2nd Mo
 nday of every month&nbsp\;at 6:00pm.</p><p>Location of meeting will be hel
 d at:<br>District Administrative Offices located at the Buckeye Union High
  School A Wing (parking across from the baseball fields)</p><p><br><strong
 >Buckeye Union HS District-A Wing<br>902 East Eason Avenue Buckeye\, AZ 85
 326&nbsp\;</strong></p><p>The board room is open by 5:30pm on the day of b
 oard meetings.</p><p><a target="_blank" rel="noopener noreferrer nofollow"
  href="https://live.myvrspot.com/player?udi=YnVoc2Q%3D&amp\;c=YnVoc2Qx">Pu
 blic Livestream</a></p>
LOCATION:902 E Eason Ave\, Buckeye\, AZ 85326\, USA
SUMMARY:Governing Board Meeting
END:VEVENT
BEGIN:VEVENT
DTSTAMP:20260424T164739Z
UID:e7099b0e-5282-4d58-aba0-9c257b50a135
DTSTART;VALUE=DATE:20260805
DTEND;VALUE=DATE:20260806
DESCRIPTION:<html><head><meta http-equiv="Content-Type" content="text/html\
 ; charset=utf-8"></head><body><div class="elementToProof" style="font-fami
 ly:Aptos\,Aptos_EmbeddedFont\,Aptos_MSFontService\,Calibri\,Helvetica\,san
 s-serif\; font-size:12pt\; color:rgb(0\,0\,0)">Buckeye Union High School D
 istrict families – please note that Wednesday\, August 5th is a Late Sta
 rt Day for all schools. 🕰️<br><br>Start Times:<br>🔸 BUHS – 10:30
  AM<br>🔸 EFHS – 9:30 AM<br>🔸 YHS – 9:20 AM<br><br>🚌 All bus r
 outes will run 2 hours later than normal.</div><div style="font-family:Apt
 os\,Aptos_EmbeddedFont\,Aptos_MSFontService\,Calibri\,Helvetica\,sans-seri
 f\; font-size:12pt\; color:rgb(0\,0\,0)"><br></div></body></html>
LOCATION:
SUMMARY:First Day of School
END:VEVENT
BEGIN:VEVENT
DTSTAMP:20260424T164739Z
UID:14c37393-815d-4755-94b8-2312f36ee8c4
DTSTART;VALUE=DATE:20260907
DTEND;VALUE=DATE:20260908
DESCRIPTION:
LOCATION:
SUMMARY:Holiday | Labor Day
END:VEVENT
BEGIN:VEVENT
DTSTAMP:20260424T164739Z
UID:60951215-fb7a-49f9-b9ac-f636cbc2a7f0
DTSTART;VALUE=DATE:20260916
DTEND;VALUE=DATE:20260917
DESCRIPTION:
LOCATION:
SUMMARY:Early Release
END:VEVENT
BEGIN:VEVENT
DTSTAMP:20260424T164739Z
UID:00dba687-92a7-4744-9f69-426e06a41745
DTSTART;VALUE=DATE:20261009
DTEND;VALUE=DATE:20261010
DESCRIPTION:
LOCATION:
SUMMARY:End of 1st Quarter
END:VEVENT
BEGIN:VEVENT
DTSTAMP:20260424T164739Z
UID:d319dd0b-e3a6-4bd1-a50c-4a45855f17cc
DTSTART:20261012T080000
DTEND:20261016T083000
DESCRIPTION:
LOCATION:
SUMMARY:Fall Break
END:VEVENT
END:VCALENDAR
