BEGIN:VCALENDAR
VERSION:2.0
PRODID:icalendar-ruby
CALSCALE:GREGORIAN
BEGIN:VTIMEZONE
TZID:America/New_York
BEGIN:DAYLIGHT
DTSTART:20260308T030000
TZOFFSETFROM:-0500
TZOFFSETTO:-0400
RRULE:FREQ=YEARLY;BYDAY=2SU;BYMONTH=3
TZNAME:EDT
END:DAYLIGHT
BEGIN:STANDARD
DTSTART:20261101T010000
TZOFFSETFROM:-0400
TZOFFSETTO:-0500
RRULE:FREQ=YEARLY;BYDAY=1SU;BYMONTH=11
TZNAME:EST
END:STANDARD
END:VTIMEZONE
BEGIN:VEVENT
DTSTAMP:20260425T034544Z
UID:9e357fcf-6ca1-4a8a-93cd-fbc499e624e2
DTSTART;VALUE=DATE:20260429
DTEND;VALUE=DATE:20260430
DESCRIPTION:
LOCATION:
SUMMARY:7:00 PM DISTRICT: Public Budget Hearing/BOE Meeting
END:VEVENT
BEGIN:VEVENT
DTSTAMP:20260425T034544Z
UID:cee77af5-1c1d-49a1-91ac-7865d0584847
DTSTART;VALUE=DATE:20260429
DTEND;VALUE=DATE:20260430
DESCRIPTION:
LOCATION:
SUMMARY:DISTRICT: Administrative Professionals Day
END:VEVENT
BEGIN:VEVENT
DTSTAMP:20260425T034544Z
UID:8898bab7-18e6-4da2-b970-a503cddd1e81
DTSTART;VALUE=DATE:20260429
DTEND;VALUE=DATE:20260430
DESCRIPTION:
LOCATION:
SUMMARY:JHR: Class Pictures
END:VEVENT
BEGIN:VEVENT
DTSTAMP:20260425T034544Z
UID:4aadddba-a253-4ccc-a80b-42e99b2467e1
DTSTART;VALUE=DATE:20260430
DTEND;VALUE=DATE:20260501
DESCRIPTION:
LOCATION:
SUMMARY:GHS: Broadway Field Trip
END:VEVENT
BEGIN:VEVENT
DTSTAMP:20260425T034544Z
UID:df42e2f2-7a0a-48ac-915b-29e232b1e58d
DTSTART:20260430T180000
DTEND:20260430T190000
DESCRIPTION:
LOCATION:
SUMMARY:TEBMS: NJHS Induction Ceremony
END:VEVENT
BEGIN:VEVENT
DTSTAMP:20260425T034544Z
UID:1119adbb-42b7-49a5-9369-74f87414d8ad
DTSTART:20260501T190000
DTEND:20260501T220000
DESCRIPTION:
LOCATION:
SUMMARY:GHS: Junior/Senior prom
END:VEVENT
BEGIN:VEVENT
DTSTAMP:20260425T034544Z
UID:b6873d89-d592-48df-a4c2-498be0f8a562
DTSTART;VALUE=DATE:20260502
DTEND;VALUE=DATE:20260503
DESCRIPTION:
LOCATION:
SUMMARY:GHS: SATs
END:VEVENT
BEGIN:VEVENT
DTSTAMP:20260425T034544Z
UID:9d20f1ad-5630-4f5a-9e42-08ae59fadad8
DTSTART;VALUE=DATE:20260504
DTEND;VALUE=DATE:20260509
DESCRIPTION:
LOCATION:
SUMMARY:DISTRICT: Teacher Appreciation Week
END:VEVENT
BEGIN:VEVENT
DTSTAMP:20260425T034544Z
UID:0a8a42d5-5364-438a-884b-3e0daac2dc21
DTSTART:20260504T180000
DTEND:20260504T200000
DESCRIPTION:
LOCATION:
SUMMARY:GHS: Thespian\, Tri-M and NAHS Inductions and Drama Banquet
END:VEVENT
BEGIN:VEVENT
DTSTAMP:20260425T034544Z
UID:9ea58966-f598-41a2-8617-b31f3c4f9552
DTSTART;VALUE=DATE:20260505
DTEND;VALUE=DATE:20260506
DESCRIPTION:
LOCATION:
SUMMARY:DISTRICT: Teacher Appreciation Day
END:VEVENT
BEGIN:VEVENT
DTSTAMP:20260425T034544Z
UID:41dabc89-71c8-4941-8458-c1b637802846
DTSTART:20260505T153000
DTEND:20260505T163000
DESCRIPTION:
LOCATION:
SUMMARY:JHR: Early Childhood Advisory Council Meeting 
END:VEVENT
BEGIN:VEVENT
DTSTAMP:20260425T034544Z
UID:a7b8ceb8-9bfa-4056-9737-732bd4aedab3
DTSTART:20260505T180000
DTEND:20260505T203000
DESCRIPTION:
LOCATION:
SUMMARY:GHS and TEMBS: Winter Choir Concert
END:VEVENT
BEGIN:VEVENT
DTSTAMP:20260425T034544Z
UID:14be26a5-df42-475a-b453-48e156d58a13
DTSTART;VALUE=DATE:20260506
DTEND;VALUE=DATE:20260512
DESCRIPTION:
LOCATION:
SUMMARY:DISTRICT: National Nurses Week
END:VEVENT
BEGIN:VEVENT
DTSTAMP:20260425T034544Z
UID:5423b567-618a-4d03-b4c8-9196cc012bfb
DTSTART;VALUE=DATE:20260506
DTEND;VALUE=DATE:20260507
DESCRIPTION:
LOCATION:
SUMMARY:DISTRICT: National School Nurse Day
END:VEVENT
BEGIN:VEVENT
DTSTAMP:20260425T034544Z
UID:a459659f-ed37-4b7d-a540-471aa45b7e6a
DTSTART:20260512T170000
DTEND:20260512T180000
DESCRIPTION:
LOCATION:
SUMMARY:GHS Art Show
END:VEVENT
BEGIN:VEVENT
DTSTAMP:20260425T034544Z
UID:bcc3648d-0fbf-4f6c-812e-1f8327522d36
DTSTART:20260512T180000
DTEND:20260512T203000
DESCRIPTION:
LOCATION:
SUMMARY:TEBMS and GHS: Winter Orchestra Concert
END:VEVENT
BEGIN:VEVENT
DTSTAMP:20260425T034544Z
UID:da9f7ecf-0d17-48ea-bd08-eece275cc667
DTSTART;VALUE=DATE:20260513
DTEND;VALUE=DATE:20260514
DESCRIPTION:
LOCATION:
SUMMARY:DISTRICT: Spring MAP Testing Window Opens
END:VEVENT
BEGIN:VEVENT
DTSTAMP:20260425T034544Z
UID:1df3d4f5-a157-48be-bdf3-1fbe50cffa69
DTSTART:20260514T180000
DTEND:20260514T203000
DESCRIPTION:
LOCATION:
SUMMARY:GHS and TEBMS: Winter Band Concert
END:VEVENT
BEGIN:VEVENT
DTSTAMP:20260425T034544Z
UID:bdbfee81-8604-412f-9565-4e4482dac948
DTSTART;VALUE=DATE:20260515
DTEND;VALUE=DATE:20260516
DESCRIPTION:
LOCATION:
SUMMARY:DISTRICT: K-12 Mid-Marking Period 4
END:VEVENT
BEGIN:VEVENT
DTSTAMP:20260425T034544Z
UID:2f325d07-2004-48d4-b2e7-6b29470ddf58
DTSTART;VALUE=DATE:20260515
DTEND;VALUE=DATE:20260516
DESCRIPTION:
LOCATION:
SUMMARY:TEBMS: Mid MP 4
END:VEVENT
BEGIN:VEVENT
DTSTAMP:20260425T034544Z
UID:4b73b0ae-4ef4-4e2c-b7a0-64e902a2275a
DTSTART:20260518T180000
DTEND:20260518T200000
DESCRIPTION:
LOCATION:
SUMMARY:GHS: Senior Awards Night (Academic Scholarships)
END:VEVENT
BEGIN:VEVENT
DTSTAMP:20260425T034544Z
UID:5d0396ca-0c39-4ada-9f5e-e495d0deb3f4
DTSTART;VALUE=DATE:20260519
DTEND;VALUE=DATE:20260520
DESCRIPTION:
LOCATION:
SUMMARY:DISTRICT: Special Education Parent Advisory Group Meeting
END:VEVENT
BEGIN:VEVENT
DTSTAMP:20260425T034544Z
UID:59ce4f2a-9a06-4d0a-bfb9-89ebdae88c8c
DTSTART;VALUE=DATE:20260520
DTEND;VALUE=DATE:20260521
DESCRIPTION:
LOCATION:
SUMMARY:5:00 PM DISTRICT: BOE Committee Meetings
END:VEVENT
BEGIN:VEVENT
DTSTAMP:20260425T034544Z
UID:f2a8abb5-793d-4fd9-a1f0-a84cfc02966d
DTSTART:20260521T144500
DTEND:20260521T160000
DESCRIPTION:
LOCATION:
SUMMARY:TEBMS: People's Choice Awards
END:VEVENT
BEGIN:VEVENT
DTSTAMP:20260425T034544Z
UID:783124f6-1e35-4049-9edd-535ad0c0b0ad
DTSTART:20260521T180000
DTEND:20260521T200000
DESCRIPTION:
LOCATION:
SUMMARY:DLB: Spring Concert @ GHS
END:VEVENT
BEGIN:VEVENT
DTSTAMP:20260425T034544Z
UID:a584eddf-7e48-4117-91b6-2a88f9a52d09
DTSTART;VALUE=DATE:20260522
DTEND;VALUE=DATE:20260523
DESCRIPTION:
LOCATION:
SUMMARY:DISTRICT: Early Dismissal
END:VEVENT
BEGIN:VEVENT
DTSTAMP:20260425T034544Z
UID:522249bb-8829-46d6-b8e7-f8661cad78f9
DTSTART;VALUE=DATE:20260525
DTEND;VALUE=DATE:20260526
DESCRIPTION:
LOCATION:
SUMMARY:DISTRICT: Schools Closed - Memorial Day
END:VEVENT
BEGIN:VEVENT
DTSTAMP:20260425T034544Z
UID:6aef2bd4-3803-4912-9480-3533fed71530
DTSTART:20260526T160000
DTEND:20260526T170000
DESCRIPTION:
LOCATION:
SUMMARY:DLB: Art Show
END:VEVENT
BEGIN:VEVENT
DTSTAMP:20260425T034544Z
UID:7bbb05fc-471b-4860-b07a-66ddfd37065c
DTSTART;VALUE=DATE:20260527
DTEND;VALUE=DATE:20260528
DESCRIPTION:
LOCATION:
SUMMARY:7:00 PM DISTRICT: BOE Meeting
END:VEVENT
BEGIN:VEVENT
DTSTAMP:20260425T034544Z
UID:4b67dcd3-7652-4f7d-9e4a-18aecd74faf1
DTSTART;VALUE=DATE:20260527
DTEND;VALUE=DATE:20260528
DESCRIPTION:
LOCATION:
SUMMARY:DISTRICT: Spring MAP Testing Window Closes
END:VEVENT
BEGIN:VEVENT
DTSTAMP:20260425T034544Z
UID:aa5c347b-5532-4591-b995-bdd43b4d908f
DTSTART;VALUE=DATE:20260528
DTEND;VALUE=DATE:20260529
DESCRIPTION:
LOCATION:
SUMMARY:DLB: 5th Grade Camping Trip
END:VEVENT
BEGIN:VEVENT
DTSTAMP:20260425T034544Z
UID:41155f00-0a51-4af0-897b-297e15dfb14c
DTSTART:20260528T180000
DTEND:20260528T190000
DESCRIPTION:
LOCATION:
SUMMARY:JHR: Pre-K Parent Workshop 
END:VEVENT
BEGIN:VEVENT
DTSTAMP:20260425T034544Z
UID:1a2f6ff7-af9b-4213-b0d0-24903e8f175c
DTSTART;VALUE=DATE:20260529
DTEND;VALUE=DATE:20260530
DESCRIPTION:
LOCATION:
SUMMARY:JHR: Pre-K and Kindergarten Spring Concerts
END:VEVENT
BEGIN:VEVENT
DTSTAMP:20260425T034544Z
UID:87b87651-e745-411f-9210-8463a299eefb
DTSTART:20260529T093000
DTEND:20260529T140000
DESCRIPTION:
LOCATION:
SUMMARY:TEBMS: 8th grade trip (tentative)
END:VEVENT
BEGIN:VEVENT
DTSTAMP:20260425T034544Z
UID:4d9ae808-57fd-4d02-b31b-f2b7b777e5ed
DTSTART:20260601T180000
DTEND:20260601T200000
DESCRIPTION:
LOCATION:
SUMMARY:GHS: Sports Awards (Tentative Date)
END:VEVENT
BEGIN:VEVENT
DTSTAMP:20260425T034544Z
UID:15b91429-ec04-45d0-8170-e7400bd0a508
DTSTART:20260602T180000
DTEND:20260602T190000
DESCRIPTION:
LOCATION:
SUMMARY:TEBMS: Upcoming 6th grade Parent Night
END:VEVENT
BEGIN:VEVENT
DTSTAMP:20260425T034544Z
UID:226b693f-9197-4650-b030-fddc1f1c861d
DTSTART;VALUE=DATE:20260603
DTEND;VALUE=DATE:20260604
DESCRIPTION:
LOCATION:
SUMMARY:DLB: Field Day
END:VEVENT
BEGIN:VEVENT
DTSTAMP:20260425T034544Z
UID:7e5db2ff-ec8c-4efa-b0c5-43509d1a1852
DTSTART;VALUE=DATE:20260604
DTEND;VALUE=DATE:20260605
DESCRIPTION:
LOCATION:
SUMMARY:DLB: Field Day Rain Date
END:VEVENT
BEGIN:VEVENT
DTSTAMP:20260425T034544Z
UID:3d186390-9b18-42aa-9fb1-9db37af8fbd2
DTSTART:20260604T145000
DTEND:20260604T155000
DESCRIPTION:
LOCATION:
SUMMARY:JHR: Multicultural Committee Event
END:VEVENT
BEGIN:VEVENT
DTSTAMP:20260425T034544Z
UID:c983dc4e-c50c-429a-9439-e6ebb9ddedca
DTSTART;VALUE=DATE:20260605
DTEND;VALUE=DATE:20260606
DESCRIPTION:
LOCATION:
SUMMARY:JHR: VIP Day
END:VEVENT
BEGIN:VEVENT
DTSTAMP:20260425T034544Z
UID:8b66dc2b-349a-4618-b8d3-74797aa4cee7
DTSTART;VALUE=DATE:20260606
DTEND;VALUE=DATE:20260607
DESCRIPTION:
LOCATION:
SUMMARY:GHS: SATs
END:VEVENT
BEGIN:VEVENT
DTSTAMP:20260425T034544Z
UID:b4bc5efe-8a6a-4db0-832a-4c8c95d85f31
DTSTART;VALUE=DATE:20260609
DTEND;VALUE=DATE:20260610
DESCRIPTION:
LOCATION:
SUMMARY:JHR and DLB: Kindergartners Visit DLB
END:VEVENT
BEGIN:VEVENT
DTSTAMP:20260425T034544Z
UID:861f4bd1-71a2-4876-aa26-9bf3816f494a
DTSTART;VALUE=DATE:20260611
DTEND;VALUE=DATE:20260612
DESCRIPTION:
LOCATION:
SUMMARY:JHR: PreK Field Day
END:VEVENT
BEGIN:VEVENT
DTSTAMP:20260425T034544Z
UID:d57058e9-7a71-4d48-9bb7-76da90807839
DTSTART;VALUE=DATE:20260612
DTEND;VALUE=DATE:20260613
DESCRIPTION:
LOCATION:
SUMMARY:GHS: Senior photos
END:VEVENT
BEGIN:VEVENT
DTSTAMP:20260425T034544Z
UID:d65a7213-3c98-4b0c-9b5d-38c82da4606f
DTSTART;VALUE=DATE:20260612
DTEND;VALUE=DATE:20260613
DESCRIPTION:
LOCATION:
SUMMARY:JHR: Kindergarten Field Day
END:VEVENT
BEGIN:VEVENT
DTSTAMP:20260425T034544Z
UID:254e9ae9-9900-4b1c-b6fa-f1c1e24884da
DTSTART:20260612T084500
DTEND:20260612T100000
DESCRIPTION:
LOCATION:
SUMMARY:TEBMS: 8th grade Yearbook Signing Breakfast
END:VEVENT
BEGIN:VEVENT
DTSTAMP:20260425T034544Z
UID:19945383-695d-4806-898a-a45cbc930a29
DTSTART;VALUE=DATE:20260615
DTEND;VALUE=DATE:20260617
DESCRIPTION:
LOCATION:
SUMMARY:DISTRICT: Early Dismissal
END:VEVENT
BEGIN:VEVENT
DTSTAMP:20260425T034544Z
UID:b89b8b2d-b713-4ecc-ab2e-f5d03239d280
DTSTART;VALUE=DATE:20260615
DTEND;VALUE=DATE:20260616
DESCRIPTION:
LOCATION:
SUMMARY:JHR: Pre-K Field Day Raindate
END:VEVENT
BEGIN:VEVENT
DTSTAMP:20260425T034544Z
UID:a0732f56-882e-4f07-b34b-bf872ed47299
DTSTART:20260615T180000
DTEND:20260615T200000
DESCRIPTION:
LOCATION:
SUMMARY:GHS: Baccalaureate
END:VEVENT
BEGIN:VEVENT
DTSTAMP:20260425T034544Z
UID:06a9db84-819f-4e9b-b324-ba6b86afa5b1
DTSTART;VALUE=DATE:20260616
DTEND;VALUE=DATE:20260617
DESCRIPTION:
LOCATION:
SUMMARY:JHR: Kindergarten Field Day Raindate
END:VEVENT
BEGIN:VEVENT
DTSTAMP:20260425T034544Z
UID:f9bca77c-18d5-480c-82f9-d5cac2933075
DTSTART:20260616T145000
DTEND:20260616T155000
DESCRIPTION:
LOCATION:
SUMMARY:JHR: PAL Event (Tentative)
END:VEVENT
BEGIN:VEVENT
DTSTAMP:20260425T034544Z
UID:02c68297-85f8-4058-8b62-7339bce64173
DTSTART:20260616T180000
DTEND:20260616T193000
DESCRIPTION:
LOCATION:
SUMMARY:TEBMS: 8th grade Promotion Ceremony (tentative)
END:VEVENT
BEGIN:VEVENT
DTSTAMP:20260425T034544Z
UID:08c0c0ec-5659-4d1c-8c34-2b6e0d63348c
DTSTART;VALUE=DATE:20260617
DTEND;VALUE=DATE:20260618
DESCRIPTION:
LOCATION:
SUMMARY:DISTRICT: Early Dismissal
END:VEVENT
BEGIN:VEVENT
DTSTAMP:20260425T034544Z
UID:1a2a897b-0d2c-4c61-bd99-9e5c03627ef9
DTSTART:20260617T091500
DTEND:20260617T101500
DESCRIPTION:
LOCATION:
SUMMARY:JHR: Bulldog Buddy Celebration (GHS)
END:VEVENT
BEGIN:VEVENT
DTSTAMP:20260425T034544Z
UID:4eefe9ed-6a23-4ad4-88fc-819001812706
DTSTART:20260617T180000
DTEND:20260617T200000
DESCRIPTION:
LOCATION:
SUMMARY:GHS: Graduation
END:VEVENT
BEGIN:VEVENT
DTSTAMP:20260425T034544Z
UID:f07ba153-e930-43c0-88cd-469db4b26331
DTSTART;VALUE=DATE:20260618
DTEND;VALUE=DATE:20260619
DESCRIPTION:
LOCATION:
SUMMARY:5:00 PM DISTRICT: BOE Committee Meetings (If Needed)
END:VEVENT
BEGIN:VEVENT
DTSTAMP:20260425T034544Z
UID:e21fdc45-e7f7-4470-b1ac-c54d94937c0a
DTSTART;VALUE=DATE:20260618
DTEND;VALUE=DATE:20260619
DESCRIPTION:
LOCATION:
SUMMARY:DISTRICT: Early Dismissal/Last Day of School
END:VEVENT
BEGIN:VEVENT
DTSTAMP:20260425T034544Z
UID:50c9f738-21c0-4ed9-90be-5af5a1520962
DTSTART;VALUE=DATE:20260618
DTEND;VALUE=DATE:20260619
DESCRIPTION:
LOCATION:
SUMMARY:Potential Snow Day Make-Up #2
END:VEVENT
BEGIN:VEVENT
DTSTAMP:20260425T034544Z
UID:c6c043ba-a4a4-407e-9927-25c98a532bf7
DTSTART;VALUE=DATE:20260619
DTEND;VALUE=DATE:20260620
DESCRIPTION:
LOCATION:
SUMMARY:DISTRICT: Schools Closed - Juneteenth Observed
END:VEVENT
BEGIN:VEVENT
DTSTAMP:20260425T034544Z
UID:bb760124-3afd-4758-8823-303dec8d7664
DTSTART;VALUE=DATE:20260624
DTEND;VALUE=DATE:20260625
DESCRIPTION:
LOCATION:
SUMMARY:7:00 PM DISTRICT: BOE Meeting
END:VEVENT
BEGIN:VEVENT
DTSTAMP:20260425T034544Z
UID:179272a9-9323-441a-884e-5e780da1df9c
DTSTART;VALUE=DATE:20260722
DTEND;VALUE=DATE:20260723
DESCRIPTION:
LOCATION:
SUMMARY:7:00 PM DISTRICT: BOE Meeting
END:VEVENT
BEGIN:VEVENT
DTSTAMP:20260425T034544Z
UID:21775728-a3d2-4224-9bc8-2fee92795caa
DTSTART;VALUE=DATE:20260819
DTEND;VALUE=DATE:20260820
DESCRIPTION:
LOCATION:
SUMMARY:DISTRICT: BOE Committee Meetings
END:VEVENT
BEGIN:VEVENT
DTSTAMP:20260425T034544Z
UID:0c2d712f-0ef3-4453-905d-5b01893f38c9
DTSTART;VALUE=DATE:20260826
DTEND;VALUE=DATE:20260827
DESCRIPTION:
LOCATION:
SUMMARY:7:00 PM DISTRICT: BOE Meeting
END:VEVENT
BEGIN:VEVENT
DTSTAMP:20260425T034544Z
UID:2478a610-b819-4e59-948a-f93f297c4544
DTSTART;VALUE=DATE:20260917
DTEND;VALUE=DATE:20260918
DESCRIPTION:
LOCATION:
SUMMARY:DISTRICT: BOE Committee Meetings
END:VEVENT
BEGIN:VEVENT
DTSTAMP:20260425T034544Z
UID:a8b8487f-2611-4789-ab70-23465821abac
DTSTART;VALUE=DATE:20260923
DTEND;VALUE=DATE:20260924
DESCRIPTION:
LOCATION:
SUMMARY:7:00 PM DISTRICT: BOE Meeting
END:VEVENT
BEGIN:VEVENT
DTSTAMP:20260425T034544Z
UID:48573755-3992-4b53-b239-3e544e228845
DTSTART;VALUE=DATE:20261008
DTEND;VALUE=DATE:20261009
DESCRIPTION:
LOCATION:
SUMMARY:5:00 PM DISTRICT: BOE Committee Meetings
END:VEVENT
BEGIN:VEVENT
DTSTAMP:20260425T034544Z
UID:7bede925-e5ae-45cd-b7aa-741d6fa87efa
DTSTART;VALUE=DATE:20261014
DTEND;VALUE=DATE:20261015
DESCRIPTION:
LOCATION:
SUMMARY:7:00 PM DISTRICT: BOE Meeting
END:VEVENT
BEGIN:VEVENT
DTSTAMP:20260425T034544Z
UID:f438c967-6141-463d-8b81-74f6d5ba1be1
DTSTART;VALUE=DATE:20261112
DTEND;VALUE=DATE:20261113
DESCRIPTION:
LOCATION:
SUMMARY:5:00 DISTRICT: BOE Committee Meetings
END:VEVENT
BEGIN:VEVENT
DTSTAMP:20260425T034544Z
UID:0768ea18-1c08-4492-8718-7c1cf32e7c07
DTSTART;VALUE=DATE:20261118
DTEND;VALUE=DATE:20261119
DESCRIPTION:
LOCATION:
SUMMARY:7:00 PM DISTRICT: BOE Meeting
END:VEVENT
BEGIN:VEVENT
DTSTAMP:20260425T034544Z
UID:b57f6d1e-1e51-411e-8bb5-833ad3993ad1
DTSTART;VALUE=DATE:20261209
DTEND;VALUE=DATE:20261210
DESCRIPTION:
LOCATION:
SUMMARY:5:00 PM DISTRICT: BOE Committee Meetings
END:VEVENT
BEGIN:VEVENT
DTSTAMP:20260425T034544Z
UID:7cd88cd8-8fc2-4411-8c7c-785ed7d2c424
DTSTART;VALUE=DATE:20261216
DTEND;VALUE=DATE:20261217
DESCRIPTION:
LOCATION:
SUMMARY:7:00 PM DISTRICT: BOE Meeting
END:VEVENT
BEGIN:VEVENT
DTSTAMP:20260425T034544Z
UID:30ce4ba0-d20b-4302-a7bb-a520b0366681
DTSTART;VALUE=DATE:20270106
DTEND;VALUE=DATE:20270107
DESCRIPTION:
LOCATION:
SUMMARY:6:00 PM DISTRICT: BOE Reorganization Meeting
END:VEVENT
BEGIN:VEVENT
DTSTAMP:20260425T034544Z
UID:7ee361ed-4634-41cf-af6c-8f17b0d192b6
DTSTART;VALUE=DATE:20270120
DTEND;VALUE=DATE:20270121
DESCRIPTION:
LOCATION:
SUMMARY:5:00 PM DISTRICT: BOE Committee Meetings
END:VEVENT
BEGIN:VEVENT
DTSTAMP:20260425T034544Z
UID:c4e03683-ab6a-4436-b3a7-f0326bbda8d6
DTSTART;VALUE=DATE:20270127
DTEND;VALUE=DATE:20270128
DESCRIPTION:
LOCATION:
SUMMARY:7:00 PM DISTRICT: BOE Meeting
END:VEVENT
END:VCALENDAR
