BEGIN:VCALENDAR
VERSION:2.0
PRODID:icalendar-ruby
CALSCALE:GREGORIAN
BEGIN:VTIMEZONE
TZID:America/Los_Angeles
BEGIN:DAYLIGHT
DTSTART:20260308T030000
TZOFFSETFROM:-0800
TZOFFSETTO:-0700
RRULE:FREQ=YEARLY;BYDAY=2SU;BYMONTH=3
TZNAME:PDT
END:DAYLIGHT
BEGIN:STANDARD
DTSTART:20261101T010000
TZOFFSETFROM:-0700
TZOFFSETTO:-0800
RRULE:FREQ=YEARLY;BYDAY=1SU;BYMONTH=11
TZNAME:PST
END:STANDARD
END:VTIMEZONE
BEGIN:VEVENT
DTSTAMP:20260422T172221Z
UID:d9d10184-c072-4641-9bd0-5730d2acfa04
DTSTART;VALUE=DATE:20260504
DTEND;VALUE=DATE:20260509
DESCRIPTION:
LOCATION:
SUMMARY:Staff Appreciation Week
END:VEVENT
BEGIN:VEVENT
DTSTAMP:20260422T172221Z
UID:281435bb-829c-4a19-91e6-c8e91115a245
DTSTART:20260506T134000
DTEND:20260506T140000
DESCRIPTION:
LOCATION:
SUMMARY:Early Release
END:VEVENT
BEGIN:VEVENT
DTSTAMP:20260422T172221Z
UID:ee5058b8-0dd7-49d3-bb9a-970a1fafc4dd
DTSTART:20260511T180000
DTEND:20260511T190000
DESCRIPTION:
LOCATION:
SUMMARY:PTA Meeting room 2
END:VEVENT
BEGIN:VEVENT
DTSTAMP:20260422T172221Z
UID:3cab1d61-039d-4d63-af58-f7006dadea40
DTSTART:20260512T190000
DTEND:20260512T200000
DESCRIPTION:
LOCATION:
SUMMARY:Orchards Spring Concert
END:VEVENT
BEGIN:VEVENT
DTSTAMP:20260422T172221Z
UID:9b02d8b6-210f-4c4c-b4f1-77f6433114f5
DTSTART;VALUE=DATE:20260525
DTEND;VALUE=DATE:20260526
DESCRIPTION:
LOCATION:
SUMMARY:Memorial Day - No School
END:VEVENT
BEGIN:VEVENT
DTSTAMP:20260422T172221Z
UID:6df81b9e-a30f-422a-84e9-d081f3513f97
DTSTART;VALUE=DATE:20260529
DTEND;VALUE=DATE:20260530
DESCRIPTION:
LOCATION:
SUMMARY:Tammany Graduation Day
END:VEVENT
BEGIN:VEVENT
DTSTAMP:20260422T172221Z
UID:5660953d-a74e-44e2-a90a-c362fcd2c6dd
DTSTART;VALUE=DATE:20260530
DTEND;VALUE=DATE:20260531
DESCRIPTION:
LOCATION:
SUMMARY:LHS Graduation Day
END:VEVENT
BEGIN:VEVENT
DTSTAMP:20260422T172221Z
UID:ff9ab712-2071-4f30-9143-8f9d9f298abc
DTSTART;VALUE=DATE:20260603
DTEND;VALUE=DATE:20260604
DESCRIPTION:
LOCATION:
SUMMARY:Field Day
END:VEVENT
BEGIN:VEVENT
DTSTAMP:20260422T172221Z
UID:a4bc469c-ed7e-4ffd-9162-e75b25eb1f77
DTSTART;VALUE=DATE:20260603
DTEND;VALUE=DATE:20260604
DESCRIPTION:
LOCATION:
SUMMARY:Last Day of School
END:VEVENT
END:VCALENDAR
