BEGIN:VCALENDAR
VERSION:2.0
PRODID:icalendar-ruby
CALSCALE:GREGORIAN
BEGIN:VTIMEZONE
TZID:America/Los_Angeles
BEGIN:DAYLIGHT
DTSTART:20260308T030000
TZOFFSETFROM:-0800
TZOFFSETTO:-0700
RRULE:FREQ=YEARLY;BYDAY=2SU;BYMONTH=3
TZNAME:PDT
END:DAYLIGHT
BEGIN:STANDARD
DTSTART:20261101T010000
TZOFFSETFROM:-0700
TZOFFSETTO:-0800
RRULE:FREQ=YEARLY;BYDAY=1SU;BYMONTH=11
TZNAME:PST
END:STANDARD
END:VTIMEZONE
BEGIN:VEVENT
DTSTAMP:20260421T161305Z
UID:9ab867a2-cd9e-4072-8bea-1d96fd6787b9
DTSTART:20260501T080000
DTEND:20260501T160000
DESCRIPTION:
LOCATION:
SUMMARY:May 1\, 2026All Day  Lunch Hero Day & Principals Day
END:VEVENT
BEGIN:VEVENT
DTSTAMP:20260421T161305Z
UID:f3335ea8-ab0e-490a-89bb-544fa0a9918d
DTSTART:20260504T080000
DTEND:20260504T160000
DESCRIPTION:
LOCATION:
SUMMARY:May 4\, 2026 — May 8\, 2026 All Day  Teacher Appreciation Week
END:VEVENT
BEGIN:VEVENT
DTSTAMP:20260421T161305Z
UID:1ec9c142-8daa-4887-9c77-5bf61ee6cd19
DTSTART:20260506T080000
DTEND:20260506T133000
DESCRIPTION:
LOCATION:
SUMMARY:May 6\, 2026All Day  Early Release 1:40pm
END:VEVENT
BEGIN:VEVENT
DTSTAMP:20260421T161305Z
UID:27db1b76-7e19-4213-a45e-bb163c472112
DTSTART:20260507T160000
DTEND:20260507T180000
DESCRIPTION:
LOCATION:
SUMMARY:Kinder Connect
END:VEVENT
END:VCALENDAR
