BEGIN:VCALENDAR
VERSION:2.0
PRODID:icalendar-ruby
CALSCALE:GREGORIAN
BEGIN:VTIMEZONE
TZID:America/Los_Angeles
BEGIN:DAYLIGHT
DTSTART:20260308T030000
TZOFFSETFROM:-0800
TZOFFSETTO:-0700
RRULE:FREQ=YEARLY;BYDAY=2SU;BYMONTH=3
TZNAME:PDT
END:DAYLIGHT
BEGIN:STANDARD
DTSTART:20261101T010000
TZOFFSETFROM:-0700
TZOFFSETTO:-0800
RRULE:FREQ=YEARLY;BYDAY=1SU;BYMONTH=11
TZNAME:PST
END:STANDARD
END:VTIMEZONE
BEGIN:VEVENT
DTSTAMP:20260425T181936Z
UID:2e9b7288-d043-4387-ba09-bf1c2904f737
DTSTART:20260425T000000
DTEND:20260425T010000
DESCRIPTION:Visit https://lewistonathletics.com/main/event/scid/ID835011752
 3/eventid/80758176 for more information! 
LOCATION:
SUMMARY:Time: TBA -Lewiston Senior High School TEN BG V Away OPEN (Capital 
 Classic)
END:VEVENT
BEGIN:VEVENT
DTSTAMP:20260425T181936Z
UID:f6d221b8-3dc6-4608-8d73-8f9694d68f9d
DTSTART:20260425T000000
DTEND:20260425T010000
DESCRIPTION:Facility: Mountain View High School Visit https://lewistonathle
 tics.com/main/event/scid/ID8350117523/eventid/80709337 for more informatio
 n! 
LOCATION:
SUMMARY:Time: TBA -Lewiston Senior High School TR BG V Away OPEN (Bandanna 
 Invite)
END:VEVENT
BEGIN:VEVENT
DTSTAMP:20260425T181936Z
UID:bfee69f4-35d6-4dbf-967d-3fad163e0116
DTSTART:20260425T120000
DTEND:20260425T130000
DESCRIPTION:Facility: Church Field Visit https://lewistonathletics.com/main
 /event/scid/ID8350117523/eventid/80893296 for more information! 
LOCATION:
SUMMARY:Lewiston Senior High School BB B FR Home Coeur D' Alene High School
END:VEVENT
BEGIN:VEVENT
DTSTAMP:20260425T181936Z
UID:1a7a12e7-1530-4b2e-93c1-8cdb91247b4e
DTSTART:20260425T120000
DTEND:20260425T130000
DESCRIPTION:Facility: Memorial Field Visit https://lewistonathletics.com/ma
 in/event/scid/ID8350117523/eventid/80720263 for more information! 
LOCATION:855 Ontario Street Sandpoint\, ID 83864
SUMMARY:Lewiston Senior High School SB G V Away Sandpoint High School
END:VEVENT
BEGIN:VEVENT
DTSTAMP:20260425T181936Z
UID:01e12913-1a29-4355-8c60-5886d5009429
DTSTART:20260425T140000
DTEND:20260425T150000
DESCRIPTION:Facility: Church Field Visit https://lewistonathletics.com/main
 /event/scid/ID8350117523/eventid/80893300 for more information! 
LOCATION:
SUMMARY:Lewiston Senior High School BB B FR Home Coeur D' Alene High School
END:VEVENT
BEGIN:VEVENT
DTSTAMP:20260425T181936Z
UID:5bd91e16-ff22-4c76-b3c7-422e83c2c71a
DTSTART:20260425T140000
DTEND:20260425T150000
DESCRIPTION:Facility: Orofino High School Visit https://lewistonathletics.c
 om/main/event/scid/ID8350117523/eventid/80698605 for more information! 
LOCATION:
SUMMARY:Lewiston Senior High School BB B V Away Orofino High School
END:VEVENT
BEGIN:VEVENT
DTSTAMP:20260425T181936Z
UID:eb58d983-248f-4eef-90ca-ee21ef92ac29
DTSTART:20260425T140000
DTEND:20260425T150000
DESCRIPTION:Facility: Memorial Field Visit https://lewistonathletics.com/ma
 in/event/scid/ID8350117523/eventid/80720251 for more information! 
LOCATION:855 Ontario Street Sandpoint\, ID 83864
SUMMARY:Lewiston Senior High School SB G V Away Sandpoint High School
END:VEVENT
BEGIN:VEVENT
DTSTAMP:20260425T181936Z
UID:a69fa1c8-b2b2-41b4-a661-fe0113ca5a75
DTSTART:20260428T143000
DTEND:20260428T150000
DESCRIPTION:
LOCATION:
SUMMARY:GSA Club Meeting
END:VEVENT
BEGIN:VEVENT
DTSTAMP:20260425T181936Z
UID:6ef35a91-4afd-4d93-b53b-681bb6164afd
DTSTART:20260428T150000
DTEND:20260428T160000
DESCRIPTION:Facility: Airport Park Visit https://lewistonathletics.com/main
 /event/scid/ID8350117523/eventid/80839707 for more information! 
LOCATION:3201 Cecil Andrus Way Lewiston\, ID 83501
SUMMARY:Lewiston Senior High School SB G FR Home Lakeland High School
END:VEVENT
BEGIN:VEVENT
DTSTAMP:20260425T181936Z
UID:971f74a7-2d3f-499b-a049-789545fc44fd
DTSTART:20260428T150000
DTEND:20260428T160000
DESCRIPTION:Facility: Airport Park Visit https://lewistonathletics.com/main
 /event/scid/ID8350117523/eventid/80759773 for more information! 
LOCATION:3201 Cecil Andrus Way Lewiston\, ID 83501
SUMMARY:Lewiston Senior High School SB G JV Home Lakeland High School
END:VEVENT
BEGIN:VEVENT
DTSTAMP:20260425T181936Z
UID:791427ab-0270-476b-84ac-11c58a8de0fb
DTSTART:20260428T150000
DTEND:20260428T160000
DESCRIPTION:Facility: Airport Park Visit https://lewistonathletics.com/main
 /event/scid/ID8350117523/eventid/80720262 for more information! 
LOCATION:3201 Cecil Andrus Way Lewiston\, ID 83501
SUMMARY:Lewiston Senior High School SB G V Home Lakeland High School
END:VEVENT
BEGIN:VEVENT
DTSTAMP:20260425T181936Z
UID:7fae51a7-ac80-4e6e-97f7-62c28673868d
DTSTART:20260428T170000
DTEND:20260428T180000
DESCRIPTION:Facility: Airport Park Visit https://lewistonathletics.com/main
 /event/scid/ID8350117523/eventid/80839716 for more information! 
LOCATION:3201 Cecil Andrus Way Lewiston\, ID 83501
SUMMARY:Lewiston Senior High School SB G FR Home Lakeland High School
END:VEVENT
BEGIN:VEVENT
DTSTAMP:20260425T181936Z
UID:375f3ea7-9c22-4e40-ab42-86c009038f0b
DTSTART:20260428T170000
DTEND:20260428T180000
DESCRIPTION:Facility: Airport Park Visit https://lewistonathletics.com/main
 /event/scid/ID8350117523/eventid/80759778 for more information! 
LOCATION:3201 Cecil Andrus Way Lewiston\, ID 83501
SUMMARY:Lewiston Senior High School SB G JV Home Lakeland High School
END:VEVENT
BEGIN:VEVENT
DTSTAMP:20260425T181936Z
UID:b590452b-8195-4f7c-986b-cf19f8a449fa
DTSTART:20260428T170000
DTEND:20260428T180000
DESCRIPTION:Facility: Airport Park Visit https://lewistonathletics.com/main
 /event/scid/ID8350117523/eventid/80720261 for more information! 
LOCATION:3201 Cecil Andrus Way Lewiston\, ID 83501
SUMMARY:Lewiston Senior High School SB G V Home Lakeland High School
END:VEVENT
BEGIN:VEVENT
DTSTAMP:20260425T181936Z
UID:958bbcb7-5dc6-4deb-9483-8b3f2f7a30cd
DTSTART:20260428T180000
DTEND:20260428T200000
DESCRIPTION:
LOCATION:Math in library\; Science in hosting teacher's classroom
SUMMARY:Evening Academy
END:VEVENT
BEGIN:VEVENT
DTSTAMP:20260425T181936Z
UID:5cd8c10a-f42d-4321-ac0c-6b160456a7dc
DTSTART:20260429T160000
DTEND:20260429T170000
DESCRIPTION:Facility: Moscow Junior High Visit https://lewistonathletics.co
 m/main/event/scid/ID8350117523/eventid/80759508 for more information! 
LOCATION:402 East Fifth Street Moscow\, ID 83843
SUMMARY:Lewiston Senior High School TEN BG JV Away Moscow HS/JHS
END:VEVENT
BEGIN:VEVENT
DTSTAMP:20260425T181936Z
UID:9c90ff7a-1fac-4dde-bf63-c6e08f58e715
DTSTART:20260429T160000
DTEND:20260429T170000
DESCRIPTION:Facility: Lewiston High School Visit https://lewistonathletics.
 com/main/event/scid/ID8350117523/eventid/80756864 for more information! 
LOCATION:3201 Cecil Andrus Way Lewiston\, ID 83501
SUMMARY:Lewiston Senior High School TEN BG V Home Moscow HS/JHS
END:VEVENT
BEGIN:VEVENT
DTSTAMP:20260425T181936Z
UID:4a5412f1-18ac-4bf1-a467-ac77540c64a6
DTSTART;VALUE=DATE:20260430
DTEND;VALUE=DATE:20260501
DESCRIPTION:Period 1 7:55-9:12 \nBENGAL BLOCK 9:17-9:47 \nPeriod 2 9:52-1
 1:11 \nFirst Lunch 11:11-11:41 \nPeriod 3 (1) 11:16- 12:33 \nSecond Lun
 ch 12:33-1:03 \nPeriod 3 (2) 11:46-1:03\nPeriod 4 1:08-2:25
LOCATION:
SUMMARY:Bengal Block
END:VEVENT
BEGIN:VEVENT
DTSTAMP:20260425T181936Z
UID:c6a85455-5652-42c4-ad07-4b6c85ad0f07
DTSTART:20260430T143000
DTEND:20260430T150000
DESCRIPTION:
LOCATION:Classroom CW 100
SUMMARY:Art Club
END:VEVENT
BEGIN:VEVENT
DTSTAMP:20260425T181936Z
UID:e2e889c4-1c89-4c66-91bb-3a799a4ab31e
DTSTART:20260430T150000
DTEND:20260430T160000
DESCRIPTION:Facility: Lewiston High School Visit https://lewistonathletics.
 com/main/event/scid/ID8350117523/eventid/80704660 for more information! 
LOCATION:3201 Cecil Andrus Way Lewiston\, ID 83501
SUMMARY:Lewiston Senior High School TR BG V Home OPEN (District 2 Meet Of C
 hampions)
END:VEVENT
BEGIN:VEVENT
DTSTAMP:20260425T181936Z
UID:51526306-0b95-46eb-bad5-563b3980dd8c
DTSTART:20260430T170000
DTEND:20260430T180000
DESCRIPTION:Facility: Orofino High School Visit https://lewistonathletics.c
 om/main/event/scid/ID8350117523/eventid/80908287 for more information! 
LOCATION:
SUMMARY:Lewiston Senior High School SB G JV Away Orofino High School
END:VEVENT
BEGIN:VEVENT
DTSTAMP:20260425T181936Z
UID:77a1abcb-5dfb-41f8-a17a-35d0fbb0c939
DTSTART:20260430T180000
DTEND:20260430T200000
DESCRIPTION:
LOCATION:Library
SUMMARY:Evening Academy
END:VEVENT
BEGIN:VEVENT
DTSTAMP:20260425T181936Z
UID:21f1023c-76b4-457f-abf6-5fa24f046e73
DTSTART:20260430T183000
DTEND:20260430T193000
DESCRIPTION:Facility: Orofino High School Visit https://lewistonathletics.c
 om/main/event/scid/ID8350117523/eventid/80908289 for more information! 
LOCATION:
SUMMARY:Lewiston Senior High School SB G FR Away Orofino High School
END:VEVENT
BEGIN:VEVENT
DTSTAMP:20260425T181936Z
UID:954def11-df04-4389-bb31-16161fdfaf3d
DTSTART:20260501T100000
DTEND:20260501T110000
DESCRIPTION:Facility: Lakeland High School Visit https://lewistonathletics.
 com/main/event/scid/ID8350117523/eventid/80756863 for more information! 
LOCATION:
SUMMARY:Lewiston Senior High School TEN BG V Away Lakeland High School
END:VEVENT
BEGIN:VEVENT
DTSTAMP:20260425T181936Z
UID:57bb2e61-a80f-44bb-b2a6-2fb69eb5677f
DTSTART:20260501T140000
DTEND:20260501T150000
DESCRIPTION:Facility: Coeur d'Alene High School Visit https://lewistonathle
 tics.com/main/event/scid/ID8350117523/eventid/80756865 for more informatio
 n! 
LOCATION:
SUMMARY:Lewiston Senior High School TEN BG V Away Lake City High School
END:VEVENT
BEGIN:VEVENT
DTSTAMP:20260425T181936Z
UID:b24d3df8-6f39-4401-b18e-af2ef5c51e37
DTSTART:20260504T160000
DTEND:20260504T170000
DESCRIPTION:Facility: Moscow Junior High Visit https://lewistonathletics.co
 m/main/event/scid/ID8350117523/eventid/80758248 for more information! 
LOCATION:402 East Fifth Street Moscow\, ID 83843
SUMMARY:Lewiston Senior High School TEN BG V Away Moscow HS/JHS
END:VEVENT
BEGIN:VEVENT
DTSTAMP:20260425T181936Z
UID:f418402e-247c-47a9-b48b-4f0289a23bc2
DTSTART:20260505T110000
DTEND:20260505T130000
DESCRIPTION:
LOCATION:LHS Commons
SUMMARY:National Guard representatives during both lunches Every 1st Thursd
 ay (when there is school)
END:VEVENT
BEGIN:VEVENT
DTSTAMP:20260425T181936Z
UID:f9ae39aa-b80d-4bad-96d5-9cc4584eaf37
DTSTART:20260505T143000
DTEND:20260505T150000
DESCRIPTION:
LOCATION:
SUMMARY:GSA Club Meeting
END:VEVENT
BEGIN:VEVENT
DTSTAMP:20260425T181936Z
UID:75bb5078-2b26-4961-a987-e37ce9cd3d37
DTSTART:20260505T180000
DTEND:20260505T200000
DESCRIPTION:
LOCATION:Math in library\; Science in hosting teacher's classroom
SUMMARY:Evening Academy
END:VEVENT
BEGIN:VEVENT
DTSTAMP:20260425T181936Z
UID:624af865-c759-48d0-8949-04b68ee86e11
DTSTART;VALUE=DATE:20260506
DTEND;VALUE=DATE:20260507
DESCRIPTION:1A 7:55-8:50\n2A 8:55-9:50\n3A 9:55-10:50\n4A 10:55-11:50\nLunc
 h 11:50-12:25
LOCATION:
SUMMARY:Early Release Schedule
END:VEVENT
BEGIN:VEVENT
DTSTAMP:20260425T181936Z
UID:4185e8e9-5863-4ba3-9af8-e2e74be35817
DTSTART;VALUE=DATE:20260507
DTEND;VALUE=DATE:20260508
DESCRIPTION:Period 1 7:55-9:12 \nBENGAL BLOCK 9:17-9:47 \nPeriod 2 9:52-1
 1:11 \nFirst Lunch 11:11-11:41 \nPeriod 3 (1) 11:16- 12:33 \nSecond Lun
 ch 12:33-1:03 \nPeriod 3 (2) 11:46-1:03\nPeriod 4 1:08-2:25
LOCATION:
SUMMARY:Bengal Block
END:VEVENT
BEGIN:VEVENT
DTSTAMP:20260425T181936Z
UID:1e82ea2c-9c01-4c88-bf4d-e5cdae2236b4
DTSTART:20260507T000000
DTEND:20260507T010000
DESCRIPTION:Facility: Lewiston High School Visit https://lewistonathletics.
 com/main/event/scid/ID8350117523/eventid/80758294 for more information! 
LOCATION:3201 Cecil Andrus Way Lewiston\, ID 83501
SUMMARY:Time: TBA -Lewiston Senior High School TEN BG V Home OPEN (5A Distr
 ict Tournament)
END:VEVENT
BEGIN:VEVENT
DTSTAMP:20260425T181936Z
UID:07ec2c7b-31d1-467b-b0bb-9bc16b849042
DTSTART:20260507T140000
DTEND:20260507T150000
DESCRIPTION:Facility: Coeur d'Alene High School Visit https://lewistonathle
 tics.com/main/event/scid/ID8350117523/eventid/80704698 for more informatio
 n! 
LOCATION:
SUMMARY:Lewiston Senior High School TR BG V Away OPEN (District 1/2 Champio
 nship )
END:VEVENT
BEGIN:VEVENT
DTSTAMP:20260425T181936Z
UID:c4f08984-e880-44d2-b9ed-bdd711b7e39b
DTSTART:20260507T143000
DTEND:20260507T150000
DESCRIPTION:
LOCATION:Classroom CW 100
SUMMARY:Art Club
END:VEVENT
BEGIN:VEVENT
DTSTAMP:20260425T181936Z
UID:7a3b3428-1f77-4c65-9eae-1ca2ce635552
DTSTART:20260507T180000
DTEND:20260507T200000
DESCRIPTION:
LOCATION:Library
SUMMARY:Evening Academy
END:VEVENT
BEGIN:VEVENT
DTSTAMP:20260425T181936Z
UID:19c0b0ea-ebb7-4500-8317-a6014171ebaf
DTSTART:20260508T000000
DTEND:20260508T010000
DESCRIPTION:Facility: Airport Park Visit https://lewistonathletics.com/main
 /event/scid/ID8350117523/eventid/80720856 for more information! 
LOCATION:3201 Cecil Andrus Way Lewiston\, ID 83501
SUMMARY:Time: TBA -Lewiston Senior High School SB G V Home OPEN (Regionals 
 1 vs 4 & 2 vs 3 Winners to State )
END:VEVENT
BEGIN:VEVENT
DTSTAMP:20260425T181936Z
UID:f7199047-fe26-45c9-a96e-a33b2f7e461f
DTSTART:20260508T000000
DTEND:20260508T010000
DESCRIPTION:Facility: Lewiston High School Visit https://lewistonathletics.
 com/main/event/scid/ID8350117523/eventid/80758302 for more information! 
LOCATION:3201 Cecil Andrus Way Lewiston\, ID 83501
SUMMARY:Time: TBA -Lewiston Senior High School TEN BG V Home OPEN (5A Distr
 ict Tournament)
END:VEVENT
BEGIN:VEVENT
DTSTAMP:20260425T181936Z
UID:b9977275-e37c-491c-90d2-b44301c7f6d1
DTSTART:20260508T140000
DTEND:20260508T150000
DESCRIPTION:Facility: Lewiston High School Visit https://lewistonathletics.
 com/main/event/scid/ID8350117523/eventid/80704705 for more information! 
LOCATION:3201 Cecil Andrus Way Lewiston\, ID 83501
SUMMARY:Lewiston Senior High School TR BG V Home OPEN (District 1/2 Champio
 nship )
END:VEVENT
BEGIN:VEVENT
DTSTAMP:20260425T181936Z
UID:41878fb1-7795-4322-a6bf-b728699fe48e
DTSTART:20260509T000000
DTEND:20260509T010000
DESCRIPTION:Facility: Lewiston High School Visit https://lewistonathletics.
 com/main/event/scid/ID8350117523/eventid/80758305 for more information! 
LOCATION:3201 Cecil Andrus Way Lewiston\, ID 83501
SUMMARY:Time: TBA -Lewiston Senior High School TEN BG V Home OPEN (5A Distr
 ict Tournament)
END:VEVENT
BEGIN:VEVENT
DTSTAMP:20260425T181936Z
UID:8b524201-1449-4bc1-9a36-d13693c4e067
DTSTART:20260512T110000
DTEND:20260512T130000
DESCRIPTION:
LOCATION:LHS Commons
SUMMARY:Navy representatives during both lunches Every 2nd Tuesday
END:VEVENT
BEGIN:VEVENT
DTSTAMP:20260425T181936Z
UID:d1f3992a-8865-4291-ad09-b6a0ab7750d6
DTSTART:20260512T143000
DTEND:20260512T150000
DESCRIPTION:
LOCATION:
SUMMARY:GSA Club Meeting
END:VEVENT
BEGIN:VEVENT
DTSTAMP:20260425T181936Z
UID:95341119-8038-4fa6-878d-a9d526bbea31
DTSTART:20260512T150000
DTEND:20260512T160000
DESCRIPTION:Visit https://lewistonathletics.com/main/event/scid/ID835011752
 3/eventid/80703246 for more information! 
LOCATION:
SUMMARY:Lewiston Senior High School BB B V Away OPEN (State Travel to Merid
 ian)
END:VEVENT
BEGIN:VEVENT
DTSTAMP:20260425T181936Z
UID:5d729f9f-6e7e-445f-9a49-cd0326fb7c47
DTSTART:20260512T180000
DTEND:20260512T200000
DESCRIPTION:
LOCATION:Math in library\; Science in hosting teacher's classroom
SUMMARY:Evening Academy
END:VEVENT
BEGIN:VEVENT
DTSTAMP:20260425T181936Z
UID:253daaef-a96b-4b66-ae1b-7d731e2eaf66
DTSTART:20260513T080000
DTEND:20260513T090000
DESCRIPTION:Visit https://lewistonathletics.com/main/event/scid/ID835011752
 3/eventid/80703247 for more information! 
LOCATION:
SUMMARY:Lewiston Senior High School BB B V Away OPEN (State Travel to Idaho
  Falls)
END:VEVENT
BEGIN:VEVENT
DTSTAMP:20260425T181936Z
UID:b0848455-9f81-442c-bc13-ecf47f7a6fb1
DTSTART:20260513T110000
DTEND:20260513T130000
DESCRIPTION:
LOCATION:LHS Commons
SUMMARY:Marines representatives during both lunches Every 2nd Wednesday
END:VEVENT
BEGIN:VEVENT
DTSTAMP:20260425T181936Z
UID:a177a716-1f98-4ca0-ba13-6a944271b0b3
DTSTART;VALUE=DATE:20260514
DTEND;VALUE=DATE:20260515
DESCRIPTION:Period 1 7:55-9:12 \nBENGAL BLOCK 9:17-9:47 \nPeriod 2 9:52-1
 1:11 \nFirst Lunch 11:11-11:41 \nPeriod 3 (1) 11:16- 12:33 \nSecond Lun
 ch 12:33-1:03 \nPeriod 3 (2) 11:46-1:03\nPeriod 4 1:08-2:25
LOCATION:
SUMMARY:Bengal Block
END:VEVENT
BEGIN:VEVENT
DTSTAMP:20260425T181936Z
UID:e6cb2a06-fa25-42ef-a245-1eca93801d1b
DTSTART:20260514T000000
DTEND:20260514T010000
DESCRIPTION:Facility: Melaleuca Field Visit https://lewistonathletics.com/m
 ain/event/scid/ID8350117523/eventid/80703261 for more information! 
LOCATION:900 Jim Garchow Wy Idaho Falls\, ID 83402
SUMMARY:Time: TBA -Lewiston Senior High School BB B V Away OPEN (5A State T
 ournament)
END:VEVENT
BEGIN:VEVENT
DTSTAMP:20260425T181936Z
UID:1621996e-a2e5-4b0b-a14f-890707baff4c
DTSTART:20260514T000000
DTEND:20260514T010000
DESCRIPTION:Facility: Post Falls High School Visit https://lewistonathletic
 s.com/main/event/scid/ID8350117523/eventid/80720865 for more information! 
LOCATION:
SUMMARY:Time: TBA -Lewiston Senior High School SB G V Away OPEN (5A State S
 oftball)
END:VEVENT
BEGIN:VEVENT
DTSTAMP:20260425T181936Z
UID:3e0a07ca-4092-4079-9dd6-210c8003eb4e
DTSTART:20260514T000000
DTEND:20260514T010000
DESCRIPTION:Visit https://lewistonathletics.com/main/event/scid/ID835011752
 3/eventid/80759320 for more information! 
LOCATION:
SUMMARY:Time: TBA -Lewiston Senior High School TEN BG V Away OPEN (Travel D
 ay)
END:VEVENT
BEGIN:VEVENT
DTSTAMP:20260425T181936Z
UID:b4c3ed75-a9af-40f8-a323-cb9d976367ee
DTSTART:20260514T000000
DTEND:20260514T010000
DESCRIPTION:Visit https://lewistonathletics.com/main/event/scid/ID835011752
 3/eventid/80709407 for more information! 
LOCATION:
SUMMARY:Time: TBA -Lewiston Senior High School TR BG V Away OPEN (State Tra
 vel to Meridian)
END:VEVENT
BEGIN:VEVENT
DTSTAMP:20260425T181936Z
UID:7681a6d6-831d-46b3-936b-c8fcbed0a527
DTSTART:20260514T143000
DTEND:20260514T150000
DESCRIPTION:
LOCATION:Classroom CW 100
SUMMARY:Art Club
END:VEVENT
BEGIN:VEVENT
DTSTAMP:20260425T181936Z
UID:d20a4f27-0621-4534-883e-92402abcfa60
DTSTART:20260514T180000
DTEND:20260514T200000
DESCRIPTION:
LOCATION:Library
SUMMARY:Evening Academy
END:VEVENT
BEGIN:VEVENT
DTSTAMP:20260425T181936Z
UID:7aee7318-75ed-43b3-b0b3-b55bf6e3b6d4
DTSTART:20260515T000000
DTEND:20260515T010000
DESCRIPTION:Facility: Melaleuca Field Visit https://lewistonathletics.com/m
 ain/event/scid/ID8350117523/eventid/80703323 for more information! 
LOCATION:900 Jim Garchow Wy Idaho Falls\, ID 83402
SUMMARY:Time: TBA -Lewiston Senior High School BB B V Away OPEN (5A State T
 ournament)
END:VEVENT
BEGIN:VEVENT
DTSTAMP:20260425T181936Z
UID:b453f56f-c24f-4f40-8d79-7dd28f4094fc
DTSTART:20260515T000000
DTEND:20260515T010000
DESCRIPTION:Facility: Post Falls High School Visit https://lewistonathletic
 s.com/main/event/scid/ID8350117523/eventid/80720875 for more information! 
LOCATION:
SUMMARY:Time: TBA -Lewiston Senior High School SB G V Away OPEN (5A State S
 oftball)
END:VEVENT
BEGIN:VEVENT
DTSTAMP:20260425T181936Z
UID:b3346cb7-c483-4947-b2ac-47624e868bd7
DTSTART:20260515T000000
DTEND:20260515T010000
DESCRIPTION:Facility: Boise Racquet & Swim Club Visit https://lewistonathle
 tics.com/main/event/scid/ID8350117523/eventid/80759323 for more informatio
 n! 
LOCATION:
SUMMARY:Time: TBA -Lewiston Senior High School TEN BG V Away OPEN (5A State
  Tennis)
END:VEVENT
BEGIN:VEVENT
DTSTAMP:20260425T181936Z
UID:6897ef46-76b3-4f98-925b-5f0b9ea2ec01
DTSTART:20260515T080000
DTEND:20260515T090000
DESCRIPTION:Facility: Mountain View High School Visit https://lewistonathle
 tics.com/main/event/scid/ID8350117523/eventid/80704724 for more informatio
 n! 
LOCATION:
SUMMARY:Lewiston Senior High School TR BG V Away OPEN (5A State Track Tourn
 ament)
END:VEVENT
BEGIN:VEVENT
DTSTAMP:20260425T181936Z
UID:2ce1c21e-0afe-42f2-8372-5871189e6d45
DTSTART:20260516T000000
DTEND:20260516T010000
DESCRIPTION:Facility: Melaleuca Field Visit https://lewistonathletics.com/m
 ain/event/scid/ID8350117523/eventid/80703329 for more information! 
LOCATION:900 Jim Garchow Wy Idaho Falls\, ID 83402
SUMMARY:Time: TBA -Lewiston Senior High School BB B V Away OPEN (5A State T
 ournament)
END:VEVENT
BEGIN:VEVENT
DTSTAMP:20260425T181936Z
UID:7fb61784-499a-4ecb-810c-dfb35f481f7a
DTSTART:20260516T000000
DTEND:20260516T010000
DESCRIPTION:Facility: Post Falls High School Visit https://lewistonathletic
 s.com/main/event/scid/ID8350117523/eventid/80720879 for more information! 
LOCATION:
SUMMARY:Time: TBA -Lewiston Senior High School SB G V Away OPEN (5A State S
 oftball)
END:VEVENT
BEGIN:VEVENT
DTSTAMP:20260425T181936Z
UID:2d6a9c7e-77f6-4bf3-bf24-f165ebc0e3b7
DTSTART:20260516T000000
DTEND:20260516T010000
DESCRIPTION:Facility: Boise Racquet & Swim Club Visit https://lewistonathle
 tics.com/main/event/scid/ID8350117523/eventid/80759326 for more informatio
 n! 
LOCATION:
SUMMARY:Time: TBA -Lewiston Senior High School TEN BG V Away OPEN (5A State
  Tennis)
END:VEVENT
BEGIN:VEVENT
DTSTAMP:20260425T181936Z
UID:075f560b-27c9-448d-98a6-25b4cb61536b
DTSTART:20260516T080000
DTEND:20260516T090000
DESCRIPTION:Facility: Mountain View High School Visit https://lewistonathle
 tics.com/main/event/scid/ID8350117523/eventid/80709422 for more informatio
 n! 
LOCATION:
SUMMARY:Lewiston Senior High School TR BG V Away OPEN (5A State Track Tourn
 ament)
END:VEVENT
BEGIN:VEVENT
DTSTAMP:20260425T181936Z
UID:2ed7d8c9-7c0a-40e7-ae7b-91010e2a1240
DTSTART:20260519T143000
DTEND:20260519T150000
DESCRIPTION:
LOCATION:
SUMMARY:GSA Club Meeting
END:VEVENT
BEGIN:VEVENT
DTSTAMP:20260425T181936Z
UID:8cc0e3ea-6dcb-4b6e-906f-48be440934a0
DTSTART:20260519T180000
DTEND:20260519T200000
DESCRIPTION:
LOCATION:Math in library\; Science in hosting teacher's classroom
SUMMARY:Evening Academy
END:VEVENT
BEGIN:VEVENT
DTSTAMP:20260425T181936Z
UID:ecc0ba57-7421-4e05-89b9-098a8d4d677f
DTSTART;VALUE=DATE:20260521
DTEND;VALUE=DATE:20260522
DESCRIPTION:Period 1 7:55-9:12 \nBENGAL BLOCK 9:17-9:47 \nPeriod 2 9:52-1
 1:11 \nFirst Lunch 11:11-11:41 \nPeriod 3 (1) 11:16- 12:33 \nSecond Lun
 ch 12:33-1:03 \nPeriod 3 (2) 11:46-1:03\nPeriod 4 1:08-2:25
LOCATION:
SUMMARY:Bengal Block
END:VEVENT
BEGIN:VEVENT
DTSTAMP:20260425T181936Z
UID:5625cf60-a01d-481b-a1ee-e264f6c41c03
DTSTART:20260521T143000
DTEND:20260521T150000
DESCRIPTION:
LOCATION:Classroom CW 100
SUMMARY:Art Club
END:VEVENT
BEGIN:VEVENT
DTSTAMP:20260425T181936Z
UID:421cfa2e-31a0-4a17-9099-384c529152d1
DTSTART:20260521T180000
DTEND:20260521T200000
DESCRIPTION:
LOCATION:Library
SUMMARY:Evening Academy
END:VEVENT
BEGIN:VEVENT
DTSTAMP:20260425T181936Z
UID:20d0cb34-b504-425d-98aa-9104750befad
DTSTART:20260522T080000
DTEND:20260522T160000
DESCRIPTION:
LOCATION:LHS parking lot
SUMMARY:Vitalant Blood Drive
END:VEVENT
BEGIN:VEVENT
DTSTAMP:20260425T181936Z
UID:36956f4f-dd76-4538-8182-83239aad9d58
DTSTART:20260526T143000
DTEND:20260526T150000
DESCRIPTION:
LOCATION:
SUMMARY:GSA Club Meeting
END:VEVENT
BEGIN:VEVENT
DTSTAMP:20260425T181936Z
UID:d1cc6367-d08f-472b-8314-dbe0bdae4040
DTSTART:20260526T150000
DTEND:20260526T170000
DESCRIPTION:
LOCATION:P1FCU Performing Arts Center
SUMMARY:National Honor Society Induction
END:VEVENT
BEGIN:VEVENT
DTSTAMP:20260425T181936Z
UID:91d702e5-6489-42cb-9939-aa85a459f240
DTSTART:20260526T180000
DTEND:20260526T200000
DESCRIPTION:
LOCATION:Math in library\; Science in hosting teacher's classroom
SUMMARY:Evening Academy
END:VEVENT
BEGIN:VEVENT
DTSTAMP:20260425T181936Z
UID:de7f972b-f93d-48a2-918c-452815dad0ed
DTSTART:20260527T153000
DTEND:20260527T163000
DESCRIPTION:
LOCATION:
SUMMARY:Senior Awards Ceremony
END:VEVENT
BEGIN:VEVENT
DTSTAMP:20260425T181936Z
UID:f37ba2fb-1756-41ff-8e79-fc40bc762aab
DTSTART;VALUE=DATE:20260528
DTEND;VALUE=DATE:20260529
DESCRIPTION:Period 1 7:55-9:12 \nBENGAL BLOCK 9:17-9:47 \nPeriod 2 9:52-1
 1:11 \nFirst Lunch 11:11-11:41 \nPeriod 3 (1) 11:16- 12:33 \nSecond Lun
 ch 12:33-1:03 \nPeriod 3 (2) 11:46-1:03\nPeriod 4 1:08-2:25
LOCATION:
SUMMARY:Bengal Block
END:VEVENT
BEGIN:VEVENT
DTSTAMP:20260425T181936Z
UID:6dbb5e02-8220-4c87-af49-c6e4e493e955
DTSTART:20260528T143000
DTEND:20260528T150000
DESCRIPTION:
LOCATION:Classroom CW 100
SUMMARY:Art Club
END:VEVENT
BEGIN:VEVENT
DTSTAMP:20260425T181936Z
UID:7c13572f-e93f-4e33-87a9-ad6f54693b23
DTSTART:20260528T180000
DTEND:20260528T200000
DESCRIPTION:
LOCATION:Library
SUMMARY:Evening Academy
END:VEVENT
END:VCALENDAR
