BEGIN:VCALENDAR
VERSION:2.0
PRODID:icalendar-ruby
CALSCALE:GREGORIAN
BEGIN:VTIMEZONE
TZID:America/New_York
BEGIN:DAYLIGHT
DTSTART:20260308T030000
TZOFFSETFROM:-0500
TZOFFSETTO:-0400
RRULE:FREQ=YEARLY;BYDAY=2SU;BYMONTH=3
TZNAME:EDT
END:DAYLIGHT
BEGIN:STANDARD
DTSTART:20261101T010000
TZOFFSETFROM:-0400
TZOFFSETTO:-0500
RRULE:FREQ=YEARLY;BYDAY=1SU;BYMONTH=11
TZNAME:EST
END:STANDARD
END:VTIMEZONE
BEGIN:VEVENT
DTSTAMP:20260423T133345Z
UID:90d68404-bd6a-4110-8246-2d37f1f4a174
DTSTART;VALUE=DATE:20260505
DTEND;VALUE=DATE:20260507
DESCRIPTION:
LOCATION:
SUMMARY:Gr 3 Math MCAS
END:VEVENT
BEGIN:VEVENT
DTSTAMP:20260423T133345Z
UID:a8a3b4ad-b0a1-470e-bc8e-d36596dee060
DTSTART;VALUE=DATE:20260512
DTEND;VALUE=DATE:20260514
DESCRIPTION:
LOCATION:
SUMMARY:Gr 4 Math MCAS
END:VEVENT
END:VCALENDAR
