BEGIN:VCALENDAR
VERSION:2.0
PRODID:icalendar-ruby
CALSCALE:GREGORIAN
BEGIN:VTIMEZONE
TZID:America/Chicago
BEGIN:DAYLIGHT
DTSTART:20260308T030000
TZOFFSETFROM:-0600
TZOFFSETTO:-0500
RRULE:FREQ=YEARLY;BYDAY=2SU;BYMONTH=3
TZNAME:CDT
END:DAYLIGHT
BEGIN:STANDARD
DTSTART:20261101T010000
TZOFFSETFROM:-0500
TZOFFSETTO:-0600
RRULE:FREQ=YEARLY;BYDAY=1SU;BYMONTH=11
TZNAME:CST
END:STANDARD
END:VTIMEZONE
BEGIN:VEVENT
DTSTAMP:20260425T215250Z
UID:fe7be6ba-f667-4624-aebf-32fcb3c83d7e
DTSTART:20260427T170000
DTEND:20260427T180000
DESCRIPTION:
LOCATION:2939 Old Marion Rd\, Metropolis\, IL 62960\, USA
SUMMARY:Regular School Board Meeting
END:VEVENT
BEGIN:VEVENT
DTSTAMP:20260425T215250Z
UID:ca62295f-5777-4d62-a8e0-35009c20a9ee
DTSTART:20260514T190000
DTEND:20260514T200000
DESCRIPTION:Graduation will be held in the MCHS gym. Doors will open at 6pm
 . All graduates should be in the cafeteria by 6:45 to line up.
LOCATION:Massac County High School\, 2841 Old Marion Rd\, Metropolis\, IL 6
 2960\, USA
SUMMARY:8th Grade Graduation
END:VEVENT
BEGIN:VEVENT
DTSTAMP:20260425T215250Z
UID:e769065c-f138-49f2-adc1-f73a8281e3e2
DTSTART:20260515T113000
DTEND:20260515T123000
DESCRIPTION:
LOCATION:
SUMMARY: Student Dismissal (Teacher In-Service)
END:VEVENT
BEGIN:VEVENT
DTSTAMP:20260425T215250Z
UID:fbb98fce-2a24-4867-9088-835e6558e0f3
DTSTART:20260515T190000
DTEND:20260515T200000
DESCRIPTION:
LOCATION:Massac County High School\, 2841 Old Marion Rd\, Metropolis\, IL 6
 2960\, USA
SUMMARY:Massac County High School Graduation
END:VEVENT
BEGIN:VEVENT
DTSTAMP:20260425T215250Z
UID:ae19baa9-524a-48b1-ac8d-92964ddb93bf
DTSTART:20260518T183000
DTEND:20260518T193000
DESCRIPTION:
LOCATION:2939 Old Marion Rd\, Metropolis\, IL 62960\, USA
SUMMARY:Regular School Board Meeting
END:VEVENT
BEGIN:VEVENT
DTSTAMP:20260425T215250Z
UID:38f335b0-f393-4710-92d7-1fa34699eafc
DTSTART;VALUE=DATE:20260520
DTEND;VALUE=DATE:20260521
DESCRIPTION:
LOCATION:
SUMMARY:Kindergarten Graduation
END:VEVENT
BEGIN:VEVENT
DTSTAMP:20260425T215250Z
UID:1405ad05-df3a-47a7-9fe9-4f4d9df8ebd4
DTSTART:20260522T113000
DTEND:20260522T120000
DESCRIPTION:
LOCATION:
SUMMARY:Last Day of School for Students
END:VEVENT
BEGIN:VEVENT
DTSTAMP:20260425T215250Z
UID:1a0ef35c-12b7-450c-8cd1-2c098984b194
DTSTART;VALUE=DATE:20260525
DTEND;VALUE=DATE:20260526
DESCRIPTION:
LOCATION:
SUMMARY:No School (Memorial Day)
END:VEVENT
BEGIN:VEVENT
DTSTAMP:20260425T215250Z
UID:e5289dd7-001e-4408-8cdd-1d022838d42e
DTSTART;VALUE=DATE:20260526
DTEND;VALUE=DATE:20260527
DESCRIPTION:
LOCATION:
SUMMARY:Teacher In-Service / Retirement Luncheon
END:VEVENT
BEGIN:VEVENT
DTSTAMP:20260425T215250Z
UID:e451c824-5ff4-4827-b4fc-17d581e33c7f
DTSTART:20260622T183000
DTEND:20260622T193000
DESCRIPTION:
LOCATION:2939 Old Marion Rd\, Metropolis\, IL 62960\, USA
SUMMARY:Regular School Board Meeting
END:VEVENT
BEGIN:VEVENT
DTSTAMP:20260425T215250Z
UID:22170207-aaaf-4774-8ecb-0bf8d00986a4
DTSTART;VALUE=DATE:20260810
DTEND;VALUE=DATE:20260811
DESCRIPTION:
LOCATION:
SUMMARY:Teacher In-Service
END:VEVENT
BEGIN:VEVENT
DTSTAMP:20260425T215250Z
UID:15404389-23d7-4513-88de-8e8ce5260df0
DTSTART;VALUE=DATE:20260811
DTEND;VALUE=DATE:20260812
DESCRIPTION:
LOCATION:
SUMMARY:Teacher In-Service
END:VEVENT
BEGIN:VEVENT
DTSTAMP:20260425T215250Z
UID:3bac8916-80cb-4a2e-ad1d-e8f510c2fb29
DTSTART;VALUE=DATE:20260812
DTEND;VALUE=DATE:20260813
DESCRIPTION:
LOCATION:
SUMMARY:First Day of School for Students (2pm Dismissal)
END:VEVENT
BEGIN:VEVENT
DTSTAMP:20260425T215250Z
UID:19d1a0a4-d71b-4da6-8db6-ad33c0bd6697
DTSTART;VALUE=DATE:20260907
DTEND;VALUE=DATE:20260908
DESCRIPTION:
LOCATION:
SUMMARY:No School (Labor Day)
END:VEVENT
BEGIN:VEVENT
DTSTAMP:20260425T215250Z
UID:0436f908-5fd3-4b51-b421-8a61e9acdad2
DTSTART;VALUE=DATE:20261012
DTEND;VALUE=DATE:20261017
DESCRIPTION:
LOCATION:
SUMMARY:No School (Fall Break)
END:VEVENT
BEGIN:VEVENT
DTSTAMP:20260425T215250Z
UID:da29d07a-da68-48fe-b45a-d851bfa36bf9
DTSTART;VALUE=DATE:20261110
DTEND;VALUE=DATE:20261111
DESCRIPTION:
LOCATION:
SUMMARY:No School (Parent/Teacher Conferences)
END:VEVENT
BEGIN:VEVENT
DTSTAMP:20260425T215250Z
UID:ea93dfbc-15a7-4314-8cfe-f6cfa39187be
DTSTART;VALUE=DATE:20261111
DTEND;VALUE=DATE:20261112
DESCRIPTION:
LOCATION:
SUMMARY:No School (Veterans Day)
END:VEVENT
BEGIN:VEVENT
DTSTAMP:20260425T215250Z
UID:318d19e0-63f9-4835-9650-5225ad96d87c
DTSTART;VALUE=DATE:20261125
DTEND;VALUE=DATE:20261128
DESCRIPTION:
LOCATION:
SUMMARY:No School (Thanksgiving Break)
END:VEVENT
BEGIN:VEVENT
DTSTAMP:20260425T215250Z
UID:1212d769-2106-4d36-a8a5-7a807a1a124f
DTSTART;VALUE=DATE:20261221
DTEND;VALUE=DATE:20261226
DESCRIPTION:
LOCATION:
SUMMARY:No School (Christmas Break)
END:VEVENT
BEGIN:VEVENT
DTSTAMP:20260425T215250Z
UID:2d6b28ff-56f5-40c4-b64f-41420685d9ad
DTSTART;VALUE=DATE:20261228
DTEND;VALUE=DATE:20270102
DESCRIPTION:
LOCATION:
SUMMARY:No School (Christmas Break)
END:VEVENT
BEGIN:VEVENT
DTSTAMP:20260425T215250Z
UID:7870ae57-f1fd-4f04-92fa-1726ba0a3aa6
DTSTART;VALUE=DATE:20270104
DTEND;VALUE=DATE:20270105
DESCRIPTION:
LOCATION:
SUMMARY:No School (Teacher In-Service)
END:VEVENT
BEGIN:VEVENT
DTSTAMP:20260425T215250Z
UID:28a7b2f4-ed51-4bac-a6ef-fd879e5737c9
DTSTART;VALUE=DATE:20270118
DTEND;VALUE=DATE:20270119
DESCRIPTION:
LOCATION:
SUMMARY:No School (Martin Luther King Jr. Day)
END:VEVENT
BEGIN:VEVENT
DTSTAMP:20260425T215250Z
UID:256ef449-44a5-4f01-8ddc-3d94394980ad
DTSTART;VALUE=DATE:20270215
DTEND;VALUE=DATE:20270216
DESCRIPTION:
LOCATION:
SUMMARY:No School (Presidents' Day)
END:VEVENT
BEGIN:VEVENT
DTSTAMP:20260425T215250Z
UID:db62218b-af9a-4a3d-92c1-444a3f792486
DTSTART;VALUE=DATE:20270301
DTEND;VALUE=DATE:20270302
DESCRIPTION:
LOCATION:
SUMMARY:No School (Pulaski Day)
END:VEVENT
BEGIN:VEVENT
DTSTAMP:20260425T215250Z
UID:36949da1-1f3d-4814-83b2-fba790f95cb2
DTSTART;VALUE=DATE:20270326
DTEND;VALUE=DATE:20270327
DESCRIPTION:
LOCATION:
SUMMARY:No School (Good Friday)
END:VEVENT
BEGIN:VEVENT
DTSTAMP:20260425T215250Z
UID:d7f80795-320f-4aa3-b274-d85dc65f0448
DTSTART;VALUE=DATE:20270405
DTEND;VALUE=DATE:20270410
DESCRIPTION:
LOCATION:
SUMMARY:No School (Spring Break)
END:VEVENT
END:VCALENDAR
