BEGIN:VCALENDAR
VERSION:2.0
PRODID:icalendar-ruby
CALSCALE:GREGORIAN
BEGIN:VTIMEZONE
TZID:America/Chicago
BEGIN:DAYLIGHT
DTSTART:20260308T030000
TZOFFSETFROM:-0600
TZOFFSETTO:-0500
RRULE:FREQ=YEARLY;BYDAY=2SU;BYMONTH=3
TZNAME:CDT
END:DAYLIGHT
BEGIN:STANDARD
DTSTART:20261101T010000
TZOFFSETFROM:-0500
TZOFFSETTO:-0600
RRULE:FREQ=YEARLY;BYDAY=1SU;BYMONTH=11
TZNAME:CST
END:STANDARD
END:VTIMEZONE
BEGIN:VEVENT
DTSTAMP:20260425T101856Z
UID:8e163d32-befb-4952-86b0-7252716bd1d1
DTSTART:20260427T180000
DTEND:20260427T180000
DESCRIPTION:<p>2nd grade along with 3rd grade and 4-6th grade chorus</p>
LOCATION:806 N 6th St\, Marshall\, IL 62441\, USA
SUMMARY:2nd Grade Spring Concert
END:VEVENT
BEGIN:VEVENT
DTSTAMP:20260425T101856Z
UID:bf265adb-78e3-4270-9703-e4646be8a241
DTSTART;VALUE=DATE:20260525
DTEND;VALUE=DATE:20260526
DESCRIPTION:
LOCATION:
SUMMARY:No School-Memorial Day
END:VEVENT
BEGIN:VEVENT
DTSTAMP:20260425T101856Z
UID:5ba41caa-e07f-4205-8547-f9f7282161d3
DTSTART:20260529T111500
DTEND:20260529T111500
DESCRIPTION:
LOCATION:
SUMMARY:Early Dismissal-School Improvement/Summer Break
END:VEVENT
END:VCALENDAR
