BEGIN:VCALENDAR
VERSION:2.0
PRODID:icalendar-ruby
CALSCALE:GREGORIAN
BEGIN:VTIMEZONE
TZID:America/Chicago
BEGIN:DAYLIGHT
DTSTART:20260308T030000
TZOFFSETFROM:-0600
TZOFFSETTO:-0500
RRULE:FREQ=YEARLY;BYDAY=2SU;BYMONTH=3
TZNAME:CDT
END:DAYLIGHT
BEGIN:STANDARD
DTSTART:20261101T010000
TZOFFSETFROM:-0500
TZOFFSETTO:-0600
RRULE:FREQ=YEARLY;BYDAY=1SU;BYMONTH=11
TZNAME:CST
END:STANDARD
END:VTIMEZONE
BEGIN:VEVENT
DTSTAMP:20260421T101049Z
UID:45106043-3bd6-4329-9732-925cd6db2359
DTSTART:20260422T140000
DTEND:20260422T151500
DESCRIPTION:
LOCATION:
SUMMARY:2:00 PM Dismissal for School Improvement
END:VEVENT
BEGIN:VEVENT
DTSTAMP:20260421T101049Z
UID:65e68425-a459-42dc-a742-8edaa5464b48
DTSTART:20260428T190000
DTEND:20260428T210000
DESCRIPTION:
LOCATION:Forsythe Performing Arts Center - Marshall Junior High School
SUMMARY:Band Concert - North School/Junior High/High School
END:VEVENT
END:VCALENDAR
