BEGIN:VCALENDAR
VERSION:2.0
PRODID:icalendar-ruby
CALSCALE:GREGORIAN
BEGIN:VTIMEZONE
TZID:America/Chicago
BEGIN:DAYLIGHT
DTSTART:20260308T030000
TZOFFSETFROM:-0600
TZOFFSETTO:-0500
RRULE:FREQ=YEARLY;BYDAY=2SU;BYMONTH=3
TZNAME:CDT
END:DAYLIGHT
BEGIN:STANDARD
DTSTART:20261101T010000
TZOFFSETFROM:-0500
TZOFFSETTO:-0600
RRULE:FREQ=YEARLY;BYDAY=1SU;BYMONTH=11
TZNAME:CST
END:STANDARD
END:VTIMEZONE
BEGIN:VEVENT
DTSTAMP:20260425T164704Z
UID:0f606fbe-8eab-4afb-be3d-17f2173adc29
DTSTART;VALUE=DATE:20260502
DTEND;VALUE=DATE:20260503
DESCRIPTION:
LOCATION:
SUMMARY:First Communion-St. Pius X
END:VEVENT
BEGIN:VEVENT
DTSTAMP:20260425T164704Z
UID:2658b126-2300-4894-93ce-a1f5e66a2fce
DTSTART;VALUE=DATE:20260504
DTEND;VALUE=DATE:20260509
DESCRIPTION:
LOCATION:
SUMMARY:Teacher Appreciation Week
END:VEVENT
BEGIN:VEVENT
DTSTAMP:20260425T164704Z
UID:a385baaf-ccf7-4b2b-b4cc-886cbd95f425
DTSTART:20260507T173000
DTEND:20260507T183000
DESCRIPTION:Sponsor or Proxy required to attend
LOCATION:
SUMMARY:Confirmation Rehearsal St. Pius
END:VEVENT
BEGIN:VEVENT
DTSTAMP:20260425T164704Z
UID:bb2dd456-e2bf-477f-bb34-3c9b0fba5bd0
DTSTART:20260508T173000
DTEND:20260508T180000
DESCRIPTION:
LOCATION:
SUMMARY:Confirmation Mass - Candidates be there at 4:30
END:VEVENT
BEGIN:VEVENT
DTSTAMP:20260425T164704Z
UID:281d9c61-fe71-4ddb-9853-25ff8cc6188e
DTSTART:20260509T130000
DTEND:20260509T170000
DESCRIPTION:
LOCATION:
SUMMARY:Golf Outing Highland Springs
END:VEVENT
BEGIN:VEVENT
DTSTAMP:20260425T164704Z
UID:0bbe4710-1ab9-4e41-9d4e-40df70f2d929
DTSTART:20260514T160000
DTEND:20260514T170000
DESCRIPTION:
LOCATION:
SUMMARY:Milan Med
END:VEVENT
BEGIN:VEVENT
DTSTAMP:20260425T164704Z
UID:d0c60f1e-9f34-40eb-a7e3-ac556ec65b46
DTSTART:20260515T180000
DTEND:20260515T210000
DESCRIPTION:
LOCATION:
SUMMARY:8th grade dinner dance 
END:VEVENT
BEGIN:VEVENT
DTSTAMP:20260425T164704Z
UID:4bfa6d28-05d2-4709-ac01-6b9a6c28ca70
DTSTART;VALUE=DATE:20260522
DTEND;VALUE=DATE:20260523
DESCRIPTION:
LOCATION:
SUMMARY:Walkathon /Field Day Event
END:VEVENT
BEGIN:VEVENT
DTSTAMP:20260425T164704Z
UID:f6f499ae-e8c6-4461-be9c-19b5bc337648
DTSTART;VALUE=DATE:20260525
DTEND;VALUE=DATE:20260526
DESCRIPTION:
LOCATION:
SUMMARY:No School / Memorial Day
END:VEVENT
BEGIN:VEVENT
DTSTAMP:20260425T164704Z
UID:2202fbf8-48e3-4e92-a4b4-a8e12d409e90
DTSTART;VALUE=DATE:20260526
DTEND;VALUE=DATE:20260527
DESCRIPTION:
LOCATION:
SUMMARY:Graduation
END:VEVENT
BEGIN:VEVENT
DTSTAMP:20260425T164704Z
UID:b877b6f3-d8a6-43f1-9998-96afe867a582
DTSTART;VALUE=DATE:20260528
DTEND;VALUE=DATE:20260529
DESCRIPTION:
LOCATION:
SUMMARY:Last Day of 2025-2026
END:VEVENT
BEGIN:VEVENT
DTSTAMP:20260425T164704Z
UID:ec704839-6316-4f86-bf50-387f7296bd37
DTSTART:20260818T163000
DTEND:20260818T173000
DESCRIPTION:
LOCATION:
SUMMARY:Unpack Your Backpack
END:VEVENT
BEGIN:VEVENT
DTSTAMP:20260425T164704Z
UID:c0e14a7f-6310-432e-a42b-e9bc66a2a22d
DTSTART;VALUE=DATE:20260820
DTEND;VALUE=DATE:20260821
DESCRIPTION:
LOCATION:
SUMMARY:First Day K-8 / 11:30 Dismissal
END:VEVENT
BEGIN:VEVENT
DTSTAMP:20260425T164704Z
UID:514bc711-60ab-492e-81d5-ba2c8ece046d
DTSTART:20260821T151000
DTEND:20260821T161000
DESCRIPTION:
LOCATION:
SUMMARY:First Full Day K-8 / Dismissal
END:VEVENT
BEGIN:VEVENT
DTSTAMP:20260425T164704Z
UID:e682a3b0-9be7-4b75-a925-957319237752
DTSTART;VALUE=DATE:20260824
DTEND;VALUE=DATE:20260825
DESCRIPTION:
LOCATION:
SUMMARY:First Day Preschool / PreKindergarten
END:VEVENT
BEGIN:VEVENT
DTSTAMP:20260425T164704Z
UID:7396bc58-d7be-411b-9d7b-45378ae794b1
DTSTART:20260825T073000
DTEND:20260825T083000
DESCRIPTION:
LOCATION:
SUMMARY:School Pictures
END:VEVENT
BEGIN:VEVENT
DTSTAMP:20260425T164704Z
UID:584e9bd5-1841-4344-990e-39744662a41e
DTSTART;VALUE=DATE:20260916
DTEND;VALUE=DATE:20260917
DESCRIPTION:
LOCATION:
SUMMARY:National IT Professional Day
END:VEVENT
BEGIN:VEVENT
DTSTAMP:20260425T164704Z
UID:b7adce1a-226c-4979-ac90-7de162bfc6f2
DTSTART:20261012T133000
DTEND:20261012T180000
DESCRIPTION:
LOCATION:
SUMMARY:Blood Drive 
END:VEVENT
BEGIN:VEVENT
DTSTAMP:20260425T164704Z
UID:061295e5-3d09-4605-8159-2e2e714ae6da
DTSTART;VALUE=DATE:20261021
DTEND;VALUE=DATE:20261022
DESCRIPTION:
LOCATION:
SUMMARY:Grandparent Day
END:VEVENT
BEGIN:VEVENT
DTSTAMP:20260425T164704Z
UID:c50495c5-1653-4467-b922-763761455579
DTSTART;VALUE=DATE:20261028
DTEND;VALUE=DATE:20261029
DESCRIPTION:
LOCATION:
SUMMARY:Conferences
END:VEVENT
BEGIN:VEVENT
DTSTAMP:20260425T164704Z
UID:29d90ca0-493c-4a09-abc5-59e6111f2151
DTSTART;VALUE=DATE:20261029
DTEND;VALUE=DATE:20261030
DESCRIPTION:
LOCATION:
SUMMARY:Conferences
END:VEVENT
BEGIN:VEVENT
DTSTAMP:20260425T164704Z
UID:7d2798a3-8e7c-46f8-b9b4-02218305d5bb
DTSTART;VALUE=DATE:20261030
DTEND;VALUE=DATE:20261031
DESCRIPTION:
LOCATION:
SUMMARY:No School / Fall Break
END:VEVENT
BEGIN:VEVENT
DTSTAMP:20260425T164704Z
UID:35cb5a95-6704-49a9-aff0-a04e467c811b
DTSTART;VALUE=DATE:20261102
DTEND;VALUE=DATE:20261103
DESCRIPTION:
LOCATION:
SUMMARY:No School / Fall Break
END:VEVENT
BEGIN:VEVENT
DTSTAMP:20260425T164704Z
UID:18a74de4-1846-4c5a-9c2c-3e105424d3f5
DTSTART;VALUE=DATE:20261125
DTEND;VALUE=DATE:20261130
DESCRIPTION:
LOCATION:
SUMMARY:No School / Thanksgiving Break
END:VEVENT
BEGIN:VEVENT
DTSTAMP:20260425T164704Z
UID:2592c322-6746-4f68-b3fb-2182d940a7b2
DTSTART;VALUE=DATE:20261208
DTEND;VALUE=DATE:20261209
DESCRIPTION:
LOCATION:
SUMMARY:Advent Choir Concert (Tentative)
END:VEVENT
BEGIN:VEVENT
DTSTAMP:20260425T164704Z
UID:2ba17683-658e-4ec2-a3c6-19f49581dd18
DTSTART;VALUE=DATE:20261210
DTEND;VALUE=DATE:20261211
DESCRIPTION:
LOCATION:
SUMMARY:Christmas Program (Tentative)
END:VEVENT
BEGIN:VEVENT
DTSTAMP:20260425T164704Z
UID:47ef821d-2b39-45c4-826b-f67b50b91ca4
DTSTART;VALUE=DATE:20261219
DTEND;VALUE=DATE:20270106
DESCRIPTION:
LOCATION:
SUMMARY:Christmas Break
END:VEVENT
BEGIN:VEVENT
DTSTAMP:20260425T164704Z
UID:a2a08e33-4418-4f9e-b23b-807c4243394e
DTSTART;VALUE=DATE:20270916
DTEND;VALUE=DATE:20270917
DESCRIPTION:
LOCATION:
SUMMARY:National IT Professional Day
END:VEVENT
BEGIN:VEVENT
DTSTAMP:20260425T164704Z
UID:242dab81-ddc9-40d7-914a-ec8b95cd5bc5
DTSTART;VALUE=DATE:20280916
DTEND;VALUE=DATE:20280917
DESCRIPTION:
LOCATION:
SUMMARY:National IT Professional Day
END:VEVENT
BEGIN:VEVENT
DTSTAMP:20260425T164704Z
UID:f5f44d4b-6c82-4880-81ed-177bdca455da
DTSTART;VALUE=DATE:20290916
DTEND;VALUE=DATE:20290917
DESCRIPTION:
LOCATION:
SUMMARY:National IT Professional Day
END:VEVENT
BEGIN:VEVENT
DTSTAMP:20260425T164704Z
UID:9a3d0d0b-1ad1-4363-bb99-7b4495480234
DTSTART;VALUE=DATE:20300916
DTEND;VALUE=DATE:20300917
DESCRIPTION:
LOCATION:
SUMMARY:National IT Professional Day
END:VEVENT
BEGIN:VEVENT
DTSTAMP:20260425T164704Z
UID:76cf8c6f-f083-4631-afc5-64a79b8753e0
DTSTART;VALUE=DATE:20310916
DTEND;VALUE=DATE:20310917
DESCRIPTION:
LOCATION:
SUMMARY:National IT Professional Day
END:VEVENT
BEGIN:VEVENT
DTSTAMP:20260425T164704Z
UID:d397ae42-a43e-4f95-ab44-6aa33e375077
DTSTART;VALUE=DATE:20320916
DTEND;VALUE=DATE:20320917
DESCRIPTION:
LOCATION:
SUMMARY:National IT Professional Day
END:VEVENT
BEGIN:VEVENT
DTSTAMP:20260425T164704Z
UID:cb4d496c-a9e1-4b39-8dce-b8cba83e3ae8
DTSTART;VALUE=DATE:20330916
DTEND;VALUE=DATE:20330917
DESCRIPTION:
LOCATION:
SUMMARY:National IT Professional Day
END:VEVENT
BEGIN:VEVENT
DTSTAMP:20260425T164704Z
UID:fcce0617-beff-4abf-9ea9-e5736c25f1b0
DTSTART;VALUE=DATE:20340916
DTEND;VALUE=DATE:20340917
DESCRIPTION:
LOCATION:
SUMMARY:National IT Professional Day
END:VEVENT
BEGIN:VEVENT
DTSTAMP:20260425T164704Z
UID:3816fd1f-44a8-48c5-8729-cdd10e67936c
DTSTART;VALUE=DATE:20350916
DTEND;VALUE=DATE:20350917
DESCRIPTION:
LOCATION:
SUMMARY:National IT Professional Day
END:VEVENT
BEGIN:VEVENT
DTSTAMP:20260425T164704Z
UID:dbb9666d-f7b8-4bab-a196-9f15b01c35de
DTSTART;VALUE=DATE:20360916
DTEND;VALUE=DATE:20360917
DESCRIPTION:
LOCATION:
SUMMARY:National IT Professional Day
END:VEVENT
BEGIN:VEVENT
DTSTAMP:20260425T164704Z
UID:125e15c1-ef7e-444f-a06d-cc3c6ea672fa
DTSTART;VALUE=DATE:20370916
DTEND;VALUE=DATE:20370917
DESCRIPTION:
LOCATION:
SUMMARY:National IT Professional Day
END:VEVENT
BEGIN:VEVENT
DTSTAMP:20260425T164704Z
UID:6c74d05b-37f5-4c64-8d93-28d5cdd3a3c1
DTSTART;VALUE=DATE:20380916
DTEND;VALUE=DATE:20380917
DESCRIPTION:
LOCATION:
SUMMARY:National IT Professional Day
END:VEVENT
BEGIN:VEVENT
DTSTAMP:20260425T164704Z
UID:e828152e-07d6-4ea4-b0fb-cea610c0ce97
DTSTART;VALUE=DATE:20390916
DTEND;VALUE=DATE:20390917
DESCRIPTION:
LOCATION:
SUMMARY:National IT Professional Day
END:VEVENT
BEGIN:VEVENT
DTSTAMP:20260425T164704Z
UID:d63df37b-aca5-42c8-b7f5-e4bb923434b6
DTSTART;VALUE=DATE:20400916
DTEND;VALUE=DATE:20400917
DESCRIPTION:
LOCATION:
SUMMARY:National IT Professional Day
END:VEVENT
BEGIN:VEVENT
DTSTAMP:20260425T164704Z
UID:bc6882c1-3d7b-439c-af74-925a6a0a6d44
DTSTART;VALUE=DATE:20410916
DTEND;VALUE=DATE:20410917
DESCRIPTION:
LOCATION:
SUMMARY:National IT Professional Day
END:VEVENT
BEGIN:VEVENT
DTSTAMP:20260425T164704Z
UID:e43fbdde-bfc0-4701-a87a-14db2b227942
DTSTART;VALUE=DATE:20420916
DTEND;VALUE=DATE:20420917
DESCRIPTION:
LOCATION:
SUMMARY:National IT Professional Day
END:VEVENT
BEGIN:VEVENT
DTSTAMP:20260425T164704Z
UID:6c884d20-6401-4069-af4f-6214fea984cd
DTSTART;VALUE=DATE:20430916
DTEND;VALUE=DATE:20430917
DESCRIPTION:
LOCATION:
SUMMARY:National IT Professional Day
END:VEVENT
BEGIN:VEVENT
DTSTAMP:20260425T164704Z
UID:41a0b16d-9dad-4aa5-a268-b08bd30aa48b
DTSTART;VALUE=DATE:20440916
DTEND;VALUE=DATE:20440917
DESCRIPTION:
LOCATION:
SUMMARY:National IT Professional Day
END:VEVENT
BEGIN:VEVENT
DTSTAMP:20260425T164704Z
UID:3fae68d1-9899-47ee-80d0-a572b55624a8
DTSTART;VALUE=DATE:20450916
DTEND;VALUE=DATE:20450917
DESCRIPTION:
LOCATION:
SUMMARY:National IT Professional Day
END:VEVENT
BEGIN:VEVENT
DTSTAMP:20260425T164704Z
UID:b1351048-282d-46ab-a5b0-7940fb1154f9
DTSTART;VALUE=DATE:20460916
DTEND;VALUE=DATE:20460917
DESCRIPTION:
LOCATION:
SUMMARY:National IT Professional Day
END:VEVENT
BEGIN:VEVENT
DTSTAMP:20260425T164704Z
UID:da5257a7-09c3-43c4-9b2e-e4ce9dd788ea
DTSTART;VALUE=DATE:20470916
DTEND;VALUE=DATE:20470917
DESCRIPTION:
LOCATION:
SUMMARY:National IT Professional Day
END:VEVENT
BEGIN:VEVENT
DTSTAMP:20260425T164704Z
UID:381cb7c8-3f37-4e6c-b478-b306a5d7cb4d
DTSTART;VALUE=DATE:20480916
DTEND;VALUE=DATE:20480917
DESCRIPTION:
LOCATION:
SUMMARY:National IT Professional Day
END:VEVENT
BEGIN:VEVENT
DTSTAMP:20260425T164704Z
UID:3b0fc836-914a-44df-9225-e4b47837e703
DTSTART;VALUE=DATE:20490916
DTEND;VALUE=DATE:20490917
DESCRIPTION:
LOCATION:
SUMMARY:National IT Professional Day
END:VEVENT
BEGIN:VEVENT
DTSTAMP:20260425T164704Z
UID:aa5dbd27-a4b9-40be-9f17-289c663aa1c8
DTSTART;VALUE=DATE:20500916
DTEND;VALUE=DATE:20500917
DESCRIPTION:
LOCATION:
SUMMARY:National IT Professional Day
END:VEVENT
BEGIN:VEVENT
DTSTAMP:20260425T164704Z
UID:36e8cc9e-68ad-4883-a6c2-978498da9fde
DTSTART;VALUE=DATE:20510916
DTEND;VALUE=DATE:20510917
DESCRIPTION:
LOCATION:
SUMMARY:National IT Professional Day
END:VEVENT
BEGIN:VEVENT
DTSTAMP:20260425T164704Z
UID:4972fc61-4888-42c3-bac5-6962fa385a35
DTSTART;VALUE=DATE:20520916
DTEND;VALUE=DATE:20520917
DESCRIPTION:
LOCATION:
SUMMARY:National IT Professional Day
END:VEVENT
BEGIN:VEVENT
DTSTAMP:20260425T164704Z
UID:d4599166-b092-47ef-b556-fc3b49ed5142
DTSTART;VALUE=DATE:20530916
DTEND;VALUE=DATE:20530917
DESCRIPTION:
LOCATION:
SUMMARY:National IT Professional Day
END:VEVENT
BEGIN:VEVENT
DTSTAMP:20260425T164704Z
UID:ad6c26f5-19a1-4686-9a35-0124326df651
DTSTART;VALUE=DATE:20540916
DTEND;VALUE=DATE:20540917
DESCRIPTION:
LOCATION:
SUMMARY:National IT Professional Day
END:VEVENT
BEGIN:VEVENT
DTSTAMP:20260425T164704Z
UID:e96c0744-668a-403d-8a68-52ef9412ab3b
DTSTART;VALUE=DATE:20550916
DTEND;VALUE=DATE:20550917
DESCRIPTION:
LOCATION:
SUMMARY:National IT Professional Day
END:VEVENT
BEGIN:VEVENT
DTSTAMP:20260425T164704Z
UID:14ceb5bd-69ed-45b3-9182-27108d8d6b99
DTSTART;VALUE=DATE:20560916
DTEND;VALUE=DATE:20560917
DESCRIPTION:
LOCATION:
SUMMARY:National IT Professional Day
END:VEVENT
BEGIN:VEVENT
DTSTAMP:20260425T164704Z
UID:2ebeea84-4d8d-4bb3-96fd-de2617785994
DTSTART;VALUE=DATE:20570916
DTEND;VALUE=DATE:20570917
DESCRIPTION:
LOCATION:
SUMMARY:National IT Professional Day
END:VEVENT
BEGIN:VEVENT
DTSTAMP:20260425T164704Z
UID:5d4eae4e-17a8-4253-b2f2-55e855028d8f
DTSTART;VALUE=DATE:20580916
DTEND;VALUE=DATE:20580917
DESCRIPTION:
LOCATION:
SUMMARY:National IT Professional Day
END:VEVENT
BEGIN:VEVENT
DTSTAMP:20260425T164704Z
UID:76d0f96f-c193-40b0-8862-628b8b618058
DTSTART;VALUE=DATE:20590916
DTEND;VALUE=DATE:20590917
DESCRIPTION:
LOCATION:
SUMMARY:National IT Professional Day
END:VEVENT
BEGIN:VEVENT
DTSTAMP:20260425T164704Z
UID:38baddae-f2e1-494e-bf31-053e3bf88a5d
DTSTART;VALUE=DATE:20600916
DTEND;VALUE=DATE:20600917
DESCRIPTION:
LOCATION:
SUMMARY:National IT Professional Day
END:VEVENT
BEGIN:VEVENT
DTSTAMP:20260425T164704Z
UID:791193dd-1c2a-49cf-9263-de6f81cf5d03
DTSTART;VALUE=DATE:20610916
DTEND;VALUE=DATE:20610917
DESCRIPTION:
LOCATION:
SUMMARY:National IT Professional Day
END:VEVENT
BEGIN:VEVENT
DTSTAMP:20260425T164704Z
UID:adc76c8e-c518-40b1-8dcc-b4fdb383e29d
DTSTART;VALUE=DATE:20620916
DTEND;VALUE=DATE:20620917
DESCRIPTION:
LOCATION:
SUMMARY:National IT Professional Day
END:VEVENT
BEGIN:VEVENT
DTSTAMP:20260425T164704Z
UID:15fdcda7-a19f-44df-a84c-d7b58e71f488
DTSTART;VALUE=DATE:20630916
DTEND;VALUE=DATE:20630917
DESCRIPTION:
LOCATION:
SUMMARY:National IT Professional Day
END:VEVENT
BEGIN:VEVENT
DTSTAMP:20260425T164704Z
UID:002ee32d-4b32-4a1a-9a53-2c48075db936
DTSTART;VALUE=DATE:20640916
DTEND;VALUE=DATE:20640917
DESCRIPTION:
LOCATION:
SUMMARY:National IT Professional Day
END:VEVENT
BEGIN:VEVENT
DTSTAMP:20260425T164704Z
UID:3e2559f7-0944-49e8-9770-de62244d365b
DTSTART;VALUE=DATE:20650916
DTEND;VALUE=DATE:20650917
DESCRIPTION:
LOCATION:
SUMMARY:National IT Professional Day
END:VEVENT
BEGIN:VEVENT
DTSTAMP:20260425T164704Z
UID:8c8d3315-165e-43ef-952b-32435cee5886
DTSTART;VALUE=DATE:20660916
DTEND;VALUE=DATE:20660917
DESCRIPTION:
LOCATION:
SUMMARY:National IT Professional Day
END:VEVENT
BEGIN:VEVENT
DTSTAMP:20260425T164704Z
UID:7cc88daf-40c3-4f3c-b309-94bf7efbc78f
DTSTART;VALUE=DATE:20670916
DTEND;VALUE=DATE:20670917
DESCRIPTION:
LOCATION:
SUMMARY:National IT Professional Day
END:VEVENT
BEGIN:VEVENT
DTSTAMP:20260425T164704Z
UID:93443828-e79a-4b6a-a783-f685ba705efa
DTSTART;VALUE=DATE:20680916
DTEND;VALUE=DATE:20680917
DESCRIPTION:
LOCATION:
SUMMARY:National IT Professional Day
END:VEVENT
BEGIN:VEVENT
DTSTAMP:20260425T164704Z
UID:8d4ddf46-beba-4dea-bc9a-74459b744883
DTSTART;VALUE=DATE:20690916
DTEND;VALUE=DATE:20690917
DESCRIPTION:
LOCATION:
SUMMARY:National IT Professional Day
END:VEVENT
BEGIN:VEVENT
DTSTAMP:20260425T164704Z
UID:ff41e5f1-7c35-40c9-9566-bb3c5aaefdff
DTSTART;VALUE=DATE:20700916
DTEND;VALUE=DATE:20700917
DESCRIPTION:
LOCATION:
SUMMARY:National IT Professional Day
END:VEVENT
BEGIN:VEVENT
DTSTAMP:20260425T164704Z
UID:2b2c3082-bbe7-402c-b353-b1ce62127ff9
DTSTART;VALUE=DATE:20710916
DTEND;VALUE=DATE:20710917
DESCRIPTION:
LOCATION:
SUMMARY:National IT Professional Day
END:VEVENT
BEGIN:VEVENT
DTSTAMP:20260425T164704Z
UID:86be8ead-d73a-41fa-9eab-5003b7d06d98
DTSTART;VALUE=DATE:20720916
DTEND;VALUE=DATE:20720917
DESCRIPTION:
LOCATION:
SUMMARY:National IT Professional Day
END:VEVENT
BEGIN:VEVENT
DTSTAMP:20260425T164704Z
UID:13dcbabc-a675-4476-89a1-212ff0602c23
DTSTART;VALUE=DATE:20730916
DTEND;VALUE=DATE:20730917
DESCRIPTION:
LOCATION:
SUMMARY:National IT Professional Day
END:VEVENT
BEGIN:VEVENT
DTSTAMP:20260425T164704Z
UID:c9a33944-4ed7-42ed-a554-fd9e3d294f1f
DTSTART;VALUE=DATE:20740916
DTEND;VALUE=DATE:20740917
DESCRIPTION:
LOCATION:
SUMMARY:National IT Professional Day
END:VEVENT
BEGIN:VEVENT
DTSTAMP:20260425T164704Z
UID:6fb80a0b-25f7-4242-886f-26c65c8ec289
DTSTART;VALUE=DATE:20750916
DTEND;VALUE=DATE:20750917
DESCRIPTION:
LOCATION:
SUMMARY:National IT Professional Day
END:VEVENT
BEGIN:VEVENT
DTSTAMP:20260425T164704Z
UID:2bd2c43e-41d4-47ce-a6a9-14e3cbeb07a2
DTSTART;VALUE=DATE:20760916
DTEND;VALUE=DATE:20760917
DESCRIPTION:
LOCATION:
SUMMARY:National IT Professional Day
END:VEVENT
BEGIN:VEVENT
DTSTAMP:20260425T164704Z
UID:8b24a85c-e323-4a5a-88e6-5cae1e9ea235
DTSTART;VALUE=DATE:20770916
DTEND;VALUE=DATE:20770917
DESCRIPTION:
LOCATION:
SUMMARY:National IT Professional Day
END:VEVENT
BEGIN:VEVENT
DTSTAMP:20260425T164704Z
UID:91f9da7d-753c-4c82-afb5-d2d1acbe7362
DTSTART;VALUE=DATE:20780916
DTEND;VALUE=DATE:20780917
DESCRIPTION:
LOCATION:
SUMMARY:National IT Professional Day
END:VEVENT
BEGIN:VEVENT
DTSTAMP:20260425T164704Z
UID:1b9e72cd-1cea-45d9-808c-8b1570d23c29
DTSTART;VALUE=DATE:20790916
DTEND;VALUE=DATE:20790917
DESCRIPTION:
LOCATION:
SUMMARY:National IT Professional Day
END:VEVENT
BEGIN:VEVENT
DTSTAMP:20260425T164704Z
UID:d3aab5af-872e-42b8-a924-d0040f3b0b95
DTSTART;VALUE=DATE:20800916
DTEND;VALUE=DATE:20800917
DESCRIPTION:
LOCATION:
SUMMARY:National IT Professional Day
END:VEVENT
BEGIN:VEVENT
DTSTAMP:20260425T164704Z
UID:e1cb7fbd-ece3-46b8-85ee-9d90cc170dd8
DTSTART;VALUE=DATE:20810916
DTEND;VALUE=DATE:20810917
DESCRIPTION:
LOCATION:
SUMMARY:National IT Professional Day
END:VEVENT
BEGIN:VEVENT
DTSTAMP:20260425T164704Z
UID:ed703950-ec57-4d07-ad91-aea7ea262feb
DTSTART;VALUE=DATE:20820916
DTEND;VALUE=DATE:20820917
DESCRIPTION:
LOCATION:
SUMMARY:National IT Professional Day
END:VEVENT
BEGIN:VEVENT
DTSTAMP:20260425T164704Z
UID:bbf3f5e0-629e-416b-8ac5-455a57945b2b
DTSTART;VALUE=DATE:20830916
DTEND;VALUE=DATE:20830917
DESCRIPTION:
LOCATION:
SUMMARY:National IT Professional Day
END:VEVENT
BEGIN:VEVENT
DTSTAMP:20260425T164704Z
UID:85957346-815c-4cff-805a-5dbbbf0ce8d1
DTSTART;VALUE=DATE:20840916
DTEND;VALUE=DATE:20840917
DESCRIPTION:
LOCATION:
SUMMARY:National IT Professional Day
END:VEVENT
BEGIN:VEVENT
DTSTAMP:20260425T164704Z
UID:46639ebf-ae35-46c2-8835-1fe0ef57303c
DTSTART;VALUE=DATE:20850916
DTEND;VALUE=DATE:20850917
DESCRIPTION:
LOCATION:
SUMMARY:National IT Professional Day
END:VEVENT
BEGIN:VEVENT
DTSTAMP:20260425T164704Z
UID:638ee016-8252-4c6f-bb54-bc32a2c5da1b
DTSTART;VALUE=DATE:20860916
DTEND;VALUE=DATE:20860917
DESCRIPTION:
LOCATION:
SUMMARY:National IT Professional Day
END:VEVENT
BEGIN:VEVENT
DTSTAMP:20260425T164704Z
UID:08f82a50-a951-47a1-afd1-8b0a8ef65810
DTSTART;VALUE=DATE:20870916
DTEND;VALUE=DATE:20870917
DESCRIPTION:
LOCATION:
SUMMARY:National IT Professional Day
END:VEVENT
BEGIN:VEVENT
DTSTAMP:20260425T164704Z
UID:b2b5e900-5f4b-4057-b4fe-cd7e8d0d4d8f
DTSTART;VALUE=DATE:20880916
DTEND;VALUE=DATE:20880917
DESCRIPTION:
LOCATION:
SUMMARY:National IT Professional Day
END:VEVENT
BEGIN:VEVENT
DTSTAMP:20260425T164704Z
UID:419ce6cc-fc68-45f1-9b77-aac25c53b6d2
DTSTART;VALUE=DATE:20890916
DTEND;VALUE=DATE:20890917
DESCRIPTION:
LOCATION:
SUMMARY:National IT Professional Day
END:VEVENT
BEGIN:VEVENT
DTSTAMP:20260425T164704Z
UID:f2c68b23-d79f-40e9-a9ac-742a4d9cf860
DTSTART;VALUE=DATE:20900916
DTEND;VALUE=DATE:20900917
DESCRIPTION:
LOCATION:
SUMMARY:National IT Professional Day
END:VEVENT
BEGIN:VEVENT
DTSTAMP:20260425T164704Z
UID:6020997b-b466-4231-9768-c5d3abe9a71e
DTSTART;VALUE=DATE:20910916
DTEND;VALUE=DATE:20910917
DESCRIPTION:
LOCATION:
SUMMARY:National IT Professional Day
END:VEVENT
BEGIN:VEVENT
DTSTAMP:20260425T164704Z
UID:a414c4c1-50e9-48f3-a5e4-8372f049f98f
DTSTART;VALUE=DATE:20920916
DTEND;VALUE=DATE:20920917
DESCRIPTION:
LOCATION:
SUMMARY:National IT Professional Day
END:VEVENT
BEGIN:VEVENT
DTSTAMP:20260425T164704Z
UID:e839ac2e-87f2-40ae-b57c-825f1a426c34
DTSTART;VALUE=DATE:20930916
DTEND;VALUE=DATE:20930917
DESCRIPTION:
LOCATION:
SUMMARY:National IT Professional Day
END:VEVENT
BEGIN:VEVENT
DTSTAMP:20260425T164704Z
UID:88e44334-56db-4f52-879b-0adbfd8fcb89
DTSTART;VALUE=DATE:20940916
DTEND;VALUE=DATE:20940917
DESCRIPTION:
LOCATION:
SUMMARY:National IT Professional Day
END:VEVENT
BEGIN:VEVENT
DTSTAMP:20260425T164704Z
UID:efb3fff7-7236-4e05-b593-7b07581fb05b
DTSTART;VALUE=DATE:20950916
DTEND;VALUE=DATE:20950917
DESCRIPTION:
LOCATION:
SUMMARY:National IT Professional Day
END:VEVENT
BEGIN:VEVENT
DTSTAMP:20260425T164704Z
UID:d57ca4cd-27ea-47b1-a968-a43bfaf7cb67
DTSTART;VALUE=DATE:20960916
DTEND;VALUE=DATE:20960917
DESCRIPTION:
LOCATION:
SUMMARY:National IT Professional Day
END:VEVENT
BEGIN:VEVENT
DTSTAMP:20260425T164704Z
UID:19af7a0b-cce4-47d7-9136-e35380373b28
DTSTART;VALUE=DATE:20970916
DTEND;VALUE=DATE:20970917
DESCRIPTION:
LOCATION:
SUMMARY:National IT Professional Day
END:VEVENT
BEGIN:VEVENT
DTSTAMP:20260425T164704Z
UID:b45f5345-ec37-4822-ae94-f74e3e48b792
DTSTART;VALUE=DATE:20980916
DTEND;VALUE=DATE:20980917
DESCRIPTION:
LOCATION:
SUMMARY:National IT Professional Day
END:VEVENT
BEGIN:VEVENT
DTSTAMP:20260425T164704Z
UID:491bb4d0-a378-494f-815f-330e6ab62744
DTSTART;VALUE=DATE:20990916
DTEND;VALUE=DATE:20990917
DESCRIPTION:
LOCATION:
SUMMARY:National IT Professional Day
END:VEVENT
END:VCALENDAR
