BEGIN:VCALENDAR
VERSION:2.0
PRODID:icalendar-ruby
CALSCALE:GREGORIAN
BEGIN:VTIMEZONE
TZID:America/New_York
BEGIN:DAYLIGHT
DTSTART:20260308T030000
TZOFFSETFROM:-0500
TZOFFSETTO:-0400
RRULE:FREQ=YEARLY;BYDAY=2SU;BYMONTH=3
TZNAME:EDT
END:DAYLIGHT
BEGIN:STANDARD
DTSTART:20261101T010000
TZOFFSETFROM:-0400
TZOFFSETTO:-0500
RRULE:FREQ=YEARLY;BYDAY=1SU;BYMONTH=11
TZNAME:EST
END:STANDARD
END:VTIMEZONE
BEGIN:VEVENT
DTSTAMP:20260425T141114Z
UID:d6667ac1-fa52-48a9-a350-983ca2fb31a8
DTSTART:20260428T170000
DTEND:20260428T190000
DESCRIPTION:
LOCATION:
SUMMARY:Parents of Seniors Town Hall
END:VEVENT
BEGIN:VEVENT
DTSTAMP:20260425T141114Z
UID:a31d3e4b-fc93-45e2-a1ee-674766e4ad29
DTSTART;VALUE=DATE:20260429
DTEND;VALUE=DATE:20260430
DESCRIPTION:
LOCATION:
SUMMARY:Bead Battle Redux
END:VEVENT
BEGIN:VEVENT
DTSTAMP:20260425T141114Z
UID:6a8d09f3-cd78-4c22-b0ec-d2ddc593d249
DTSTART;VALUE=DATE:20260513
DTEND;VALUE=DATE:20260514
DESCRIPTION:
LOCATION:
SUMMARY:SENIOR DINNER 
END:VEVENT
BEGIN:VEVENT
DTSTAMP:20260425T141114Z
UID:60c4d660-7229-49eb-9877-d39282689563
DTSTART;VALUE=DATE:20260515
DTEND;VALUE=DATE:20260516
DESCRIPTION:
LOCATION:
SUMMARY:PROM - HALF DAY
END:VEVENT
BEGIN:VEVENT
DTSTAMP:20260425T141114Z
UID:7a135624-f7d0-4a93-8900-7b57d3790ba0
DTSTART:20260520T090000
DTEND:20260520T130000
DESCRIPTION:
LOCATION:
SUMMARY:Blood Drive
END:VEVENT
BEGIN:VEVENT
DTSTAMP:20260425T141114Z
UID:27ef857d-52a8-4b59-8b1e-0047b574a0a5
DTSTART;VALUE=DATE:20260525
DTEND;VALUE=DATE:20260526
DESCRIPTION:
LOCATION:
SUMMARY:MEMORIAL DAY (SCHOOL CLOSED) 
END:VEVENT
BEGIN:VEVENT
DTSTAMP:20260425T141114Z
UID:3448ca69-7dc1-4b8b-af4f-808e4fa6cf05
DTSTART;VALUE=DATE:20260609
DTEND;VALUE=DATE:20260610
DESCRIPTION:
LOCATION:
SUMMARY:ELA REGENTS EXAM 
END:VEVENT
BEGIN:VEVENT
DTSTAMP:20260425T141114Z
UID:438ba9b4-2b0e-4ebf-8420-09a14be7b632
DTSTART;VALUE=DATE:20260610
DTEND;VALUE=DATE:20260611
DESCRIPTION:
LOCATION:
SUMMARY: CHEMISTRY AND PHYSICS  REGENTS EXAMs 
END:VEVENT
BEGIN:VEVENT
DTSTAMP:20260425T141114Z
UID:fafd542d-fa25-43a6-a21f-ebaa77bddadc
DTSTART;VALUE=DATE:20260617
DTEND;VALUE=DATE:20260619
DESCRIPTION:
LOCATION:
SUMMARY:REGENTS EXAMS 
END:VEVENT
BEGIN:VEVENT
DTSTAMP:20260425T141114Z
UID:8476e294-5fb7-4fce-b914-8e568bd11954
DTSTART;VALUE=DATE:20260619
DTEND;VALUE=DATE:20260620
DESCRIPTION:
LOCATION:
SUMMARY:JUNETEENTH OBSERVANCE (SCHOOL CLOSED) 
END:VEVENT
BEGIN:VEVENT
DTSTAMP:20260425T141114Z
UID:13defebc-da2d-4916-8b1b-f9b366a9271d
DTSTART;VALUE=DATE:20260622
DTEND;VALUE=DATE:20260626
DESCRIPTION:
LOCATION:
SUMMARY:REGENTS EXAMS 
END:VEVENT
BEGIN:VEVENT
DTSTAMP:20260425T141114Z
UID:4aca4dae-1081-4bab-9d37-012dfe4f3eae
DTSTART;VALUE=DATE:20260625
DTEND;VALUE=DATE:20260626
DESCRIPTION:
LOCATION:
SUMMARY:END OF 4TH QUARTER\, LAST DAY OF CLASSES RATING DAY\, FINAL GRADES 
 DUE\,GRADUATION REHEARSAL
END:VEVENT
END:VCALENDAR
