BEGIN:VCALENDAR
VERSION:2.0
PRODID:icalendar-ruby
CALSCALE:GREGORIAN
BEGIN:VTIMEZONE
TZID:America/New_York
BEGIN:DAYLIGHT
DTSTART:20260308T030000
TZOFFSETFROM:-0500
TZOFFSETTO:-0400
RRULE:FREQ=YEARLY;BYDAY=2SU;BYMONTH=3
TZNAME:EDT
END:DAYLIGHT
BEGIN:STANDARD
DTSTART:20261101T010000
TZOFFSETFROM:-0400
TZOFFSETTO:-0500
RRULE:FREQ=YEARLY;BYDAY=1SU;BYMONTH=11
TZNAME:EST
END:STANDARD
END:VTIMEZONE
BEGIN:VEVENT
DTSTAMP:20260425T025729Z
UID:12227220-3d86-4fb6-bce2-16655edbebb3
DTSTART:20260502T070000
DTEND:20260502T150000
DESCRIPTION:<p><a target="_blank" rel="noopener noreferrer nofollow" href="
 https://aptg.co/LHs6hz" relative-link="">Town Wide Yard Sale Flyer- Spring
  2026</a></p>
LOCATION:
SUMMARY:Town Wide Yard sale
END:VEVENT
BEGIN:VEVENT
DTSTAMP:20260425T025729Z
UID:7f5557a2-1e26-4976-b909-4aed61fdaf46
DTSTART:20260508T153000
DTEND:20260508T180000
DESCRIPTION:
LOCATION:514 Union St\, Milton\, DE 19968\, USA
SUMMARY:Milton Farmers and Artisan Market
END:VEVENT
BEGIN:VEVENT
DTSTAMP:20260425T025729Z
UID:2a9ab7ae-def4-4680-9834-cff1e78c116b
DTSTART:20260515T153000
DTEND:20260515T180000
DESCRIPTION:
LOCATION:514 Union St\, Milton\, DE 19968\, USA
SUMMARY:Milton Farmers and Artisan Market
END:VEVENT
BEGIN:VEVENT
DTSTAMP:20260425T025729Z
UID:9f0c0ff8-71b7-4d80-9456-fe2d949a2787
DTSTART:20260520T190000
DTEND:20260520T200000
DESCRIPTION:
LOCATION:Milton Memorial Park\, Chandler Street\, Milton\, DE
SUMMARY:Sounds of Summer Concert in the Park 
END:VEVENT
BEGIN:VEVENT
DTSTAMP:20260425T025729Z
UID:53840600-ebeb-4d48-98d9-555bac2e1a63
DTSTART:20260521T130000
DTEND:20260521T150000
DESCRIPTION:<p><span><strong>Agenda</strong><br>I. Welcome &amp\; Introduct
 ions<br>II. Presentation / Discussion<br>&nbsp\; &nbsp\;a. Recap December 
 2025 Workshop<br>&nbsp\; &nbsp\;b. Concept Plan Review<br>&nbsp\; &nbsp\;c
 . Review Draft SR 16 Corridor Study Report<br>III. Next Steps<br>&nbsp\; &
 nbsp\;a. Public Comment Period/Report Finalization<br>&nbsp\; &nbsp\;b. Co
 astal Corridors Monitoring Committee<br>IV. Public Comment<br>V. Adjourn<b
 r><br></span><a target="_blank" rel="noopener noreferrer nofollow" href="h
 ttps://url.emailprotection.link/?bVb7q3UuDTOKbf3PtI5j50bH9YVDDCNWoI_nywJeh
 Iglcx-a9y-aVJXKj3q-YPq2R81CRxm1gqQAwPDtKxSBcMx8WDiWK0MQCBB5Mnb9XIOQTjOQ7Hi
 hxeVj2PctHo7LUw_r3Cb0a5f2XdxMfVYECWXBR8i8sfINzGn16HlXH3YQ~"><span>Join the
  meeting now</span></a><span><br>Meeting ID: 886 7450 3948<br>Passcode: 34
 8055<br>Dial in by phone<br>+ 646 879 6992 United States\, Wilmington<br><
 br><br>View full public notice at: </span><a target="_blank" rel="noopener
  noreferrer nofollow" href="https://deldot.gov/About/publicevents/workshop
 s/index.shtml?dc=workshop&amp\;id=19718"><span>https://deldot.gov/About/pu
 blicevents/workshops/index.shtml?dc=workshop&amp\;id=19718</span></a></p>
LOCATION:Milton Public Library\, 121 Union Street\, Milton- Green Room
SUMMARY:SR 16 Corridor Study Meeting
END:VEVENT
BEGIN:VEVENT
DTSTAMP:20260425T025729Z
UID:f1028a83-d18e-4e69-bc6a-b575208bb5c7
DTSTART:20260522T153000
DTEND:20260522T180000
DESCRIPTION:
LOCATION:514 Union St\, Milton\, DE 19968\, USA
SUMMARY:Milton Farmers and Artisan Market
END:VEVENT
BEGIN:VEVENT
DTSTAMP:20260425T025729Z
UID:1b7125c5-da23-4894-bf2d-4ddd7911c425
DTSTART;VALUE=DATE:20260525
DTEND;VALUE=DATE:20260526
DESCRIPTION:
LOCATION:
SUMMARY:Memorial Day- Town Offices will be closed
END:VEVENT
BEGIN:VEVENT
DTSTAMP:20260425T025729Z
UID:5a8b6480-ee26-4caa-a70b-21c35d1cb534
DTSTART:20260527T190000
DTEND:20260527T200000
DESCRIPTION:
LOCATION:Milton Memorial Park\, Chandler Street\, Milton\, DE
SUMMARY:Sounds of Summer Concert in the Park 
END:VEVENT
BEGIN:VEVENT
DTSTAMP:20260425T025729Z
UID:0c826ae1-9294-460a-b424-d7e628ad2b31
DTSTART:20260528T140000
DTEND:20260528T153000
DESCRIPTION:<p><span>Note: All meeting materials will be posted on the day 
 of the meeting. The meeting video will be posted to the website within a f
 ew business days after the meeting.<br><br>Agenda<br>I. Welcome &amp\; Int
 roductions<br>II. Presentation / Discussion<br>&nbsp\; &nbsp\;a. Recap Dec
 ember 2025 Workshop<br>&nbsp\; &nbsp\;b. Review Coastal Corridors Monitori
 ng Report<br>&nbsp\; &nbsp\;c. Update on Area Corridor Studies<br>&nbsp\; 
 &nbsp\;d. Route 9 Master Plan<br>III. Committee Member Updates<br>IV. Next
  Steps<br>V. Public Comment<br>VI. Adjourn<br><br>Microsoft Teams meeting 
 <br>Join: </span><a target="_blank" rel="noopener noreferrer nofollow" hre
 f="https://teams.microsoft.com/meet/260116320183360?p=uf0ep1sB0iwHgsTcGf">
 <span>https://teams.microsoft.com/meet/260116320183360?p=uf0ep1sB0iwHgsTcG
 f</span></a><a target="_blank" rel="noopener noreferrer nofollow" href="ht
 tps://url.emailprotection.link/?bwSQnD57WdspK4lG-I3HHdews4Wl9U6LG7XQ_uOKiO
 E6nmUVN92Etw18_bNhHaGGfEthKywQ6TsbJ464Y8uxZh4Cc33kJVnF0rHToB-MMAqKkooMICmT
 70sx2bFaQWjlXciHkZXUup1987NGNG301s0F6N9CQiViAarrog1SI7YM~"><span> </span><
 /a><span><br>Meeting ID: 260 116 320 183 360 <br>Passcode: UW24gn6Q <br>Di
 al in by phone +1 302-504-8986\,\,256450298# United States\, Wilmington&nb
 sp\; <br>Phone conference ID: 256 450 298#<br><br>View full public notice 
 at: </span><a target="_blank" rel="noopener noreferrer nofollow" href="htt
 ps://deldot.gov/About/publicevents/workshops/index.shtml?dc=workshop&amp\;
 id=19719"><span>https://deldot.gov/About/publicevents/workshops/index.shtm
 l?dc=workshop&amp\;id=19719</span></a></p>
LOCATION:DelDOT South District Building\, 23697 Dupont Boulevard\, Georgeto
 wn
SUMMARY:Coastal Corridors Study: Phase 2 Public Meeting
END:VEVENT
BEGIN:VEVENT
DTSTAMP:20260425T025729Z
UID:501e3a80-0e2e-4af2-bbe9-2f9a44db4d15
DTSTART:20260529T153000
DTEND:20260529T180000
DESCRIPTION:
LOCATION:514 Union St\, Milton\, DE 19968\, USA
SUMMARY:Milton Farmers and Artisan Market
END:VEVENT
BEGIN:VEVENT
DTSTAMP:20260425T025729Z
UID:4dbb0ea0-3427-4b98-b0ca-14480b708805
DTSTART:20260603T190000
DTEND:20260603T200000
DESCRIPTION:
LOCATION:Milton Memorial Park\, Chandler Street\, Milton\, DE
SUMMARY:Sounds of Summer Concert in the Park 
END:VEVENT
BEGIN:VEVENT
DTSTAMP:20260425T025729Z
UID:ff4473f3-340c-4bcf-b156-86ab128aceb1
DTSTART:20260605T153000
DTEND:20260605T180000
DESCRIPTION:
LOCATION:514 Union St\, Milton\, DE 19968\, USA
SUMMARY:Milton Farmers and Artisan Market
END:VEVENT
BEGIN:VEVENT
DTSTAMP:20260425T025729Z
UID:957f611d-4aa1-40da-9e0f-264bc370eccf
DTSTART:20260610T190000
DTEND:20260610T200000
DESCRIPTION:
LOCATION:Milton Memorial Park\, Chandler Street\, Milton\, DE
SUMMARY:Sounds of Summer Concert in the Park 
END:VEVENT
BEGIN:VEVENT
DTSTAMP:20260425T025729Z
UID:30a9711b-95f0-4f18-b61f-09954b84217a
DTSTART:20260612T153000
DTEND:20260612T180000
DESCRIPTION:
LOCATION:514 Union St\, Milton\, DE 19968\, USA
SUMMARY:Milton Farmers and Artisan Market
END:VEVENT
BEGIN:VEVENT
DTSTAMP:20260425T025729Z
UID:1eb6c51e-8ea8-4baf-9313-de8bb1acc90f
DTSTART:20260617T190000
DTEND:20260617T200000
DESCRIPTION:
LOCATION:Milton Memorial Park\, Chandler Street\, Milton\, DE
SUMMARY:Sounds of Summer Concert in the Park 
END:VEVENT
BEGIN:VEVENT
DTSTAMP:20260425T025729Z
UID:96760048-7d9e-43cb-af3e-6bb1aa5dff66
DTSTART;VALUE=DATE:20260619
DTEND;VALUE=DATE:20260620
DESCRIPTION:
LOCATION:
SUMMARY:Juneteenth- Town Offices will be closed
END:VEVENT
BEGIN:VEVENT
DTSTAMP:20260425T025729Z
UID:31bb7ce7-b09c-43bb-a0e3-1462d94a4628
DTSTART:20260619T153000
DTEND:20260619T180000
DESCRIPTION:
LOCATION:514 Union St\, Milton\, DE 19968\, USA
SUMMARY:Milton Farmers and Artisan Market
END:VEVENT
BEGIN:VEVENT
DTSTAMP:20260425T025729Z
UID:dfbc1a2a-433b-42b5-bfe0-1bfb7498cc10
DTSTART:20260624T190000
DTEND:20260624T200000
DESCRIPTION:
LOCATION:Milton Memorial Park\, Chandler Street\, Milton\, DE
SUMMARY:Sounds of Summer Concert in the Park 
END:VEVENT
BEGIN:VEVENT
DTSTAMP:20260425T025729Z
UID:cf3375b9-d3df-4894-a994-88a821bbfd87
DTSTART:20260626T153000
DTEND:20260626T180000
DESCRIPTION:
LOCATION:514 Union St\, Milton\, DE 19968\, USA
SUMMARY:Milton Farmers and Artisan Market
END:VEVENT
BEGIN:VEVENT
DTSTAMP:20260425T025729Z
UID:44c643cb-2f2d-49d1-b96c-5633356e21bb
DTSTART:20260627T190000
DTEND:20260627T200000
DESCRIPTION:
LOCATION:Milton Memorial Park\, Chandler Street\, Milton\, DE 
SUMMARY:USA 250th Anniversary Celebration Concert
END:VEVENT
BEGIN:VEVENT
DTSTAMP:20260425T025729Z
UID:7e6294c0-17ef-4c00-af04-75960dde9ede
DTSTART:20260701T190000
DTEND:20260701T200000
DESCRIPTION:
LOCATION:Milton Memorial Park\, Chandler Street\, Milton\, DE
SUMMARY:Sounds of Summer Concert in the Park 
END:VEVENT
BEGIN:VEVENT
DTSTAMP:20260425T025729Z
UID:01dcf654-843f-4794-81c2-a49a18b243f8
DTSTART;VALUE=DATE:20260703
DTEND;VALUE=DATE:20260704
DESCRIPTION:
LOCATION:
SUMMARY:Independence Day Observed- Town Offices will be closed
END:VEVENT
BEGIN:VEVENT
DTSTAMP:20260425T025729Z
UID:631b6ef2-1183-4c92-979f-5174fbf4046f
DTSTART:20260703T153000
DTEND:20260703T180000
DESCRIPTION:
LOCATION:514 Union St\, Milton\, DE 19968\, USA
SUMMARY:Milton Farmers and Artisan Market
END:VEVENT
BEGIN:VEVENT
DTSTAMP:20260425T025729Z
UID:cce4088e-756a-46da-bc11-701d2bcb14e0
DTSTART:20260708T190000
DTEND:20260708T200000
DESCRIPTION:
LOCATION:Milton Memorial Park\, Chandler Street\, Milton\, DE
SUMMARY:Sounds of Summer Concert in the Park 
END:VEVENT
BEGIN:VEVENT
DTSTAMP:20260425T025729Z
UID:60f8dc88-f5cc-432d-8d25-f339da60883c
DTSTART:20260710T153000
DTEND:20260710T180000
DESCRIPTION:
LOCATION:514 Union St\, Milton\, DE 19968\, USA
SUMMARY:Milton Farmers and Artisan Market
END:VEVENT
BEGIN:VEVENT
DTSTAMP:20260425T025729Z
UID:92fec770-c27a-4d7d-8f9a-693a6e8cad98
DTSTART:20260715T190000
DTEND:20260715T200000
DESCRIPTION:
LOCATION:Milton Memorial Park\, Chandler Street\, Milton\, DE
SUMMARY:Sounds of Summer Concert in the Park 
END:VEVENT
BEGIN:VEVENT
DTSTAMP:20260425T025729Z
UID:ecc9ae3a-0a02-4a74-aa52-79794a2853ee
DTSTART:20260717T153000
DTEND:20260717T180000
DESCRIPTION:
LOCATION:514 Union St\, Milton\, DE 19968\, USA
SUMMARY:Milton Farmers and Artisan Market
END:VEVENT
BEGIN:VEVENT
DTSTAMP:20260425T025729Z
UID:f0283938-75e2-4af1-af4a-8880e16b570e
DTSTART:20260722T190000
DTEND:20260722T200000
DESCRIPTION:
LOCATION:Milton Memorial Park\, Chandler Street\, Milton\, DE
SUMMARY:Sounds of Summer Concert in the Park 
END:VEVENT
BEGIN:VEVENT
DTSTAMP:20260425T025729Z
UID:5f3ecfba-e8cf-4de0-8173-696379ef854d
DTSTART:20260724T153000
DTEND:20260724T180000
DESCRIPTION:
LOCATION:514 Union St\, Milton\, DE 19968\, USA
SUMMARY:Milton Farmers and Artisan Market
END:VEVENT
BEGIN:VEVENT
DTSTAMP:20260425T025729Z
UID:9f846d0d-b60b-4229-af0f-f572b1a87002
DTSTART:20260729T190000
DTEND:20260729T200000
DESCRIPTION:
LOCATION:Milton Memorial Park\, Chandler Street\, Milton\, DE
SUMMARY:Sounds of Summer Concert in the Park 
END:VEVENT
BEGIN:VEVENT
DTSTAMP:20260425T025729Z
UID:51737d3c-91bb-40ef-87f1-f908d3d7236c
DTSTART:20260731T153000
DTEND:20260731T180000
DESCRIPTION:
LOCATION:514 Union St\, Milton\, DE 19968\, USA
SUMMARY:Milton Farmers and Artisan Market
END:VEVENT
BEGIN:VEVENT
DTSTAMP:20260425T025729Z
UID:88e51339-17ce-42b0-b1a8-8feeb23ac043
DTSTART:20260805T170000
DTEND:20260805T190000
DESCRIPTION:<p style="text-align: center"><strong>Building Milton Stronger 
 Through Community Partnerships</strong></p><ul><li><p>Come out and celebra
 te the strength of our community</p></li><li><p>First Responders with equi
 pment and displays</p></li><li><p>Vendors and Community Information</p></l
 i><li><p>Food and Refreshments</p></li><li><p>Free raffles</p></li><li><p>
 Fun for the whole family</p></li></ul>
LOCATION:Milton Memorial Park\, Chandler Street\, Milton\, DE
SUMMARY:Milton Police Department- National Night Out
END:VEVENT
BEGIN:VEVENT
DTSTAMP:20260425T025729Z
UID:62533c45-b64f-4808-954d-95ca5b07e955
DTSTART:20260805T190000
DTEND:20260805T200000
DESCRIPTION:
LOCATION:Milton Memorial Park\, Chandler Street\, Milton\, DE
SUMMARY:Sounds of Summer Concert in the Park 
END:VEVENT
BEGIN:VEVENT
DTSTAMP:20260425T025729Z
UID:434a0973-8182-4db3-9215-070a3c1e7896
DTSTART:20260807T153000
DTEND:20260807T180000
DESCRIPTION:
LOCATION:514 Union St\, Milton\, DE 19968\, USA
SUMMARY:Milton Farmers and Artisan Market
END:VEVENT
BEGIN:VEVENT
DTSTAMP:20260425T025729Z
UID:a7d6ecf0-73f4-4102-94a8-597905110918
DTSTART:20260812T190000
DTEND:20260812T200000
DESCRIPTION:
LOCATION:Milton Memorial Park\, Chandler Street\, Milton\, DE
SUMMARY:Sounds of Summer Concert in the Park 
END:VEVENT
BEGIN:VEVENT
DTSTAMP:20260425T025729Z
UID:45f308ec-ef82-4647-aff3-859ff219bad2
DTSTART:20260814T153000
DTEND:20260814T180000
DESCRIPTION:
LOCATION:514 Union St\, Milton\, DE 19968\, USA
SUMMARY:Milton Farmers and Artisan Market
END:VEVENT
BEGIN:VEVENT
DTSTAMP:20260425T025729Z
UID:86793e40-a314-4a80-bbd6-c1501aa46b69
DTSTART:20260819T190000
DTEND:20260819T200000
DESCRIPTION:
LOCATION:Milton Memorial Park\, Chandler Street\, Milton\, DE
SUMMARY:Sounds of Summer Concert in the Park 
END:VEVENT
BEGIN:VEVENT
DTSTAMP:20260425T025729Z
UID:fb33141e-0f16-45a4-bb6c-6f7cc6a22563
DTSTART:20260821T153000
DTEND:20260821T180000
DESCRIPTION:
LOCATION:514 Union St\, Milton\, DE 19968\, USA
SUMMARY:Milton Farmers and Artisan Market
END:VEVENT
BEGIN:VEVENT
DTSTAMP:20260425T025729Z
UID:f21ca456-528a-4e65-8954-78b4155d2257
DTSTART:20260826T190000
DTEND:20260826T200000
DESCRIPTION:
LOCATION:Milton Memorial Park\, Chandler Street\, Milton\, DE
SUMMARY:Sounds of Summer Concert in the Park 
END:VEVENT
BEGIN:VEVENT
DTSTAMP:20260425T025729Z
UID:5c8af418-c3ec-47eb-a953-ffba42a364bf
DTSTART:20260828T153000
DTEND:20260828T180000
DESCRIPTION:
LOCATION:514 Union St\, Milton\, DE 19968\, USA
SUMMARY:Milton Farmers and Artisan Market
END:VEVENT
BEGIN:VEVENT
DTSTAMP:20260425T025729Z
UID:dbe1509f-f8d7-42d4-8ade-36c4edbbc183
DTSTART:20260902T190000
DTEND:20260902T200000
DESCRIPTION:
LOCATION:Milton Memorial Park\, Chandler Street\, Milton\, DE
SUMMARY:Sounds of Summer Concert in the Park 
END:VEVENT
BEGIN:VEVENT
DTSTAMP:20260425T025729Z
UID:2f5a92c7-80e1-4213-a3b3-00276ae61beb
DTSTART:20260904T153000
DTEND:20260904T180000
DESCRIPTION:
LOCATION:514 Union St\, Milton\, DE 19968\, USA
SUMMARY:Milton Farmers and Artisan Market
END:VEVENT
BEGIN:VEVENT
DTSTAMP:20260425T025729Z
UID:dde99ddb-c917-4170-821a-22323653234e
DTSTART;VALUE=DATE:20260907
DTEND;VALUE=DATE:20260908
DESCRIPTION:
LOCATION:
SUMMARY:Labor Day- Town Offices will be closed
END:VEVENT
BEGIN:VEVENT
DTSTAMP:20260425T025729Z
UID:3ad71d9b-c840-4509-a122-de1a8fb57592
DTSTART:20260909T190000
DTEND:20260909T200000
DESCRIPTION:
LOCATION:Milton Memorial Park\, Chandler Street\, Milton\, DE
SUMMARY:Sounds of Summer Concert in the Park 
END:VEVENT
BEGIN:VEVENT
DTSTAMP:20260425T025729Z
UID:8599eeaa-85f3-40a8-b57a-fa869fa2479e
DTSTART;VALUE=DATE:20261103
DTEND;VALUE=DATE:20261104
DESCRIPTION:
LOCATION:
SUMMARY:Election Day- Town Offices will be closed
END:VEVENT
BEGIN:VEVENT
DTSTAMP:20260425T025729Z
UID:81271a38-0d57-499c-a752-974ef472504c
DTSTART;VALUE=DATE:20261105
DTEND;VALUE=DATE:20261106
DESCRIPTION:
LOCATION:
SUMMARY:Return Day - Town Offices will be closed
END:VEVENT
BEGIN:VEVENT
DTSTAMP:20260425T025729Z
UID:a909ae61-b0aa-4145-a6f9-3ef61a6b45c7
DTSTART;VALUE=DATE:20261111
DTEND;VALUE=DATE:20261112
DESCRIPTION:
LOCATION:
SUMMARY:Veteran's Day- Town Offices will be closed
END:VEVENT
BEGIN:VEVENT
DTSTAMP:20260425T025729Z
UID:1fee841a-d841-4fa0-a8e4-a290b55b6754
DTSTART;VALUE=DATE:20261126
DTEND;VALUE=DATE:20261127
DESCRIPTION:
LOCATION:
SUMMARY:Thanksgiving Day- Town Offices will be closed
END:VEVENT
BEGIN:VEVENT
DTSTAMP:20260425T025729Z
UID:f2359cc6-3d29-48da-9e8c-c03331c660c7
DTSTART;VALUE=DATE:20261127
DTEND;VALUE=DATE:20261128
DESCRIPTION:
LOCATION:
SUMMARY:Day after Thanksgiving- Town Offcies will be closed
END:VEVENT
BEGIN:VEVENT
DTSTAMP:20260425T025729Z
UID:214ce36f-05e1-4614-bd90-f4963ed53a71
DTSTART:20261128T173000
DTEND:20261128T190000
DESCRIPTION:
LOCATION:Milton Memorial Park\, Chandler Street\, Milton\, DE 19968 
SUMMARY:Light Up the Park
END:VEVENT
BEGIN:VEVENT
DTSTAMP:20260425T025729Z
UID:8db9f6ef-0f3d-4fbe-9f24-b8966573903e
DTSTART:20261219T190000
DTEND:20261219T200000
DESCRIPTION:
LOCATION:103 Mulberry St\, Milton\, DE 19968\, USA
SUMMARY:Sounds of the Seasons Concert
END:VEVENT
BEGIN:VEVENT
DTSTAMP:20260425T025729Z
UID:15fdec81-d46c-4ec4-8f8b-36c3e7e8ac56
DTSTART;VALUE=DATE:20261224
DTEND;VALUE=DATE:20261225
DESCRIPTION:
LOCATION:
SUMMARY:Christmas Eve- Town Offices will be closed
END:VEVENT
BEGIN:VEVENT
DTSTAMP:20260425T025729Z
UID:708644c4-ef78-4af5-916a-1e86df2daa33
DTSTART;VALUE=DATE:20261225
DTEND;VALUE=DATE:20261226
DESCRIPTION:
LOCATION:
SUMMARY:Christmas Day- Town Offices will be closed
END:VEVENT
BEGIN:VEVENT
DTSTAMP:20260425T025729Z
UID:6db7d102-e3e9-4492-a65b-954a301568b7
DTSTART;VALUE=DATE:20270101
DTEND;VALUE=DATE:20270102
DESCRIPTION:
LOCATION:
SUMMARY:New Year's Day- Town Offices will be closed
END:VEVENT
END:VCALENDAR
