BEGIN:VCALENDAR
VERSION:2.0
PRODID:icalendar-ruby
CALSCALE:GREGORIAN
BEGIN:VTIMEZONE
TZID:America/Chicago
BEGIN:DAYLIGHT
DTSTART:20260308T030000
TZOFFSETFROM:-0600
TZOFFSETTO:-0500
RRULE:FREQ=YEARLY;BYDAY=2SU;BYMONTH=3
TZNAME:CDT
END:DAYLIGHT
BEGIN:STANDARD
DTSTART:20261101T010000
TZOFFSETFROM:-0500
TZOFFSETTO:-0600
RRULE:FREQ=YEARLY;BYDAY=1SU;BYMONTH=11
TZNAME:CST
END:STANDARD
END:VTIMEZONE
BEGIN:VEVENT
DTSTAMP:20260423T153711Z
UID:0522a257-3c62-4eb0-b362-c7be72568e9c
DTSTART;VALUE=DATE:20260429
DTEND;VALUE=DATE:20260430
DESCRIPTION:
LOCATION:
SUMMARY:Early Release - Teacher Collaboration
END:VEVENT
BEGIN:VEVENT
DTSTAMP:20260423T153711Z
UID:fcfee19d-0316-42c7-9d8c-ad746ac56d81
DTSTART;VALUE=DATE:20260506
DTEND;VALUE=DATE:20260507
DESCRIPTION:
LOCATION:
SUMMARY:No Kindergarten - KND Round Up
END:VEVENT
BEGIN:VEVENT
DTSTAMP:20260423T153711Z
UID:8e58f7e5-800e-4ef5-bdb8-c6c0e800264a
DTSTART;VALUE=DATE:20260510
DTEND;VALUE=DATE:20260511
DESCRIPTION:
LOCATION:
SUMMARY:High School Graduation
END:VEVENT
BEGIN:VEVENT
DTSTAMP:20260423T153711Z
UID:9a004395-e1ff-45f0-a279-00142bdbe00d
DTSTART;VALUE=DATE:20260514
DTEND;VALUE=DATE:20260515
DESCRIPTION:
LOCATION:
SUMMARY:Last Day of Preschool
END:VEVENT
BEGIN:VEVENT
DTSTAMP:20260423T153711Z
UID:63b022f6-95db-4297-bd33-36163010fe56
DTSTART;VALUE=DATE:20260515
DTEND;VALUE=DATE:20260516
DESCRIPTION:
LOCATION:
SUMMARY:End of 4th Qtr/2nd Sem Half Day Students
END:VEVENT
END:VCALENDAR
