BEGIN:VCALENDAR
VERSION:2.0
PRODID:icalendar-ruby
CALSCALE:GREGORIAN
BEGIN:VTIMEZONE
TZID:America/Chicago
BEGIN:DAYLIGHT
DTSTART:20260308T030000
TZOFFSETFROM:-0600
TZOFFSETTO:-0500
RRULE:FREQ=YEARLY;BYDAY=2SU;BYMONTH=3
TZNAME:CDT
END:DAYLIGHT
BEGIN:STANDARD
DTSTART:20261101T010000
TZOFFSETFROM:-0500
TZOFFSETTO:-0600
RRULE:FREQ=YEARLY;BYDAY=1SU;BYMONTH=11
TZNAME:CST
END:STANDARD
END:VTIMEZONE
BEGIN:VEVENT
DTSTAMP:20260426T013350Z
UID:141b06c9-5453-4697-82b3-81cbe3a405cc
DTSTART:20260427T094500
DTEND:20260427T104500
DESCRIPTION:
LOCATION:
SUMMARY:Cap & Gown Handout Day
END:VEVENT
BEGIN:VEVENT
DTSTAMP:20260426T013350Z
UID:fe8d1bcd-0b1d-4a5e-a13b-c4d2bb102220
DTSTART;VALUE=DATE:20260429
DTEND;VALUE=DATE:20260430
DESCRIPTION:
LOCATION:
SUMMARY:HMS-1:1/SMALL GROUP MAAP
END:VEVENT
BEGIN:VEVENT
DTSTAMP:20260426T013350Z
UID:30471820-fc66-4f17-adae-f13cf44625e3
DTSTART;VALUE=DATE:20260430
DTEND;VALUE=DATE:20260501
DESCRIPTION:
LOCATION:
SUMMARY:HMS-7TH MATH MAAP
END:VEVENT
BEGIN:VEVENT
DTSTAMP:20260426T013350Z
UID:d233177f-d155-4686-9268-d8ce21c921ff
DTSTART:20260430T083000
DTEND:20260430T103000
DESCRIPTION:
LOCATION:
SUMMARY:Senior Breakfast
END:VEVENT
BEGIN:VEVENT
DTSTAMP:20260426T013350Z
UID:96521f2a-7d17-47c1-8530-5f26ab733f4f
DTSTART:20260430T083000
DTEND:20260430T100000
DESCRIPTION:
LOCATION:
SUMMARY:Senior Breakfast
END:VEVENT
BEGIN:VEVENT
DTSTAMP:20260426T013350Z
UID:a77e47e3-ccc3-46ca-8c94-314b16ca4c38
DTSTART;VALUE=DATE:20260501
DTEND;VALUE=DATE:20260502
DESCRIPTION:
LOCATION:
SUMMARY:HMS-7TH ELA MAAP
END:VEVENT
BEGIN:VEVENT
DTSTAMP:20260426T013350Z
UID:33a9e6f0-2faf-4cbe-9a08-cf3d865c7e34
DTSTART;VALUE=DATE:20260501
DTEND;VALUE=DATE:20260502
DESCRIPTION:
LOCATION:
SUMMARY:Parade of Schools
END:VEVENT
BEGIN:VEVENT
DTSTAMP:20260426T013350Z
UID:67b4daf6-3bfa-4325-a680-142f57a3c6d9
DTSTART;VALUE=DATE:20260501
DTEND;VALUE=DATE:20260502
DESCRIPTION:
LOCATION:
SUMMARY:Senior Parade of schools
END:VEVENT
BEGIN:VEVENT
DTSTAMP:20260426T013350Z
UID:fc7a0316-5052-4115-948f-263847c64961
DTSTART;VALUE=DATE:20260504
DTEND;VALUE=DATE:20260505
DESCRIPTION:
LOCATION:
SUMMARY:HMS-7TH WRITING MAAP
END:VEVENT
BEGIN:VEVENT
DTSTAMP:20260426T013350Z
UID:3c5abcc4-2b5f-4a5c-8a65-c1530cd806ac
DTSTART:20260504T173000
DTEND:20260504T183000
DESCRIPTION:
LOCATION:
SUMMARY:Board Meeting
END:VEVENT
BEGIN:VEVENT
DTSTAMP:20260426T013350Z
UID:df7aa612-a274-499c-9a5b-9b568d8b68b5
DTSTART;VALUE=DATE:20260505
DTEND;VALUE=DATE:20260506
DESCRIPTION:
LOCATION:
SUMMARY:HMS-6TH ELA MAAP
END:VEVENT
BEGIN:VEVENT
DTSTAMP:20260426T013350Z
UID:7da022bc-e3ad-4ff5-babf-8ef0572fb545
DTSTART;VALUE=DATE:20260506
DTEND;VALUE=DATE:20260507
DESCRIPTION:
LOCATION:
SUMMARY:HMS-8TH ELA MAAP
END:VEVENT
BEGIN:VEVENT
DTSTAMP:20260426T013350Z
UID:a40c8461-f301-4413-b2e6-6f029bd92bde
DTSTART;VALUE=DATE:20260507
DTEND;VALUE=DATE:20260508
DESCRIPTION:
LOCATION:
SUMMARY:HMS-6TH WRITING MAAP
END:VEVENT
BEGIN:VEVENT
DTSTAMP:20260426T013350Z
UID:bc8f5d54-6e13-4784-b405-7a78a7f5e756
DTSTART;VALUE=DATE:20260507
DTEND;VALUE=DATE:20260509
DESCRIPTION:
LOCATION:
SUMMARY:Senior Exams
END:VEVENT
BEGIN:VEVENT
DTSTAMP:20260426T013350Z
UID:e0bd8275-f27d-44df-9f6e-5e92bcd0d2ea
DTSTART;VALUE=DATE:20260508
DTEND;VALUE=DATE:20260509
DESCRIPTION:
LOCATION:
SUMMARY:HMS-8TH WRITING MAAP
END:VEVENT
BEGIN:VEVENT
DTSTAMP:20260426T013350Z
UID:a3058b0d-bda7-4d04-bd96-c96789f6ab6c
DTSTART;VALUE=DATE:20260511
DTEND;VALUE=DATE:20260512
DESCRIPTION:
LOCATION:
SUMMARY:HMS-8TH SCIENCE MAAP
END:VEVENT
BEGIN:VEVENT
DTSTAMP:20260426T013350Z
UID:95ca8733-ebf6-4600-9433-8eed9158e140
DTSTART;VALUE=DATE:20260512
DTEND;VALUE=DATE:20260513
DESCRIPTION:
LOCATION:
SUMMARY:HMS-6TH MATH MAAP
END:VEVENT
BEGIN:VEVENT
DTSTAMP:20260426T013350Z
UID:ace29375-97b1-4815-b640-f9f0eb2113ef
DTSTART;VALUE=DATE:20260513
DTEND;VALUE=DATE:20260514
DESCRIPTION:
LOCATION:
SUMMARY:HMS-8TH MATH MAAP
END:VEVENT
BEGIN:VEVENT
DTSTAMP:20260426T013350Z
UID:4f9e65e0-828c-47b2-a36a-60154d0076b6
DTSTART;VALUE=DATE:20260514
DTEND;VALUE=DATE:20260516
DESCRIPTION:
LOCATION:
SUMMARY:HMS-MAKEUP MAAP
END:VEVENT
BEGIN:VEVENT
DTSTAMP:20260426T013350Z
UID:0cd4d6de-d937-433b-81ed-8f9d5f83e5a8
DTSTART:20260514T173000
DTEND:20260514T183000
DESCRIPTION:
LOCATION:
SUMMARY:Senior Awards Night
END:VEVENT
BEGIN:VEVENT
DTSTAMP:20260426T013350Z
UID:163bc423-9cab-42db-9453-6e966ae5e7fc
DTSTART:20260515T083000
DTEND:20260515T093000
DESCRIPTION:
LOCATION:
SUMMARY:Senior Assembly
END:VEVENT
BEGIN:VEVENT
DTSTAMP:20260426T013350Z
UID:7bc0d828-3f02-4927-a55d-919894cf1296
DTSTART;VALUE=DATE:20260518
DTEND;VALUE=DATE:20260519
DESCRIPTION:
LOCATION:
SUMMARY:6th & 7th Grade Awards
END:VEVENT
BEGIN:VEVENT
DTSTAMP:20260426T013350Z
UID:55818fa8-6ba3-4097-8578-e9afea8d8b3f
DTSTART;VALUE=DATE:20260518
DTEND;VALUE=DATE:20260519
DESCRIPTION:
LOCATION:
SUMMARY:Flight Ceremony
END:VEVENT
BEGIN:VEVENT
DTSTAMP:20260426T013350Z
UID:e7032262-20ec-4f36-af7a-62024f1f9d9e
DTSTART;VALUE=DATE:20260519
DTEND;VALUE=DATE:20260520
DESCRIPTION:
LOCATION:
SUMMARY:8th Grade Awards
END:VEVENT
BEGIN:VEVENT
DTSTAMP:20260426T013350Z
UID:68479e97-c7a6-450c-9ffe-bca5662c49a9
DTSTART;VALUE=DATE:20260519
DTEND;VALUE=DATE:20260520
DESCRIPTION:
LOCATION:
SUMMARY:Pledge Ceremony
END:VEVENT
BEGIN:VEVENT
DTSTAMP:20260426T013350Z
UID:778da21d-b15c-4c75-97d9-b089dbacb16d
DTSTART:20260519T090000
DTEND:20260519T100000
DESCRIPTION:
LOCATION:
SUMMARY:8th Grade Pledge
END:VEVENT
BEGIN:VEVENT
DTSTAMP:20260426T013350Z
UID:37cf8df4-1f41-44a0-a077-575e4530e5f8
DTSTART:20260519T180000
DTEND:20260519T190000
DESCRIPTION:
LOCATION:
SUMMARY:Top Ten Banquet
END:VEVENT
BEGIN:VEVENT
DTSTAMP:20260426T013350Z
UID:40afdfc4-25f1-4705-ae83-e52186095c75
DTSTART:20260521T083000
DTEND:20260521T093000
DESCRIPTION:
LOCATION:
SUMMARY:Graduation Practice 
END:VEVENT
BEGIN:VEVENT
DTSTAMP:20260426T013350Z
UID:9105e3c1-2c87-4bf8-9a15-b69252061824
DTSTART:20260522T193000
DTEND:20260522T203000
DESCRIPTION:
LOCATION:
SUMMARY:Graduation
END:VEVENT
BEGIN:VEVENT
DTSTAMP:20260426T013350Z
UID:6b598b35-2d69-48fe-96bc-c79c27dd304a
DTSTART;VALUE=DATE:20260525
DTEND;VALUE=DATE:20260526
DESCRIPTION:
LOCATION:
SUMMARY:Memorial Day - No School
END:VEVENT
BEGIN:VEVENT
DTSTAMP:20260426T013350Z
UID:65277c42-8d43-4642-921e-ac6c0b526f84
DTSTART;VALUE=DATE:20260527
DTEND;VALUE=DATE:20260528
DESCRIPTION:
LOCATION:
SUMMARY:Exams-ELA/History/Science
END:VEVENT
BEGIN:VEVENT
DTSTAMP:20260426T013350Z
UID:0bca3af1-b3c6-4e57-b8aa-d50521a32214
DTSTART;VALUE=DATE:20260528
DTEND;VALUE=DATE:20260529
DESCRIPTION:
LOCATION:
SUMMARY:Early Release-Exams-Math/Elective/Computer
END:VEVENT
BEGIN:VEVENT
DTSTAMP:20260426T013350Z
UID:0469ca8b-f249-429a-8e31-33228c7c7f42
DTSTART:20260601T173000
DTEND:20260601T183000
DESCRIPTION:
LOCATION:
SUMMARY:Board Meeting
END:VEVENT
BEGIN:VEVENT
DTSTAMP:20260426T013350Z
UID:f6adae2f-896b-45eb-a8f4-41902a8afa8a
DTSTART;VALUE=DATE:20260706
DTEND;VALUE=DATE:20260707
DESCRIPTION:
LOCATION:
SUMMARY:Board Meeting @5:30 pm
END:VEVENT
BEGIN:VEVENT
DTSTAMP:20260426T013350Z
UID:4820550a-004c-4ccf-a537-0de813b4b1d2
DTSTART;VALUE=DATE:20260723
DTEND;VALUE=DATE:20260724
DESCRIPTION:
LOCATION:
SUMMARY:PD Day 
END:VEVENT
BEGIN:VEVENT
DTSTAMP:20260426T013350Z
UID:34ae45a7-5682-4fa0-bf0c-752ff3c9f014
DTSTART;VALUE=DATE:20260724
DTEND;VALUE=DATE:20260725
DESCRIPTION:
LOCATION:
SUMMARY:PD Day 
END:VEVENT
BEGIN:VEVENT
DTSTAMP:20260426T013350Z
UID:78bdda0a-0fef-4ece-bb7b-1a101687862f
DTSTART;VALUE=DATE:20260727
DTEND;VALUE=DATE:20260728
DESCRIPTION:
LOCATION:
SUMMARY:PD Day 
END:VEVENT
BEGIN:VEVENT
DTSTAMP:20260426T013350Z
UID:1829f679-6fdc-4e7e-960c-7d7065da878d
DTSTART;VALUE=DATE:20260728
DTEND;VALUE=DATE:20260729
DESCRIPTION:
LOCATION:
SUMMARY:PD Day 
END:VEVENT
BEGIN:VEVENT
DTSTAMP:20260426T013350Z
UID:24afdabf-d4fc-47bc-91c4-ecf9fc5af5bc
DTSTART;VALUE=DATE:20260729
DTEND;VALUE=DATE:20260730
DESCRIPTION:
LOCATION:
SUMMARY:Transition Day-K\, 1st\, 6th\, 9th\, & 12th
END:VEVENT
BEGIN:VEVENT
DTSTAMP:20260426T013350Z
UID:b636224c-853d-4271-bc59-8c5c8b95f280
DTSTART;VALUE=DATE:20260803
DTEND;VALUE=DATE:20260804
DESCRIPTION:
LOCATION:
SUMMARY:Board Meeting @5:30 pm
END:VEVENT
BEGIN:VEVENT
DTSTAMP:20260426T013350Z
UID:e74fe52a-22d0-4791-a9d9-49a66ceec407
DTSTART;VALUE=DATE:20260827
DTEND;VALUE=DATE:20260828
DESCRIPTION:
LOCATION:
SUMMARY:Progress Reports
END:VEVENT
BEGIN:VEVENT
DTSTAMP:20260426T013350Z
UID:2ecac9cb-ec1f-40c2-a28f-ad8bd5bc7965
DTSTART;VALUE=DATE:20260903
DTEND;VALUE=DATE:20260904
DESCRIPTION:
LOCATION:
SUMMARY:Board Meeting @5:30 pm
END:VEVENT
BEGIN:VEVENT
DTSTAMP:20260426T013350Z
UID:ae812540-1d14-4900-bd42-f1d375521fb4
DTSTART;VALUE=DATE:20260907
DTEND;VALUE=DATE:20260908
DESCRIPTION:
LOCATION:
SUMMARY:No School-Labor Day Holiday
END:VEVENT
BEGIN:VEVENT
DTSTAMP:20260426T013350Z
UID:458a0f02-1089-4392-801f-a8493c15d7dd
DTSTART;VALUE=DATE:20260930
DTEND;VALUE=DATE:20261001
DESCRIPTION:
LOCATION:
SUMMARY:End Term 1
END:VEVENT
BEGIN:VEVENT
DTSTAMP:20260426T013350Z
UID:f7148f4c-6f76-4c0b-9b30-3cf1dcce0fc3
DTSTART;VALUE=DATE:20261001
DTEND;VALUE=DATE:20261002
DESCRIPTION:
LOCATION:
SUMMARY:Begin Term 2
END:VEVENT
BEGIN:VEVENT
DTSTAMP:20260426T013350Z
UID:f45a0b33-c587-457e-a6d0-5537f444523a
DTSTART;VALUE=DATE:20261001
DTEND;VALUE=DATE:20261002
DESCRIPTION:
LOCATION:
SUMMARY:Board Meeting @5:30 pm
END:VEVENT
BEGIN:VEVENT
DTSTAMP:20260426T013350Z
UID:1229926a-6364-4cac-8e50-5fbc1f9c2ace
DTSTART;VALUE=DATE:20261005
DTEND;VALUE=DATE:20261010
DESCRIPTION:
LOCATION:
SUMMARY:Fall Break 
END:VEVENT
BEGIN:VEVENT
DTSTAMP:20260426T013350Z
UID:7996ab39-fcf2-48da-ab27-26053ca68536
DTSTART;VALUE=DATE:20261015
DTEND;VALUE=DATE:20261016
DESCRIPTION:
LOCATION:
SUMMARY:Report Cards
END:VEVENT
BEGIN:VEVENT
DTSTAMP:20260426T013350Z
UID:8fe3ff54-2f5b-49b0-9203-27eb1bacfcf2
DTSTART;VALUE=DATE:20261030
DTEND;VALUE=DATE:20261031
DESCRIPTION:
LOCATION:
SUMMARY:No School for Students: PD Day
END:VEVENT
BEGIN:VEVENT
DTSTAMP:20260426T013350Z
UID:a208f473-017b-4aba-b756-53a039ef8b79
DTSTART;VALUE=DATE:20261102
DTEND;VALUE=DATE:20261103
DESCRIPTION:
LOCATION:
SUMMARY:Board Meeting @5:30 pm
END:VEVENT
BEGIN:VEVENT
DTSTAMP:20260426T013350Z
UID:9d3cf8ae-01fd-4baa-b438-a1894a92e4c4
DTSTART;VALUE=DATE:20261105
DTEND;VALUE=DATE:20261106
DESCRIPTION:
LOCATION:
SUMMARY:Progress Reports
END:VEVENT
BEGIN:VEVENT
DTSTAMP:20260426T013350Z
UID:23605e7f-cfca-4627-8994-e43c36ccc118
DTSTART;VALUE=DATE:20261123
DTEND;VALUE=DATE:20261128
DESCRIPTION:
LOCATION:
SUMMARY:Thanksgiving Break
END:VEVENT
BEGIN:VEVENT
DTSTAMP:20260426T013350Z
UID:8e0c675c-cf8e-409f-bc3b-ffcbc7e9e562
DTSTART;VALUE=DATE:20261203
DTEND;VALUE=DATE:20261204
DESCRIPTION:
LOCATION:
SUMMARY:Board Meeting @5:30 pm
END:VEVENT
BEGIN:VEVENT
DTSTAMP:20260426T013350Z
UID:3f016174-4403-4bf5-b1b3-8ab75c58ea3d
DTSTART;VALUE=DATE:20261217
DTEND;VALUE=DATE:20261218
DESCRIPTION:
LOCATION:
SUMMARY:End Term 2-60% Day
END:VEVENT
BEGIN:VEVENT
DTSTAMP:20260426T013350Z
UID:02a9f947-edff-4be8-b9d7-646cbf84c916
DTSTART;VALUE=DATE:20270104
DTEND;VALUE=DATE:20270105
DESCRIPTION:
LOCATION:
SUMMARY:PD Day
END:VEVENT
BEGIN:VEVENT
DTSTAMP:20260426T013350Z
UID:0fbfc70c-6835-4711-ba9c-1c05b1d96bcc
DTSTART;VALUE=DATE:20270105
DTEND;VALUE=DATE:20270106
DESCRIPTION:
LOCATION:
SUMMARY:Begin Term 3
END:VEVENT
BEGIN:VEVENT
DTSTAMP:20260426T013350Z
UID:c18cd95b-fd55-470d-9fde-e46304c4ec4f
DTSTART;VALUE=DATE:20270107
DTEND;VALUE=DATE:20270108
DESCRIPTION:
LOCATION:
SUMMARY:Board Meeting @5:30 pm
END:VEVENT
BEGIN:VEVENT
DTSTAMP:20260426T013350Z
UID:3aabc52c-950e-4ed0-b5b5-4d22b6bf13dc
DTSTART;VALUE=DATE:20270107
DTEND;VALUE=DATE:20270108
DESCRIPTION:
LOCATION:
SUMMARY:Report Cards
END:VEVENT
BEGIN:VEVENT
DTSTAMP:20260426T013350Z
UID:54d1961b-4af5-47f1-9699-d69eefa8b58e
DTSTART;VALUE=DATE:20270118
DTEND;VALUE=DATE:20270119
DESCRIPTION:
LOCATION:
SUMMARY:No School: MLK Jr. Holiday
END:VEVENT
BEGIN:VEVENT
DTSTAMP:20260426T013350Z
UID:12fa0e30-8e99-401a-9274-b607180c79b9
DTSTART;VALUE=DATE:20270201
DTEND;VALUE=DATE:20270202
DESCRIPTION:
LOCATION:
SUMMARY:Board Meeting @5:30 pm
END:VEVENT
BEGIN:VEVENT
DTSTAMP:20260426T013350Z
UID:dac722d0-6655-4ff2-8d8e-c96e32d14d9b
DTSTART;VALUE=DATE:20270204
DTEND;VALUE=DATE:20270205
DESCRIPTION:
LOCATION:
SUMMARY:Progress Reports
END:VEVENT
BEGIN:VEVENT
DTSTAMP:20260426T013350Z
UID:71f56643-7fdc-4f0c-b1a2-e87b49e5cabe
DTSTART;VALUE=DATE:20270208
DTEND;VALUE=DATE:20270213
DESCRIPTION:
LOCATION:
SUMMARY:Mardi Gras Break
END:VEVENT
BEGIN:VEVENT
DTSTAMP:20260426T013350Z
UID:81a18820-1b5f-4f82-a65c-7e913fcafba8
DTSTART;VALUE=DATE:20270301
DTEND;VALUE=DATE:20270302
DESCRIPTION:
LOCATION:
SUMMARY:Board Meeting @5:30 pm
END:VEVENT
BEGIN:VEVENT
DTSTAMP:20260426T013350Z
UID:68983b2e-fdb1-4f87-a8a1-e389adf88d59
DTSTART;VALUE=DATE:20270316
DTEND;VALUE=DATE:20270317
DESCRIPTION:
LOCATION:
SUMMARY:End Term 3
END:VEVENT
BEGIN:VEVENT
DTSTAMP:20260426T013350Z
UID:2ebb3bb1-a8e2-4bb4-914a-72ee48f22c20
DTSTART;VALUE=DATE:20270317
DTEND;VALUE=DATE:20270318
DESCRIPTION:
LOCATION:
SUMMARY:Begin Term 4
END:VEVENT
BEGIN:VEVENT
DTSTAMP:20260426T013350Z
UID:ea3d8586-0627-41b2-9105-390ea13232f9
DTSTART;VALUE=DATE:20270325
DTEND;VALUE=DATE:20270326
DESCRIPTION:
LOCATION:
SUMMARY:Report Cards
END:VEVENT
BEGIN:VEVENT
DTSTAMP:20260426T013350Z
UID:64772300-5ee0-4af4-a5be-bc4cec31beaf
DTSTART;VALUE=DATE:20270326
DTEND;VALUE=DATE:20270327
DESCRIPTION:
LOCATION:
SUMMARY:Spring Break
END:VEVENT
BEGIN:VEVENT
DTSTAMP:20260426T013350Z
UID:96fee244-80c2-4164-8129-b35d7fcf1a12
DTSTART;VALUE=DATE:20270329
DTEND;VALUE=DATE:20270403
DESCRIPTION:
LOCATION:
SUMMARY:Spring Break
END:VEVENT
BEGIN:VEVENT
DTSTAMP:20260426T013350Z
UID:89f52617-587d-479d-87ef-a213b488e34b
DTSTART;VALUE=DATE:20270408
DTEND;VALUE=DATE:20270409
DESCRIPTION:
LOCATION:
SUMMARY:Board Meeting @5:30 pm
END:VEVENT
BEGIN:VEVENT
DTSTAMP:20260426T013350Z
UID:f9a3e049-2486-4154-9af3-350bdfbde72f
DTSTART;VALUE=DATE:20270422
DTEND;VALUE=DATE:20270423
DESCRIPTION:
LOCATION:
SUMMARY:Progress Reports
END:VEVENT
BEGIN:VEVENT
DTSTAMP:20260426T013350Z
UID:88a73892-cf82-4781-a174-52478097144b
DTSTART;VALUE=DATE:20270503
DTEND;VALUE=DATE:20270504
DESCRIPTION:
LOCATION:
SUMMARY:Board Meeting @5:30 pm
END:VEVENT
BEGIN:VEVENT
DTSTAMP:20260426T013350Z
UID:430ba634-326d-465a-abf6-446e6e7589a2
DTSTART;VALUE=DATE:20270526
DTEND;VALUE=DATE:20270527
DESCRIPTION:
LOCATION:
SUMMARY:End Term 4-60% Day
END:VEVENT
BEGIN:VEVENT
DTSTAMP:20260426T013350Z
UID:ac9050a0-147d-4fdc-9737-87973f130689
DTSTART;VALUE=DATE:20270527
DTEND;VALUE=DATE:20270528
DESCRIPTION:
LOCATION:
SUMMARY:PD Day
END:VEVENT
BEGIN:VEVENT
DTSTAMP:20260426T013350Z
UID:aa2b2b31-da91-4780-830b-c2036745e716
DTSTART;VALUE=DATE:20270607
DTEND;VALUE=DATE:20270608
DESCRIPTION:
LOCATION:
SUMMARY:Board Meeting @5:30 pm
END:VEVENT
END:VCALENDAR
