BEGIN:VCALENDAR
VERSION:2.0
PRODID:icalendar-ruby
CALSCALE:GREGORIAN
BEGIN:VTIMEZONE
TZID:America/New_York
BEGIN:DAYLIGHT
DTSTART:20260308T030000
TZOFFSETFROM:-0500
TZOFFSETTO:-0400
RRULE:FREQ=YEARLY;BYDAY=2SU;BYMONTH=3
TZNAME:EDT
END:DAYLIGHT
BEGIN:STANDARD
DTSTART:20261101T010000
TZOFFSETFROM:-0400
TZOFFSETTO:-0500
RRULE:FREQ=YEARLY;BYDAY=1SU;BYMONTH=11
TZNAME:EST
END:STANDARD
END:VTIMEZONE
BEGIN:VEVENT
DTSTAMP:20260425T102730Z
UID:26de86d4-ab98-43ac-a3ba-98675b0c5c02
DTSTART;VALUE=DATE:20260330
DTEND;VALUE=DATE:20260508
DESCRIPTION:
LOCATION:DES
SUMMARY:Ohio State Grade 3-5 Math Assessment Testing Window 
END:VEVENT
BEGIN:VEVENT
DTSTAMP:20260425T102730Z
UID:13a82b61-2606-46b1-b2aa-cfc45f5e0217
DTSTART;VALUE=DATE:20260330
DTEND;VALUE=DATE:20260508
DESCRIPTION:
LOCATION:DES
SUMMARY:Ohio State Grades 5 Science Assessment Testing Window 
END:VEVENT
BEGIN:VEVENT
DTSTAMP:20260425T102730Z
UID:6e5e7bc4-a0aa-4dc7-953c-5ea4b9b3bde1
DTSTART;VALUE=DATE:20260425
DTEND;VALUE=DATE:20260426
DESCRIPTION:
LOCATION:
SUMMARY:DECA Intl. CDC
END:VEVENT
BEGIN:VEVENT
DTSTAMP:20260425T102730Z
UID:039dbfbf-d08a-49c0-9afe-91b7f82bbbf4
DTSTART:20260425T180000
DTEND:20260425T190000
DESCRIPTION:
LOCATION:Defiance High School\, 1755 Palmer Dr\, Defiance\, OH 43512\, USA
SUMMARY:Hall of Fame Awards Ceremony
END:VEVENT
BEGIN:VEVENT
DTSTAMP:20260425T102730Z
UID:29736985-46ca-4423-a7b5-f8961eeb39a9
DTSTART;VALUE=DATE:20260426
DTEND;VALUE=DATE:20260427
DESCRIPTION:
LOCATION:
SUMMARY:DECA Intl. CDC
END:VEVENT
BEGIN:VEVENT
DTSTAMP:20260425T102730Z
UID:037c5d2f-c100-4dba-84e8-f2fdd52d1409
DTSTART;VALUE=DATE:20260427
DTEND;VALUE=DATE:20260428
DESCRIPTION:
LOCATION:
SUMMARY:DECA Intl. CDC
END:VEVENT
BEGIN:VEVENT
DTSTAMP:20260425T102730Z
UID:4a0d06eb-0d26-437e-93c9-f4e83a0464f3
DTSTART;VALUE=DATE:20260428
DTEND;VALUE=DATE:20260429
DESCRIPTION:
LOCATION:
SUMMARY:DECA Intl. CDC
END:VEVENT
BEGIN:VEVENT
DTSTAMP:20260425T102730Z
UID:d0cf3240-83b5-48e4-b678-c4d1c1c2789c
DTSTART:20260430T190000
DTEND:20260430T200000
DESCRIPTION:
LOCATION:DHS Cafe & Gym
SUMMARY:Band Awards Program
END:VEVENT
BEGIN:VEVENT
DTSTAMP:20260425T102730Z
UID:951697ab-53bf-4ce2-aeff-b9b2ebe62ae4
DTSTART:20260502T074000
DTEND:20260502T130000
DESCRIPTION:
LOCATION:DHS 
SUMMARY:SAT Testing
END:VEVENT
BEGIN:VEVENT
DTSTAMP:20260425T102730Z
UID:2549cf38-1cf4-4abe-8b1d-24f25b505f56
DTSTART:20260503T140000
DTEND:20260503T150000
DESCRIPTION:
LOCATION:Defiance Community Auditorium
SUMMARY:Sousa Concert
END:VEVENT
BEGIN:VEVENT
DTSTAMP:20260425T102730Z
UID:855e8ed6-6adb-40bd-a9d7-4356e1a33f60
DTSTART:20260507T071500
DTEND:20260507T081500
DESCRIPTION:
LOCATION:DHS Library
SUMMARY:NHS Meeting
END:VEVENT
BEGIN:VEVENT
DTSTAMP:20260425T102730Z
UID:1740c491-297c-43a6-a84b-6a7e2bc11f96
DTSTART;VALUE=DATE:20260508
DTEND;VALUE=DATE:20260509
DESCRIPTION:
LOCATION:Defiance Community Auditorium
SUMMARY:Jr. High Band Contest
END:VEVENT
BEGIN:VEVENT
DTSTAMP:20260425T102730Z
UID:107a68ea-5c06-4837-ba4a-8c3639a6653f
DTSTART;VALUE=DATE:20260509
DTEND;VALUE=DATE:20260510
DESCRIPTION:
LOCATION:Defiance Community Auditorium
SUMMARY:Jr. High Band Contest
END:VEVENT
BEGIN:VEVENT
DTSTAMP:20260425T102730Z
UID:c3f8f978-aae7-4c02-b050-4aadd5e1d510
DTSTART;VALUE=DATE:20260509
DTEND;VALUE=DATE:20260510
DESCRIPTION:
LOCATION:@Defiance Eagles:711 W. 2nd St.
SUMMARY:Prom
END:VEVENT
BEGIN:VEVENT
DTSTAMP:20260425T102730Z
UID:75578c58-a0c3-4794-bbb4-1e73de012a52
DTSTART;VALUE=DATE:20260510
DTEND;VALUE=DATE:20260511
DESCRIPTION:
LOCATION:
SUMMARY:Mother's Day
END:VEVENT
BEGIN:VEVENT
DTSTAMP:20260425T102730Z
UID:3d987fc9-e030-4853-bed2-afdf222cbab5
DTSTART;VALUE=DATE:20260511
DTEND;VALUE=DATE:20260516
DESCRIPTION:
LOCATION:DES Gym
SUMMARY:Right to Read Week K-5
END:VEVENT
BEGIN:VEVENT
DTSTAMP:20260425T102730Z
UID:f6176c72-d405-453a-9331-8e8614474b20
DTSTART:20260511T190000
DTEND:20260511T200000
DESCRIPTION:
LOCATION:Defiance Community Auditorium
SUMMARY:DHS Spring Concert & Awards
END:VEVENT
BEGIN:VEVENT
DTSTAMP:20260425T102730Z
UID:8ec14949-40e7-45cd-a60c-17d5bea0c19c
DTSTART:20260512T140000
DTEND:20260512T150000
DESCRIPTION:
LOCATION:DES Gym
SUMMARY:5th Grade Music Assembly
END:VEVENT
BEGIN:VEVENT
DTSTAMP:20260425T102730Z
UID:29a494b8-795a-4955-b68f-6193df2e1760
DTSTART:20260512T190000
DTEND:20260512T200000
DESCRIPTION:
LOCATION:DHS Gym
SUMMARY:Gr. 5-8 Bands & DMS Jazz Ensemble
END:VEVENT
BEGIN:VEVENT
DTSTAMP:20260425T102730Z
UID:d047f342-5152-4f70-a6fb-945bc6b9c096
DTSTART:20260513T183000
DTEND:20260513T193000
DESCRIPTION:
LOCATION:DHS Commons
SUMMARY:Athletic Boosters Club Mtg
END:VEVENT
BEGIN:VEVENT
DTSTAMP:20260425T102730Z
UID:af81d80a-b2cd-4e9c-a64a-a4c6a9badac1
DTSTART:20260518T190000
DTEND:20260518T200000
DESCRIPTION:
LOCATION:Defiance Community Auditorium
SUMMARY:DMS & 5th Grade Choir Spring Concert
END:VEVENT
BEGIN:VEVENT
DTSTAMP:20260425T102730Z
UID:d2f9d0fd-a474-4521-a6c9-1cb4815eb862
DTSTART:20260519T183000
DTEND:20260519T193000
DESCRIPTION:
LOCATION:Defiance Auditorium\, 629 Arabella St\, Defiance\, OH 43512\, USA
SUMMARY:Academic Booster Club Awards Program
END:VEVENT
BEGIN:VEVENT
DTSTAMP:20260425T102730Z
UID:2c10ba84-7800-468a-b0af-c58abf330f84
DTSTART;VALUE=DATE:20260525
DTEND;VALUE=DATE:20260526
DESCRIPTION:
LOCATION:
SUMMARY:No School- Memorial Day
END:VEVENT
BEGIN:VEVENT
DTSTAMP:20260425T102730Z
UID:a0babcd2-ab0e-48e4-85f3-e0320c0ca38a
DTSTART:20260525T093000
DTEND:20260525T103000
DESCRIPTION:
LOCATION:Riverside Cemetery
SUMMARY:Band-Memorial Day Ceremony
END:VEVENT
BEGIN:VEVENT
DTSTAMP:20260425T102730Z
UID:4cba13db-0c22-42ec-b259-e5113206f566
DTSTART;VALUE=DATE:20260526
DTEND;VALUE=DATE:20260527
DESCRIPTION:
LOCATION:DHS 
SUMMARY:Senior Exams
END:VEVENT
BEGIN:VEVENT
DTSTAMP:20260425T102730Z
UID:df0637e8-0122-468e-9cfe-57a8e80e4093
DTSTART;VALUE=DATE:20260527
DTEND;VALUE=DATE:20260528
DESCRIPTION:
LOCATION:DHS 
SUMMARY:Senior Exams
END:VEVENT
BEGIN:VEVENT
DTSTAMP:20260425T102730Z
UID:6e7d36c1-0f6b-4722-bed4-51c700a54396
DTSTART;VALUE=DATE:20260528
DTEND;VALUE=DATE:20260529
DESCRIPTION:
LOCATION:Defiance High School\, 1755 Palmer Dr\, Defiance\, OH 43512\, USA
SUMMARY:Graduation Practice
END:VEVENT
BEGIN:VEVENT
DTSTAMP:20260425T102730Z
UID:af5aadde-58aa-49e3-8e2f-c687d84b3303
DTSTART;VALUE=DATE:20260528
DTEND;VALUE=DATE:20260529
DESCRIPTION:
LOCATION:DHS 
SUMMARY:Senior Exams
END:VEVENT
BEGIN:VEVENT
DTSTAMP:20260425T102730Z
UID:090f8f80-b1a1-4a72-beff-805b8c5f8555
DTSTART;VALUE=DATE:20260528
DTEND;VALUE=DATE:20260529
DESCRIPTION:
LOCATION:DHS 
SUMMARY:Seniors Last Day
END:VEVENT
BEGIN:VEVENT
DTSTAMP:20260425T102730Z
UID:104ebd62-f353-48a3-a54d-8ae61aac9cef
DTSTART:20260528T083000
DTEND:20260528T093000
DESCRIPTION:
LOCATION:DHS 
SUMMARY:DHS Awards Ceremony
END:VEVENT
BEGIN:VEVENT
DTSTAMP:20260425T102730Z
UID:3bbbf8f1-ba52-459a-9460-ee4d7420c8b0
DTSTART:20260529T081500
DTEND:20260529T103000
DESCRIPTION:
LOCATION:DMS
SUMMARY:MS Awards Assembly
END:VEVENT
BEGIN:VEVENT
DTSTAMP:20260425T102730Z
UID:a2a67477-9946-40de-a688-11ed901335a4
DTSTART:20260529T100000
DTEND:20260529T120000
DESCRIPTION:
LOCATION:Defiance High School\, 1755 Palmer Dr\, Defiance\, OH 43512\, USA
SUMMARY:Graduation Practice DHS Athletic Complex
END:VEVENT
BEGIN:VEVENT
DTSTAMP:20260425T102730Z
UID:67ff2634-4c60-4433-935b-728f75d1092a
DTSTART:20260531T140000
DTEND:20260531T160000
DESCRIPTION:
LOCATION:Stadium/Gym if rain
SUMMARY:Graduation
END:VEVENT
BEGIN:VEVENT
DTSTAMP:20260425T102730Z
UID:7f2f515c-06f3-4828-9312-a16bcc92efb8
DTSTART;VALUE=DATE:20260601
DTEND;VALUE=DATE:20260605
DESCRIPTION:
LOCATION:
SUMMARY:Make-up days
END:VEVENT
BEGIN:VEVENT
DTSTAMP:20260425T102730Z
UID:7f6b2707-bdd7-4498-9ecd-e277fb9fb282
DTSTART;VALUE=DATE:20260602
DTEND;VALUE=DATE:20260603
DESCRIPTION:
LOCATION:DHS 
SUMMARY:Underclassmen Exams  
END:VEVENT
BEGIN:VEVENT
DTSTAMP:20260425T102730Z
UID:0f30770a-1068-4c2d-9f3b-b9e1328fe588
DTSTART;VALUE=DATE:20260603
DTEND;VALUE=DATE:20260604
DESCRIPTION:
LOCATION:DHS 
SUMMARY:Underclassmen Exams  
END:VEVENT
BEGIN:VEVENT
DTSTAMP:20260425T102730Z
UID:c80addee-a1f9-4af3-bd4e-66bf3456c2d3
DTSTART;VALUE=DATE:20260604
DTEND;VALUE=DATE:20260605
DESCRIPTION:
LOCATION:
SUMMARY:EARLY DISMISSAL: DHS/DMS@2:00\, DES@2:45
END:VEVENT
BEGIN:VEVENT
DTSTAMP:20260425T102730Z
UID:e8645b1d-c3d7-4845-a482-ad234db87c4f
DTSTART;VALUE=DATE:20260604
DTEND;VALUE=DATE:20260605
DESCRIPTION:
LOCATION:
SUMMARY:End of 4th Grading Period
END:VEVENT
BEGIN:VEVENT
DTSTAMP:20260425T102730Z
UID:1e150260-1dd5-41ad-ac35-6b9bae00a591
DTSTART;VALUE=DATE:20260604
DTEND;VALUE=DATE:20260605
DESCRIPTION:
LOCATION:
SUMMARY:Last Day of School
END:VEVENT
BEGIN:VEVENT
DTSTAMP:20260425T102730Z
UID:d5364627-c7cc-4669-b5bb-ed2c2375c328
DTSTART;VALUE=DATE:20260604
DTEND;VALUE=DATE:20260605
DESCRIPTION:
LOCATION:DHS 
SUMMARY:Underclassmen Exams  
END:VEVENT
BEGIN:VEVENT
DTSTAMP:20260425T102730Z
UID:fa9e2454-594f-42eb-bb14-014adedbda2d
DTSTART;VALUE=DATE:20260605
DTEND;VALUE=DATE:20260606
DESCRIPTION:
LOCATION:
SUMMARY:Teacher Day
END:VEVENT
BEGIN:VEVENT
DTSTAMP:20260425T102730Z
UID:b82be7cd-a0fc-46ac-96ce-6e9ac805a2ff
DTSTART:20260606T074000
DTEND:20260606T130000
DESCRIPTION:
LOCATION:DHS
SUMMARY:SAT Testing
END:VEVENT
BEGIN:VEVENT
DTSTAMP:20260425T102730Z
UID:6df1b8fa-fd64-4c5b-8d2d-3438809f39c0
DTSTART:20260613T074000
DTEND:20260613T130000
DESCRIPTION:
LOCATION:DHS 
SUMMARY:ACT Testing
END:VEVENT
BEGIN:VEVENT
DTSTAMP:20260425T102730Z
UID:e582e68a-1310-4006-a654-131c4df8b89c
DTSTART;VALUE=DATE:20260619
DTEND;VALUE=DATE:20260620
DESCRIPTION:
LOCATION:
SUMMARY:Juneteenth Day: Offices Closed
END:VEVENT
BEGIN:VEVENT
DTSTAMP:20260425T102730Z
UID:38341f94-dad6-415f-a2c9-223d69db7f02
DTSTART;VALUE=DATE:20260621
DTEND;VALUE=DATE:20260622
DESCRIPTION:
LOCATION:
SUMMARY:Father's Day
END:VEVENT
BEGIN:VEVENT
DTSTAMP:20260425T102730Z
UID:7e8f371e-38a3-43bf-8a3b-aad085a4bf45
DTSTART;VALUE=DATE:20260622
DTEND;VALUE=DATE:20260626
DESCRIPTION:
LOCATION:
SUMMARY:Ohio State Grade 3 ELA (Summer) Assessment Testing Window 
END:VEVENT
BEGIN:VEVENT
DTSTAMP:20260425T102730Z
UID:eed4aa6d-b7a1-4444-a370-121c8fa44c27
DTSTART;VALUE=DATE:20261101
DTEND;VALUE=DATE:20261102
DESCRIPTION:
LOCATION:
SUMMARY:Daylight Saving Ends
END:VEVENT
BEGIN:VEVENT
DTSTAMP:20260425T102730Z
UID:9bb42e55-7a86-48c2-9fe4-3bdb097e4fa0
DTSTART;VALUE=DATE:21020119
DTEND;VALUE=DATE:21020120
DESCRIPTION:
LOCATION:
SUMMARY:No School-MLK Day
END:VEVENT
END:VCALENDAR
